BEGIN:VCALENDAR
VERSION:2.0
PRODID:-//jEvents 2.0 for Joomla//EN
CALSCALE:GREGORIAN
METHOD:PUBLISH
BEGIN:VTIMEZONE
TZID:America/Denver
BEGIN:STANDARD
DTSTART:20151101T010000
RDATE:20160313T030000
TZOFFSETFROM:-0600
TZOFFSETTO:-0700
TZNAME:America/Denver MST
END:STANDARD
BEGIN:STANDARD
DTSTART:20161106T010000
RDATE:20170312T030000
TZOFFSETFROM:-0600
TZOFFSETTO:-0700
TZNAME:America/Denver MST
END:STANDARD
BEGIN:STANDARD
DTSTART:20171105T010000
RDATE:20180311T030000
TZOFFSETFROM:-0600
TZOFFSETTO:-0700
TZNAME:America/Denver MST
END:STANDARD
BEGIN:STANDARD
DTSTART:20181104T010000
RDATE:20190310T030000
TZOFFSETFROM:-0600
TZOFFSETTO:-0700
TZNAME:America/Denver MST
END:STANDARD
BEGIN:STANDARD
DTSTART:20191103T010000
RDATE:20200308T030000
TZOFFSETFROM:-0600
TZOFFSETTO:-0700
TZNAME:America/Denver MST
END:STANDARD
BEGIN:STANDARD
DTSTART:20201101T010000
RDATE:20210314T030000
TZOFFSETFROM:-0600
TZOFFSETTO:-0700
TZNAME:America/Denver MST
END:STANDARD
BEGIN:STANDARD
DTSTART:20211107T010000
RDATE:20220313T030000
TZOFFSETFROM:-0600
TZOFFSETTO:-0700
TZNAME:America/Denver MST
END:STANDARD
BEGIN:STANDARD
DTSTART:20221106T010000
RDATE:20230312T030000
TZOFFSETFROM:-0600
TZOFFSETTO:-0700
TZNAME:America/Denver MST
END:STANDARD
BEGIN:STANDARD
DTSTART:20231105T010000
RDATE:20240310T030000
TZOFFSETFROM:-0600
TZOFFSETTO:-0700
TZNAME:America/Denver MST
END:STANDARD
BEGIN:STANDARD
DTSTART:20241103T010000
RDATE:20250309T030000
TZOFFSETFROM:-0600
TZOFFSETTO:-0700
TZNAME:America/Denver MST
END:STANDARD
BEGIN:STANDARD
DTSTART:20251102T010000
RDATE:20260308T030000
TZOFFSETFROM:-0600
TZOFFSETTO:-0700
TZNAME:America/Denver MST
END:STANDARD
BEGIN:STANDARD
DTSTART:20261101T010000
RDATE:20270314T030000
TZOFFSETFROM:-0600
TZOFFSETTO:-0700
TZNAME:America/Denver MST
END:STANDARD
BEGIN:STANDARD
DTSTART:20271107T010000
RDATE:20280312T030000
TZOFFSETFROM:-0600
TZOFFSETTO:-0700
TZNAME:America/Denver MST
END:STANDARD
BEGIN:STANDARD
DTSTART:20281105T010000
RDATE:20290311T030000
TZOFFSETFROM:-0600
TZOFFSETTO:-0700
TZNAME:America/Denver MST
END:STANDARD
BEGIN:STANDARD
DTSTART:20291104T010000
RDATE:20300310T030000
TZOFFSETFROM:-0600
TZOFFSETTO:-0700
TZNAME:America/Denver MST
END:STANDARD
BEGIN:STANDARD
DTSTART:20301103T010000
RDATE:20310309T030000
TZOFFSETFROM:-0600
TZOFFSETTO:-0700
TZNAME:America/Denver MST
END:STANDARD
BEGIN:STANDARD
DTSTART:20311102T010000
RDATE:20320314T030000
TZOFFSETFROM:-0600
TZOFFSETTO:-0700
TZNAME:America/Denver MST
END:STANDARD
BEGIN:STANDARD
DTSTART:20321107T010000
RDATE:20330313T030000
TZOFFSETFROM:-0600
TZOFFSETTO:-0700
TZNAME:America/Denver MST
END:STANDARD
BEGIN:STANDARD
DTSTART:20331106T010000
RDATE:20340312T030000
TZOFFSETFROM:-0600
TZOFFSETTO:-0700
TZNAME:America/Denver MST
END:STANDARD
BEGIN:STANDARD
DTSTART:20341105T010000
RDATE:20350311T030000
TZOFFSETFROM:-0600
TZOFFSETTO:-0700
TZNAME:America/Denver MST
END:STANDARD
BEGIN:STANDARD
DTSTART:20351104T010000
RDATE:20360309T030000
TZOFFSETFROM:-0600
TZOFFSETTO:-0700
TZNAME:America/Denver MST
END:STANDARD
BEGIN:STANDARD
DTSTART:20361102T010000
RDATE:20370308T030000
TZOFFSETFROM:-0600
TZOFFSETTO:-0700
TZNAME:America/Denver MST
END:STANDARD
BEGIN:STANDARD
DTSTART:20371101T010000
TZOFFSETFROM:-0600
TZOFFSETTO:-0700
TZNAME:America/Denver MST
END:STANDARD
BEGIN:DAYLIGHT
DTSTART:20150414T070000
RDATE:20151101T010000
TZOFFSETFROM:-0700
TZOFFSETTO:-0600
TZNAME:America/Denver MDT
END:DAYLIGHT
BEGIN:DAYLIGHT
DTSTART:20160313T030000
RDATE:20161106T010000
TZOFFSETFROM:-0700
TZOFFSETTO:-0600
TZNAME:America/Denver MDT
END:DAYLIGHT
BEGIN:DAYLIGHT
DTSTART:20170312T030000
RDATE:20171105T010000
TZOFFSETFROM:-0700
TZOFFSETTO:-0600
TZNAME:America/Denver MDT
END:DAYLIGHT
BEGIN:DAYLIGHT
DTSTART:20180311T030000
RDATE:20181104T010000
TZOFFSETFROM:-0700
TZOFFSETTO:-0600
TZNAME:America/Denver MDT
END:DAYLIGHT
BEGIN:DAYLIGHT
DTSTART:20190310T030000
RDATE:20191103T010000
TZOFFSETFROM:-0700
TZOFFSETTO:-0600
TZNAME:America/Denver MDT
END:DAYLIGHT
BEGIN:DAYLIGHT
DTSTART:20200308T030000
RDATE:20201101T010000
TZOFFSETFROM:-0700
TZOFFSETTO:-0600
TZNAME:America/Denver MDT
END:DAYLIGHT
BEGIN:DAYLIGHT
DTSTART:20210314T030000
RDATE:20211107T010000
TZOFFSETFROM:-0700
TZOFFSETTO:-0600
TZNAME:America/Denver MDT
END:DAYLIGHT
BEGIN:DAYLIGHT
DTSTART:20220313T030000
RDATE:20221106T010000
TZOFFSETFROM:-0700
TZOFFSETTO:-0600
TZNAME:America/Denver MDT
END:DAYLIGHT
BEGIN:DAYLIGHT
DTSTART:20230312T030000
RDATE:20231105T010000
TZOFFSETFROM:-0700
TZOFFSETTO:-0600
TZNAME:America/Denver MDT
END:DAYLIGHT
BEGIN:DAYLIGHT
DTSTART:20240310T030000
RDATE:20241103T010000
TZOFFSETFROM:-0700
TZOFFSETTO:-0600
TZNAME:America/Denver MDT
END:DAYLIGHT
BEGIN:DAYLIGHT
DTSTART:20250309T030000
RDATE:20251102T010000
TZOFFSETFROM:-0700
TZOFFSETTO:-0600
TZNAME:America/Denver MDT
END:DAYLIGHT
BEGIN:DAYLIGHT
DTSTART:20260308T030000
RDATE:20261101T010000
TZOFFSETFROM:-0700
TZOFFSETTO:-0600
TZNAME:America/Denver MDT
END:DAYLIGHT
BEGIN:DAYLIGHT
DTSTART:20270314T030000
RDATE:20271107T010000
TZOFFSETFROM:-0700
TZOFFSETTO:-0600
TZNAME:America/Denver MDT
END:DAYLIGHT
BEGIN:DAYLIGHT
DTSTART:20280312T030000
RDATE:20281105T010000
TZOFFSETFROM:-0700
TZOFFSETTO:-0600
TZNAME:America/Denver MDT
END:DAYLIGHT
BEGIN:DAYLIGHT
DTSTART:20290311T030000
RDATE:20291104T010000
TZOFFSETFROM:-0700
TZOFFSETTO:-0600
TZNAME:America/Denver MDT
END:DAYLIGHT
BEGIN:DAYLIGHT
DTSTART:20300310T030000
RDATE:20301103T010000
TZOFFSETFROM:-0700
TZOFFSETTO:-0600
TZNAME:America/Denver MDT
END:DAYLIGHT
BEGIN:DAYLIGHT
DTSTART:20310309T030000
RDATE:20311102T010000
TZOFFSETFROM:-0700
TZOFFSETTO:-0600
TZNAME:America/Denver MDT
END:DAYLIGHT
BEGIN:DAYLIGHT
DTSTART:20320314T030000
RDATE:20321107T010000
TZOFFSETFROM:-0700
TZOFFSETTO:-0600
TZNAME:America/Denver MDT
END:DAYLIGHT
BEGIN:DAYLIGHT
DTSTART:20330313T030000
RDATE:20331106T010000
TZOFFSETFROM:-0700
TZOFFSETTO:-0600
TZNAME:America/Denver MDT
END:DAYLIGHT
BEGIN:DAYLIGHT
DTSTART:20340312T030000
RDATE:20341105T010000
TZOFFSETFROM:-0700
TZOFFSETTO:-0600
TZNAME:America/Denver MDT
END:DAYLIGHT
BEGIN:DAYLIGHT
DTSTART:20350311T030000
RDATE:20351104T010000
TZOFFSETFROM:-0700
TZOFFSETTO:-0600
TZNAME:America/Denver MDT
END:DAYLIGHT
BEGIN:DAYLIGHT
DTSTART:20360309T030000
RDATE:20361102T010000
TZOFFSETFROM:-0700
TZOFFSETTO:-0600
TZNAME:America/Denver MDT
END:DAYLIGHT
BEGIN:DAYLIGHT
DTSTART:20370308T030000
RDATE:20371101T010000
TZOFFSETFROM:-0700
TZOFFSETTO:-0600
TZNAME:America/Denver MDT
END:DAYLIGHT
END:VTIMEZONE
BEGIN:VEVENT
UID:8d1750425638f2ab288819f0391cbe7a
CATEGORIES:LSDM
CREATED:20160406T082140
SUMMARY:Frank "Fuzzy" Furr
DESCRIPTION:	 \n	Frank Furr	 \n	 \n	 \n	Frank, better known as Fuzzy, was an Air Force 
 officer serving over 27 years in various operational, senior staff and lead
 ership positions in the Air Force, Joint Chiefs of Staff, Defense Intellige
 nce Agency, and Office of the Secretary of Defense. Upon his retirement fro
 m the USAF he accepted a position in an aerospace/defense high technology c
 ompany and became Vice President, Programs, for L-3 Communication Systems W
 est. \n	 \n	Fuzzy graduated fromNC State University, Raleigh, NC, and enter
 ed the USAF through ROTC. His operational military assignments started with
  flying the F-102 Delta Dart in Germany followed by a tour in Vietnam flyin
 g the OV-10 Bronco as a Forward Air Controller. Returning from Vietnam he v
 olunteered for and was selected into the U-2 Dragon Lady program. Frank has
  flown over 3500 hours to include over 1300 in the U-2 and over 1200 hours 
 of Combat Time. As a U-2 pilot, Fuzzy was Commander of U-2 Operations in Cy
 prus, and then Commander of the 99th Reconnaissance Squadron. His decoratio
 ns include the Distinguished Flying Cross with 3 Oak Leaf Clusters (OLC), t
 he Defense Meritorious Service Medal with 1 OLC, and the Air Medal with 16 
 OLC. He has a MS from the University of Northern Colorado, Greeley, CO.\n	 
 \n	He is married to Lani and they have five children and six grandchildren.
  They love to travel, play golf, and enjoy winter sports. Frank is a Rotari
 an and also a certified jury official for Bobsled and Skeleton activities. 
 He is a member of the OSHER facility at the University of Utah where he tea
 ches Military Intelligence History. He also speaks at various functions and
  is a Guest Lecturer for Princess Cruises. \n	 \n	TOPIC\n	 \n	Fuzzy will ta
 lk about his experiences flying the U-2 and the unique aspects of flying ab
 ove 70,000 feet in unfriendly regions.  \n	 \n
X-ALT-DESC;FMTTYPE=text/html:<p>	 </p><h2>	<strong>Frank Furr</strong></h2><p>	 </p><p>	 </p><p>	 </p><p
 >	<strong>Frank, better known as Fuzzy, was an Air Force officer serving ov
 er 27 years in various operational, senior staff and leadership positions i
 n the Air Force, Joint Chiefs of Staff, Defense Intelligence Agency, and Of
 fice of the Secretary of Defense. Upon his retirement from the USAF he acce
 pted a position in an aerospace/defense high technology company and became 
 </strong><strong>Vice President, Programs, for L-3 Communication Systems We
 st. </strong></p><p style="margin-left:.5in;">	 </p><p>	<strong>Fuzzy gradu
 ated from</strong><strong>NC State University, Raleigh, NC, and entered the
  USAF through ROTC. His operational military assignments started with flyin
 g the F-102 Delta Dart in Germany followed by a tour in Vietnam flying the 
 OV-10 Bronco as a Forward Air Controller. Returning from Vietnam he volunte
 ered for and was selected into the U-2 Dragon Lady program. Frank has flown
  over 3500 hours to include over 1300 in the U-2 and over 1200 hours of Com
 bat Time. As a U-2 pilot, Fuzzy was Commander of U-2 Operations in Cyprus, 
 and then Commander of the 99<sup>th</sup> Reconnaissance Squadron. His deco
 rations include the Distinguished Flying Cross with 3 Oak Leaf Clusters (OL
 C), the Defense Meritorious Service Medal with 1 OLC, and the Air Medal wit
 h 16 OLC. He has a MS from the University of Northern Colorado, Greeley, CO
 .</strong></p><p>	 </p><p>	<strong>He is married to Lani and they have five
  children and six grandchildren. They love to travel, play golf, and enjoy 
 winter sports. Frank is a Rotarian and also a certified jury official for B
 obsled and Skeleton activities. He is a member of the OSHER facility at the
  University of Utah where he teaches Military Intelligence History. He also
  speaks at various functions and is a Guest Lecturer for Princess Cruises. 
 </strong></p><p>	 </p><p>	<strong><u>TOPIC</u></strong></p><p>	 </p><p>	<st
 rong>Fuzzy will talk about his experiences flying the U-2 and the unique as
 pects of flying above 70,000 feet in unfriendly regions. </strong><strong> 
 </strong></p><p>	 </p>
DTSTAMP:20260424T094611
DTSTART;TZID=America/Denver:20160414T070000
DTEND;TZID=America/Denver:20160414T080000
SEQUENCE:0
TRANSP:OPAQUE
END:VEVENT
END:VCALENDAR