BEGIN:VCALENDAR
VERSION:2.0
PRODID:-//jEvents 2.0 for Joomla//EN
CALSCALE:GREGORIAN
METHOD:PUBLISH
BEGIN:VTIMEZONE
TZID:America/Denver
BEGIN:STANDARD
DTSTART:20160214T070000
RDATE:20160313T030000
TZOFFSETFROM:-0600
TZOFFSETTO:-0700
TZNAME:America/Denver MST
END:STANDARD
BEGIN:STANDARD
DTSTART:20161106T010000
RDATE:20170312T030000
TZOFFSETFROM:-0600
TZOFFSETTO:-0700
TZNAME:America/Denver MST
END:STANDARD
BEGIN:STANDARD
DTSTART:20171105T010000
RDATE:20180311T030000
TZOFFSETFROM:-0600
TZOFFSETTO:-0700
TZNAME:America/Denver MST
END:STANDARD
BEGIN:STANDARD
DTSTART:20181104T010000
RDATE:20190310T030000
TZOFFSETFROM:-0600
TZOFFSETTO:-0700
TZNAME:America/Denver MST
END:STANDARD
BEGIN:STANDARD
DTSTART:20191103T010000
RDATE:20200308T030000
TZOFFSETFROM:-0600
TZOFFSETTO:-0700
TZNAME:America/Denver MST
END:STANDARD
BEGIN:STANDARD
DTSTART:20201101T010000
RDATE:20210314T030000
TZOFFSETFROM:-0600
TZOFFSETTO:-0700
TZNAME:America/Denver MST
END:STANDARD
BEGIN:STANDARD
DTSTART:20211107T010000
RDATE:20220313T030000
TZOFFSETFROM:-0600
TZOFFSETTO:-0700
TZNAME:America/Denver MST
END:STANDARD
BEGIN:STANDARD
DTSTART:20221106T010000
RDATE:20230312T030000
TZOFFSETFROM:-0600
TZOFFSETTO:-0700
TZNAME:America/Denver MST
END:STANDARD
BEGIN:STANDARD
DTSTART:20231105T010000
RDATE:20240310T030000
TZOFFSETFROM:-0600
TZOFFSETTO:-0700
TZNAME:America/Denver MST
END:STANDARD
BEGIN:STANDARD
DTSTART:20241103T010000
RDATE:20250309T030000
TZOFFSETFROM:-0600
TZOFFSETTO:-0700
TZNAME:America/Denver MST
END:STANDARD
BEGIN:STANDARD
DTSTART:20251102T010000
RDATE:20260308T030000
TZOFFSETFROM:-0600
TZOFFSETTO:-0700
TZNAME:America/Denver MST
END:STANDARD
BEGIN:STANDARD
DTSTART:20261101T010000
RDATE:20270314T030000
TZOFFSETFROM:-0600
TZOFFSETTO:-0700
TZNAME:America/Denver MST
END:STANDARD
BEGIN:STANDARD
DTSTART:20271107T010000
RDATE:20280312T030000
TZOFFSETFROM:-0600
TZOFFSETTO:-0700
TZNAME:America/Denver MST
END:STANDARD
BEGIN:STANDARD
DTSTART:20281105T010000
RDATE:20290311T030000
TZOFFSETFROM:-0600
TZOFFSETTO:-0700
TZNAME:America/Denver MST
END:STANDARD
BEGIN:STANDARD
DTSTART:20291104T010000
RDATE:20300310T030000
TZOFFSETFROM:-0600
TZOFFSETTO:-0700
TZNAME:America/Denver MST
END:STANDARD
BEGIN:STANDARD
DTSTART:20301103T010000
RDATE:20310309T030000
TZOFFSETFROM:-0600
TZOFFSETTO:-0700
TZNAME:America/Denver MST
END:STANDARD
BEGIN:STANDARD
DTSTART:20311102T010000
RDATE:20320314T030000
TZOFFSETFROM:-0600
TZOFFSETTO:-0700
TZNAME:America/Denver MST
END:STANDARD
BEGIN:STANDARD
DTSTART:20321107T010000
RDATE:20330313T030000
TZOFFSETFROM:-0600
TZOFFSETTO:-0700
TZNAME:America/Denver MST
END:STANDARD
BEGIN:STANDARD
DTSTART:20331106T010000
RDATE:20340312T030000
TZOFFSETFROM:-0600
TZOFFSETTO:-0700
TZNAME:America/Denver MST
END:STANDARD
BEGIN:STANDARD
DTSTART:20341105T010000
RDATE:20350311T030000
TZOFFSETFROM:-0600
TZOFFSETTO:-0700
TZNAME:America/Denver MST
END:STANDARD
BEGIN:STANDARD
DTSTART:20351104T010000
RDATE:20360309T030000
TZOFFSETFROM:-0600
TZOFFSETTO:-0700
TZNAME:America/Denver MST
END:STANDARD
BEGIN:STANDARD
DTSTART:20361102T010000
RDATE:20370308T030000
TZOFFSETFROM:-0600
TZOFFSETTO:-0700
TZNAME:America/Denver MST
END:STANDARD
BEGIN:STANDARD
DTSTART:20371101T010000
TZOFFSETFROM:-0600
TZOFFSETTO:-0700
TZNAME:America/Denver MST
END:STANDARD
BEGIN:DAYLIGHT
DTSTART:20160313T030000
RDATE:20161106T010000
TZOFFSETFROM:-0700
TZOFFSETTO:-0600
TZNAME:America/Denver MDT
END:DAYLIGHT
BEGIN:DAYLIGHT
DTSTART:20170312T030000
RDATE:20171105T010000
TZOFFSETFROM:-0700
TZOFFSETTO:-0600
TZNAME:America/Denver MDT
END:DAYLIGHT
BEGIN:DAYLIGHT
DTSTART:20180311T030000
RDATE:20181104T010000
TZOFFSETFROM:-0700
TZOFFSETTO:-0600
TZNAME:America/Denver MDT
END:DAYLIGHT
BEGIN:DAYLIGHT
DTSTART:20190310T030000
RDATE:20191103T010000
TZOFFSETFROM:-0700
TZOFFSETTO:-0600
TZNAME:America/Denver MDT
END:DAYLIGHT
BEGIN:DAYLIGHT
DTSTART:20200308T030000
RDATE:20201101T010000
TZOFFSETFROM:-0700
TZOFFSETTO:-0600
TZNAME:America/Denver MDT
END:DAYLIGHT
BEGIN:DAYLIGHT
DTSTART:20210314T030000
RDATE:20211107T010000
TZOFFSETFROM:-0700
TZOFFSETTO:-0600
TZNAME:America/Denver MDT
END:DAYLIGHT
BEGIN:DAYLIGHT
DTSTART:20220313T030000
RDATE:20221106T010000
TZOFFSETFROM:-0700
TZOFFSETTO:-0600
TZNAME:America/Denver MDT
END:DAYLIGHT
BEGIN:DAYLIGHT
DTSTART:20230312T030000
RDATE:20231105T010000
TZOFFSETFROM:-0700
TZOFFSETTO:-0600
TZNAME:America/Denver MDT
END:DAYLIGHT
BEGIN:DAYLIGHT
DTSTART:20240310T030000
RDATE:20241103T010000
TZOFFSETFROM:-0700
TZOFFSETTO:-0600
TZNAME:America/Denver MDT
END:DAYLIGHT
BEGIN:DAYLIGHT
DTSTART:20250309T030000
RDATE:20251102T010000
TZOFFSETFROM:-0700
TZOFFSETTO:-0600
TZNAME:America/Denver MDT
END:DAYLIGHT
BEGIN:DAYLIGHT
DTSTART:20260308T030000
RDATE:20261101T010000
TZOFFSETFROM:-0700
TZOFFSETTO:-0600
TZNAME:America/Denver MDT
END:DAYLIGHT
BEGIN:DAYLIGHT
DTSTART:20270314T030000
RDATE:20271107T010000
TZOFFSETFROM:-0700
TZOFFSETTO:-0600
TZNAME:America/Denver MDT
END:DAYLIGHT
BEGIN:DAYLIGHT
DTSTART:20280312T030000
RDATE:20281105T010000
TZOFFSETFROM:-0700
TZOFFSETTO:-0600
TZNAME:America/Denver MDT
END:DAYLIGHT
BEGIN:DAYLIGHT
DTSTART:20290311T030000
RDATE:20291104T010000
TZOFFSETFROM:-0700
TZOFFSETTO:-0600
TZNAME:America/Denver MDT
END:DAYLIGHT
BEGIN:DAYLIGHT
DTSTART:20300310T030000
RDATE:20301103T010000
TZOFFSETFROM:-0700
TZOFFSETTO:-0600
TZNAME:America/Denver MDT
END:DAYLIGHT
BEGIN:DAYLIGHT
DTSTART:20310309T030000
RDATE:20311102T010000
TZOFFSETFROM:-0700
TZOFFSETTO:-0600
TZNAME:America/Denver MDT
END:DAYLIGHT
BEGIN:DAYLIGHT
DTSTART:20320314T030000
RDATE:20321107T010000
TZOFFSETFROM:-0700
TZOFFSETTO:-0600
TZNAME:America/Denver MDT
END:DAYLIGHT
BEGIN:DAYLIGHT
DTSTART:20330313T030000
RDATE:20331106T010000
TZOFFSETFROM:-0700
TZOFFSETTO:-0600
TZNAME:America/Denver MDT
END:DAYLIGHT
BEGIN:DAYLIGHT
DTSTART:20340312T030000
RDATE:20341105T010000
TZOFFSETFROM:-0700
TZOFFSETTO:-0600
TZNAME:America/Denver MDT
END:DAYLIGHT
BEGIN:DAYLIGHT
DTSTART:20350311T030000
RDATE:20351104T010000
TZOFFSETFROM:-0700
TZOFFSETTO:-0600
TZNAME:America/Denver MDT
END:DAYLIGHT
BEGIN:DAYLIGHT
DTSTART:20360309T030000
RDATE:20361102T010000
TZOFFSETFROM:-0700
TZOFFSETTO:-0600
TZNAME:America/Denver MDT
END:DAYLIGHT
BEGIN:DAYLIGHT
DTSTART:20370308T030000
RDATE:20371101T010000
TZOFFSETFROM:-0700
TZOFFSETTO:-0600
TZNAME:America/Denver MDT
END:DAYLIGHT
END:VTIMEZONE
BEGIN:VEVENT
UID:b51d96add36e4dfb4f37d66d1e78078c
CATEGORIES:LSDM
CREATED:20170210T090850
SUMMARY:Loren Yager, PhD.
DESCRIPTION:	 \n	 \n	Topic:  US Productivity Slowdown.  Drawing from recent book by Rob
 ert Gordon, "The Rise and Fall of American Growth."\n	The second is a summa
 ry of the debate over the productivity slowdown, largely based on the recen
 t powerhouse book by Robert Gordon. It is one of those "I read this so you 
 don't have to--it is 800+ pages"  but I also bring in some of the criticism
 s of Gordon as well as some of the implications of a slowdown. 	 \n	Loren Y
 ager, Ph.D.\n	 \n	Loren has spent the last month skiing in Park City and ot
 her locations in Utah after retiring from his federal position in December 
 2016.\n	 \n	Most recently, Loren served for 5 years as the Managing Directo
 r of the International Affairs and Trade team of the Government Accountabil
 ity Office, directing a research staff of 150 in producing reports and prov
 iding testimony on subjects related to the international operations of the 
 federal government. The team conducted oversight for the U.S. Congress over
  U.S. programs related to international trade and development, U.S. involve
 ment with international organizations, counterterrorism efforts abroad, Sta
 te Department presence, and numerous other subjects.\n	 \n	The primary cong
 ressional clients for the work included the House Foreign Affairs Committee
 , Senate Foreign Relations Committee, the State and Foreign Operations Appr
 opriations Subcommittees, and numerous others.\n	 \n	Prior to taking the po
 sition of Managing Director, he served for 10 years as the Director respons
 ible for trade issues. Loren also led GAO’s Office of the Chief Economist i
 n GAO after serving as an economist in that office.\n	 \n	More relevant to 
 this audience, Loren graduated from the (Pardee) Rand Graduate School in 19
 91 with Distinction in Economics and Quantitative Methods. He had also held
  positions as an economist with the Aerospace Industries Association and th
 e Bureau of Labor Statistics.\n	 \n	Loren’s presentations, initiatives, and
  blog posts include Congressional Outreach, Understanding the Hill, Deliver
 ing Testimony, Trade in ‘Bads’, The Impact Series, Performance Measures in 
 Government, Bummer Reading (The Productivity Slowdown), Designing Efficient
  Projects, the 5 x 5  Book Club, etc. \n
X-ALT-DESC;FMTTYPE=text/html:<p>	 </p><p>	 </p><p>	Topic:  US Productivity Slowdown.  Drawing from recen
 t book by Robert Gordon, "The Rise and Fall of American Growth."</p><div>	T
 he second is a summary of the debate over the productivity slowdown, largel
 y based on the recent powerhouse book by Robert Gordon. It is one of those 
 "I read this so you don't have to--it is 800+ pages"  but I also bring in s
 ome of the criticisms of Gordon as well as some of the implications of a sl
 owdown. </div><p>	 </p><p>	Loren Yager, Ph.D.</p><p>	 </p><p>	Loren has spe
 nt the last month skiing in Park City and other locations in Utah after ret
 iring from his federal position in December 2016.</p><p>	 </p><p>	Most rece
 ntly, Loren served for 5 years as the Managing Director of the Internationa
 l Affairs and Trade team of the Government Accountability Office, directing
  a research staff of 150 in producing reports and providing testimony on su
 bjects related to the international operations of the federal government. T
 he team conducted oversight for the U.S. Congress over U.S. programs relate
 d to international trade and development, U.S. involvement with internation
 al organizations, counterterrorism efforts abroad, State Department presenc
 e, and numerous other subjects.</p><p>	 </p><p>	The primary congressional c
 lients for the work included the House Foreign Affairs Committee, Senate Fo
 reign Relations Committee, the State and Foreign Operations Appropriations 
 Subcommittees, and numerous others.</p><p>	 </p><p>	Prior to taking the pos
 ition of Managing Director, he served for 10 years as the Director responsi
 ble for trade issues. Loren also led GAO&rsquo;s Office of the Chief Econom
 ist in GAO after serving as an economist in that office.</p><p>	 </p><p>	Mo
 re relevant to this audience, Loren graduated from the (Pardee) Rand Gradua
 te School in 1991 with Distinction in Economics and Quantitative Methods. H
 e had also held positions as an economist with the Aerospace Industries Ass
 ociation and the Bureau of Labor Statistics.</p><p>	 </p><p>	Loren&rsquo;s 
 presentations, initiatives, and blog posts include Congressional Outreach, 
 Understanding the Hill, Delivering Testimony, Trade in &lsquo;Bads&rsquo;, 
 The Impact Series, Performance Measures in Government, Bummer Reading (The 
 Productivity Slowdown), Designing Efficient Projects, the 5 x 5  Book Club,
  etc. </p>
DTSTAMP:20260423T170137
DTSTART;TZID=America/Denver:20170214T070000
DTEND;TZID=America/Denver:20170214T080000
SEQUENCE:0
TRANSP:OPAQUE
END:VEVENT
END:VCALENDAR