BEGIN:VCALENDAR
VERSION:2.0
PRODID:-//jEvents 2.0 for Joomla//EN
CALSCALE:GREGORIAN
METHOD:PUBLISH
BEGIN:VTIMEZONE
TZID:America/Denver
BEGIN:STANDARD
DTSTART:20221106T010000
RDATE:20230312T030000
TZOFFSETFROM:-0600
TZOFFSETTO:-0700
TZNAME:America/Denver MST
END:STANDARD
BEGIN:STANDARD
DTSTART:20231105T010000
RDATE:20240310T030000
TZOFFSETFROM:-0600
TZOFFSETTO:-0700
TZNAME:America/Denver MST
END:STANDARD
BEGIN:STANDARD
DTSTART:20241103T010000
RDATE:20250309T030000
TZOFFSETFROM:-0600
TZOFFSETTO:-0700
TZNAME:America/Denver MST
END:STANDARD
BEGIN:STANDARD
DTSTART:20251102T010000
RDATE:20260308T030000
TZOFFSETFROM:-0600
TZOFFSETTO:-0700
TZNAME:America/Denver MST
END:STANDARD
BEGIN:STANDARD
DTSTART:20261101T010000
RDATE:20270314T030000
TZOFFSETFROM:-0600
TZOFFSETTO:-0700
TZNAME:America/Denver MST
END:STANDARD
BEGIN:STANDARD
DTSTART:20271107T010000
RDATE:20280312T030000
TZOFFSETFROM:-0600
TZOFFSETTO:-0700
TZNAME:America/Denver MST
END:STANDARD
BEGIN:STANDARD
DTSTART:20281105T010000
RDATE:20290311T030000
TZOFFSETFROM:-0600
TZOFFSETTO:-0700
TZNAME:America/Denver MST
END:STANDARD
BEGIN:STANDARD
DTSTART:20291104T010000
RDATE:20300310T030000
TZOFFSETFROM:-0600
TZOFFSETTO:-0700
TZNAME:America/Denver MST
END:STANDARD
BEGIN:STANDARD
DTSTART:20301103T010000
RDATE:20310309T030000
TZOFFSETFROM:-0600
TZOFFSETTO:-0700
TZNAME:America/Denver MST
END:STANDARD
BEGIN:STANDARD
DTSTART:20311102T010000
RDATE:20320314T030000
TZOFFSETFROM:-0600
TZOFFSETTO:-0700
TZNAME:America/Denver MST
END:STANDARD
BEGIN:STANDARD
DTSTART:20321107T010000
RDATE:20330313T030000
TZOFFSETFROM:-0600
TZOFFSETTO:-0700
TZNAME:America/Denver MST
END:STANDARD
BEGIN:STANDARD
DTSTART:20331106T010000
RDATE:20340312T030000
TZOFFSETFROM:-0600
TZOFFSETTO:-0700
TZNAME:America/Denver MST
END:STANDARD
BEGIN:STANDARD
DTSTART:20341105T010000
RDATE:20350311T030000
TZOFFSETFROM:-0600
TZOFFSETTO:-0700
TZNAME:America/Denver MST
END:STANDARD
BEGIN:STANDARD
DTSTART:20351104T010000
RDATE:20360309T030000
TZOFFSETFROM:-0600
TZOFFSETTO:-0700
TZNAME:America/Denver MST
END:STANDARD
BEGIN:STANDARD
DTSTART:20361102T010000
RDATE:20370308T030000
TZOFFSETFROM:-0600
TZOFFSETTO:-0700
TZNAME:America/Denver MST
END:STANDARD
BEGIN:STANDARD
DTSTART:20371101T010000
TZOFFSETFROM:-0600
TZOFFSETTO:-0700
TZNAME:America/Denver MST
END:STANDARD
BEGIN:DAYLIGHT
DTSTART:20220501T070000
RDATE:20221106T010000
TZOFFSETFROM:-0700
TZOFFSETTO:-0600
TZNAME:America/Denver MDT
END:DAYLIGHT
BEGIN:DAYLIGHT
DTSTART:20230312T030000
RDATE:20231105T010000
TZOFFSETFROM:-0700
TZOFFSETTO:-0600
TZNAME:America/Denver MDT
END:DAYLIGHT
BEGIN:DAYLIGHT
DTSTART:20240310T030000
RDATE:20241103T010000
TZOFFSETFROM:-0700
TZOFFSETTO:-0600
TZNAME:America/Denver MDT
END:DAYLIGHT
BEGIN:DAYLIGHT
DTSTART:20250309T030000
RDATE:20251102T010000
TZOFFSETFROM:-0700
TZOFFSETTO:-0600
TZNAME:America/Denver MDT
END:DAYLIGHT
BEGIN:DAYLIGHT
DTSTART:20260308T030000
RDATE:20261101T010000
TZOFFSETFROM:-0700
TZOFFSETTO:-0600
TZNAME:America/Denver MDT
END:DAYLIGHT
BEGIN:DAYLIGHT
DTSTART:20270314T030000
RDATE:20271107T010000
TZOFFSETFROM:-0700
TZOFFSETTO:-0600
TZNAME:America/Denver MDT
END:DAYLIGHT
BEGIN:DAYLIGHT
DTSTART:20280312T030000
RDATE:20281105T010000
TZOFFSETFROM:-0700
TZOFFSETTO:-0600
TZNAME:America/Denver MDT
END:DAYLIGHT
BEGIN:DAYLIGHT
DTSTART:20290311T030000
RDATE:20291104T010000
TZOFFSETFROM:-0700
TZOFFSETTO:-0600
TZNAME:America/Denver MDT
END:DAYLIGHT
BEGIN:DAYLIGHT
DTSTART:20300310T030000
RDATE:20301103T010000
TZOFFSETFROM:-0700
TZOFFSETTO:-0600
TZNAME:America/Denver MDT
END:DAYLIGHT
BEGIN:DAYLIGHT
DTSTART:20310309T030000
RDATE:20311102T010000
TZOFFSETFROM:-0700
TZOFFSETTO:-0600
TZNAME:America/Denver MDT
END:DAYLIGHT
BEGIN:DAYLIGHT
DTSTART:20320314T030000
RDATE:20321107T010000
TZOFFSETFROM:-0700
TZOFFSETTO:-0600
TZNAME:America/Denver MDT
END:DAYLIGHT
BEGIN:DAYLIGHT
DTSTART:20330313T030000
RDATE:20331106T010000
TZOFFSETFROM:-0700
TZOFFSETTO:-0600
TZNAME:America/Denver MDT
END:DAYLIGHT
BEGIN:DAYLIGHT
DTSTART:20340312T030000
RDATE:20341105T010000
TZOFFSETFROM:-0700
TZOFFSETTO:-0600
TZNAME:America/Denver MDT
END:DAYLIGHT
BEGIN:DAYLIGHT
DTSTART:20350311T030000
RDATE:20351104T010000
TZOFFSETFROM:-0700
TZOFFSETTO:-0600
TZNAME:America/Denver MDT
END:DAYLIGHT
BEGIN:DAYLIGHT
DTSTART:20360309T030000
RDATE:20361102T010000
TZOFFSETFROM:-0700
TZOFFSETTO:-0600
TZNAME:America/Denver MDT
END:DAYLIGHT
BEGIN:DAYLIGHT
DTSTART:20370308T030000
RDATE:20371101T010000
TZOFFSETFROM:-0700
TZOFFSETTO:-0600
TZNAME:America/Denver MDT
END:DAYLIGHT
END:VTIMEZONE
BEGIN:VEVENT
UID:c1ebcd4faa3b814204783f8acbed9377
CATEGORIES:LSDM
CREATED:20230421T152942
SUMMARY:Marlo M. Oaks, Utah State Treasurer, ESG Update
DESCRIPTION:Prior LSDM Speaker... see speaker notes at lsdm-parkcity.com \nNotwithstand
 ing Marlo's seemingly minor role on the national political landscape, he ha
 s become somewhat of a rock star as a nationally prominent anti ESG crusade
 r.  Linked below are a Salt Lake Tribune press report on real actions taken
  by Marlo in withdrawing Utah State pension funds from "woke" funds and Mar
 lo's own 08 May 2022 op ed in the Wall Street Journal on the pitfalls ESG i
 nvesting.   \nUtah’s state treasurer pulls millions from investment firm ov
 er its climate and social agenda (sltrib.com) (https://www.sltrib.com/news/
 politics/2022/09/18/utah-state-treasurer-pulls/) \nS&amp;P Hits U.S. States
  With Politicized Credit Scores - WSJ (https://www.wsj.com/articles/s-and-p
 -states-politicized-credit-scores-esg-rating-utah-oaks-carbon-environmental
 -energy-crisis-price-fracking-ukraine-russia-11652037089?fbclid=IwAR0HoO_Ov
 I7GC6_e27JVc0SBB-LZxRmpZcpc1yD5ZmxeZKaXN1wlX2uZ_cI&amp;mod=article_inline) 
 \nMarlo has appeared on Tucker Carlson's Fox News show.  YouTube link follo
 ws.   \n (https://www.bing.com/ck/a?!&amp;&amp;p=c3612cce3d8c3b04JmltdHM9MT
 Y4MTY4OTYwMCZpZ3VpZD0xNWY4MTQwOC1lMWM4LTZlNTAtM2I4ZC0wNjU4ZTA0YzZmNGImaW5za
 WQ9NTE5NA&amp;ptn=3&amp;hsh=3&amp;fclid=15f81408-e1c8-6e50-3b8d-0658e04c6f4
 b&amp;psq=marlo+m.+oaks+on+tucker+carlson&amp;u=a1aHR0cHM6Ly93d3cueW91dHViZ
 S5jb20vd2F0Y2g_dj1mdFdZZ3BVekRhTQ&amp;ntb=1)https://www.bing.com/ck/a?!&amp
 ;&amp;p=c3612cce3d8c3b04JmltdHM9MTY4MTY4OTYwMCZpZ3VpZD0xNWY4MTQwOC1lMWM4LTZ
 lNTAtM2I4ZC0wNjU4ZTA0YzZmNGImaW5zaWQ9NTE5NA&amp;ptn=3&amp;hsh=3&amp;fclid=1
 5f81408-e1c8-6e50-3b8d-0658e04c6f4b&amp;psq=marlo+m.+oaks+on+tucker+carlson
 &amp;u=a1aHR0cHM6Ly93d3cueW91dHViZS5jb20vd2F0Y2g_dj1mdFdZZ3BVekRhTQ&amp;ntb
 =1 \nLate last year Marlo hosted Republican presidential candidate Vivek Ra
 maswamy, arguably the country's best known anti-ESG crusader, at a Park Cit
 y, Utah breakfast.  Ramaswamy's anti ESG book, "Woke, Inc., is a New York T
 imes best seller.  Marlo has had at least a couple of meetings in Utah with
  Blackrock people, including a direct meeting with Larry Fink.\n
X-ALT-DESC;FMTTYPE=text/html:<p>Prior LSDM Speaker... see speaker notes at lsdm-parkcity.com&nbsp;</p><d
 iv><p class="yiv4440912879MsoNormal">Notwithstanding Marlo's seemingly mino
 r role on the national political landscape, he has become somewhat of a roc
 k star as a nationally prominent anti ESG crusader.&nbsp; Linked below are 
 a Salt Lake Tribune press report on real actions taken by Marlo in withdraw
 ing Utah State pension funds from "woke" funds and Marlo's own 08 May 2022 
 op ed in the Wall Street Journal on the pitfalls ESG investing.&nbsp;&nbsp;
 &nbsp;</p></div><div><p class="yiv4440912879MsoNormal"><a href="https://www
 .sltrib.com/news/politics/2022/09/18/utah-state-treasurer-pulls/" target="_
 blank" rel="nofollow noopener noreferrer" shape="rect">Utah’s state treasur
 er pulls millions from investment firm over its climate and social agenda (
 sltrib.com)</a>&nbsp;</p></div><div><p class="yiv4440912879MsoNormal"><a hr
 ef="https://www.wsj.com/articles/s-and-p-states-politicized-credit-scores-e
 sg-rating-utah-oaks-carbon-environmental-energy-crisis-price-fracking-ukrai
 ne-russia-11652037089?fbclid=IwAR0HoO_OvI7GC6_e27JVc0SBB-LZxRmpZcpc1yD5Zmxe
 ZKaXN1wlX2uZ_cI&amp;mod=article_inline" target="_blank" rel="nofollow noope
 ner noreferrer" shape="rect">S&amp;P Hits U.S. States With Politicized Cred
 it Scores - WSJ</a>&nbsp;</p></div><div><div><p class="yiv4440912879MsoNorm
 al">Marlo has appeared on Tucker Carlson's Fox News show.&nbsp; YouTube lin
 k follows.&nbsp;&nbsp;&nbsp;</p></div><div><p class="yiv4440912879MsoNormal
 "><a href="https://www.bing.com/ck/a?!&amp;&amp;p=c3612cce3d8c3b04JmltdHM9M
 TY4MTY4OTYwMCZpZ3VpZD0xNWY4MTQwOC1lMWM4LTZlNTAtM2I4ZC0wNjU4ZTA0YzZmNGImaW5z
 aWQ9NTE5NA&amp;ptn=3&amp;hsh=3&amp;fclid=15f81408-e1c8-6e50-3b8d-0658e04c6f
 4b&amp;psq=marlo+m.+oaks+on+tucker+carlson&amp;u=a1aHR0cHM6Ly93d3cueW91dHVi
 ZS5jb20vd2F0Y2g_dj1mdFdZZ3BVekRhTQ&amp;ntb=1" target="_blank" rel="noopener
  noreferrer"></a><a href="https://www.bing.com/ck/a?!&amp;&amp;p=c3612cce3d
 8c3b04JmltdHM9MTY4MTY4OTYwMCZpZ3VpZD0xNWY4MTQwOC1lMWM4LTZlNTAtM2I4ZC0wNjU4Z
 TA0YzZmNGImaW5zaWQ9NTE5NA&amp;ptn=3&amp;hsh=3&amp;fclid=15f81408-e1c8-6e50-
 3b8d-0658e04c6f4b&amp;psq=marlo+m.+oaks+on+tucker+carlson&amp;u=a1aHR0cHM6L
 y93d3cueW91dHViZS5jb20vd2F0Y2g_dj1mdFdZZ3BVekRhTQ&amp;ntb=1">https://www.bi
 ng.com/ck/a?!&amp;&amp;p=c3612cce3d8c3b04JmltdHM9MTY4MTY4OTYwMCZpZ3VpZD0xNW
 Y4MTQwOC1lMWM4LTZlNTAtM2I4ZC0wNjU4ZTA0YzZmNGImaW5zaWQ9NTE5NA&amp;ptn=3&amp;
 hsh=3&amp;fclid=15f81408-e1c8-6e50-3b8d-0658e04c6f4b&amp;psq=marlo+m.+oaks+
 on+tucker+carlson&amp;u=a1aHR0cHM6Ly93d3cueW91dHViZS5jb20vd2F0Y2g_dj1mdFdZZ
 3BVekRhTQ&amp;ntb=1</a>&nbsp;</p></div></div><div><p class="yiv4440912879Ms
 oNormal">Late last year Marlo hosted Republican presidential candidate Vive
 k Ramaswamy, arguably the country's best known anti-ESG crusader, at a Park
  City, Utah breakfast.&nbsp; Ramaswamy's anti ESG book, "Woke, Inc., is a N
 ew York Times best seller.&nbsp; Marlo has had at least a couple of meeting
 s in Utah with Blackrock people, including a direct meeting with Larry Fink
 .</p></div>
DTSTAMP:20260423T132849
DTSTART;TZID=America/Denver:20230502T070000
DTEND;TZID=America/Denver:20230502T080000
SEQUENCE:0
TRANSP:OPAQUE
END:VEVENT
END:VCALENDAR