BEGIN:VCALENDAR
VERSION:2.0
PRODID:-//jEvents 2.0 for Joomla//EN
CALSCALE:GREGORIAN
METHOD:PUBLISH
BEGIN:VTIMEZONE
TZID:America/Denver
BEGIN:STANDARD
DTSTART:20221106T010000
RDATE:20230312T030000
TZOFFSETFROM:-0600
TZOFFSETTO:-0700
TZNAME:America/Denver MST
END:STANDARD
BEGIN:STANDARD
DTSTART:20231105T010000
RDATE:20240310T030000
TZOFFSETFROM:-0600
TZOFFSETTO:-0700
TZNAME:America/Denver MST
END:STANDARD
BEGIN:STANDARD
DTSTART:20241103T010000
RDATE:20250309T030000
TZOFFSETFROM:-0600
TZOFFSETTO:-0700
TZNAME:America/Denver MST
END:STANDARD
BEGIN:STANDARD
DTSTART:20251102T010000
RDATE:20260308T030000
TZOFFSETFROM:-0600
TZOFFSETTO:-0700
TZNAME:America/Denver MST
END:STANDARD
BEGIN:STANDARD
DTSTART:20261101T010000
RDATE:20270314T030000
TZOFFSETFROM:-0600
TZOFFSETTO:-0700
TZNAME:America/Denver MST
END:STANDARD
BEGIN:STANDARD
DTSTART:20271107T010000
RDATE:20280312T030000
TZOFFSETFROM:-0600
TZOFFSETTO:-0700
TZNAME:America/Denver MST
END:STANDARD
BEGIN:STANDARD
DTSTART:20281105T010000
RDATE:20290311T030000
TZOFFSETFROM:-0600
TZOFFSETTO:-0700
TZNAME:America/Denver MST
END:STANDARD
BEGIN:STANDARD
DTSTART:20291104T010000
RDATE:20300310T030000
TZOFFSETFROM:-0600
TZOFFSETTO:-0700
TZNAME:America/Denver MST
END:STANDARD
BEGIN:STANDARD
DTSTART:20301103T010000
RDATE:20310309T030000
TZOFFSETFROM:-0600
TZOFFSETTO:-0700
TZNAME:America/Denver MST
END:STANDARD
BEGIN:STANDARD
DTSTART:20311102T010000
RDATE:20320314T030000
TZOFFSETFROM:-0600
TZOFFSETTO:-0700
TZNAME:America/Denver MST
END:STANDARD
BEGIN:STANDARD
DTSTART:20321107T010000
RDATE:20330313T030000
TZOFFSETFROM:-0600
TZOFFSETTO:-0700
TZNAME:America/Denver MST
END:STANDARD
BEGIN:STANDARD
DTSTART:20331106T010000
RDATE:20340312T030000
TZOFFSETFROM:-0600
TZOFFSETTO:-0700
TZNAME:America/Denver MST
END:STANDARD
BEGIN:STANDARD
DTSTART:20341105T010000
RDATE:20350311T030000
TZOFFSETFROM:-0600
TZOFFSETTO:-0700
TZNAME:America/Denver MST
END:STANDARD
BEGIN:STANDARD
DTSTART:20351104T010000
RDATE:20360309T030000
TZOFFSETFROM:-0600
TZOFFSETTO:-0700
TZNAME:America/Denver MST
END:STANDARD
BEGIN:STANDARD
DTSTART:20361102T010000
RDATE:20370308T030000
TZOFFSETFROM:-0600
TZOFFSETTO:-0700
TZNAME:America/Denver MST
END:STANDARD
BEGIN:STANDARD
DTSTART:20371101T010000
TZOFFSETFROM:-0600
TZOFFSETTO:-0700
TZNAME:America/Denver MST
END:STANDARD
BEGIN:DAYLIGHT
DTSTART:20220809T070000
RDATE:20221106T010000
TZOFFSETFROM:-0700
TZOFFSETTO:-0600
TZNAME:America/Denver MDT
END:DAYLIGHT
BEGIN:DAYLIGHT
DTSTART:20230312T030000
RDATE:20231105T010000
TZOFFSETFROM:-0700
TZOFFSETTO:-0600
TZNAME:America/Denver MDT
END:DAYLIGHT
BEGIN:DAYLIGHT
DTSTART:20240310T030000
RDATE:20241103T010000
TZOFFSETFROM:-0700
TZOFFSETTO:-0600
TZNAME:America/Denver MDT
END:DAYLIGHT
BEGIN:DAYLIGHT
DTSTART:20250309T030000
RDATE:20251102T010000
TZOFFSETFROM:-0700
TZOFFSETTO:-0600
TZNAME:America/Denver MDT
END:DAYLIGHT
BEGIN:DAYLIGHT
DTSTART:20260308T030000
RDATE:20261101T010000
TZOFFSETFROM:-0700
TZOFFSETTO:-0600
TZNAME:America/Denver MDT
END:DAYLIGHT
BEGIN:DAYLIGHT
DTSTART:20270314T030000
RDATE:20271107T010000
TZOFFSETFROM:-0700
TZOFFSETTO:-0600
TZNAME:America/Denver MDT
END:DAYLIGHT
BEGIN:DAYLIGHT
DTSTART:20280312T030000
RDATE:20281105T010000
TZOFFSETFROM:-0700
TZOFFSETTO:-0600
TZNAME:America/Denver MDT
END:DAYLIGHT
BEGIN:DAYLIGHT
DTSTART:20290311T030000
RDATE:20291104T010000
TZOFFSETFROM:-0700
TZOFFSETTO:-0600
TZNAME:America/Denver MDT
END:DAYLIGHT
BEGIN:DAYLIGHT
DTSTART:20300310T030000
RDATE:20301103T010000
TZOFFSETFROM:-0700
TZOFFSETTO:-0600
TZNAME:America/Denver MDT
END:DAYLIGHT
BEGIN:DAYLIGHT
DTSTART:20310309T030000
RDATE:20311102T010000
TZOFFSETFROM:-0700
TZOFFSETTO:-0600
TZNAME:America/Denver MDT
END:DAYLIGHT
BEGIN:DAYLIGHT
DTSTART:20320314T030000
RDATE:20321107T010000
TZOFFSETFROM:-0700
TZOFFSETTO:-0600
TZNAME:America/Denver MDT
END:DAYLIGHT
BEGIN:DAYLIGHT
DTSTART:20330313T030000
RDATE:20331106T010000
TZOFFSETFROM:-0700
TZOFFSETTO:-0600
TZNAME:America/Denver MDT
END:DAYLIGHT
BEGIN:DAYLIGHT
DTSTART:20340312T030000
RDATE:20341105T010000
TZOFFSETFROM:-0700
TZOFFSETTO:-0600
TZNAME:America/Denver MDT
END:DAYLIGHT
BEGIN:DAYLIGHT
DTSTART:20350311T030000
RDATE:20351104T010000
TZOFFSETFROM:-0700
TZOFFSETTO:-0600
TZNAME:America/Denver MDT
END:DAYLIGHT
BEGIN:DAYLIGHT
DTSTART:20360309T030000
RDATE:20361102T010000
TZOFFSETFROM:-0700
TZOFFSETTO:-0600
TZNAME:America/Denver MDT
END:DAYLIGHT
BEGIN:DAYLIGHT
DTSTART:20370308T030000
RDATE:20371101T010000
TZOFFSETFROM:-0700
TZOFFSETTO:-0600
TZNAME:America/Denver MDT
END:DAYLIGHT
END:VTIMEZONE
BEGIN:VEVENT
UID:0b2a7f5b8ce61081ea4d47ac030bacef
CATEGORIES:LSDM
CREATED:20230802T092446
SUMMARY:Jack Rubin and Roger Goldman.  Park City Election Strategy Forum
DESCRIPTION:<blockquote class="yiv4995744443"><div class="yiv4995744443page" title="Pag
 e 1"><div class="yiv4995744443section"><div class="yiv4995744443layoutArea"
 ><div class="yiv4995744443column"><p class="yiv4995744443"><span class="yiv
 4995744443">CITY COUNCIL CANDIDATE DATES TO REMEMBER </span></p><p class="y
 iv4995744443"><span class="yiv4995744443">August 15:&nbsp;</span><span clas
 s="yiv4995744443">Ballots Mailed to Voters</span></p><p class="yiv499574444
 3"><span class="yiv4995744443">August 29:&nbsp;</span><span class="yiv49957
 44443">Campaign Finance Disclosure #1 Due by 5:00 p.m. – contributions and 
 expenses through August 25.</span></p><p class="yiv4995744443"><span class=
 "yiv4995744443"><b class="yiv4995744443"><span class="yiv4995744443"><i cla
 ss="yiv4995744443">September 5:&nbsp;</i></span></b></span><span class="yiv
 4995744443"><b class="yiv4995744443"><span class="yiv4995744443"><i class="
 yiv4995744443">Primary Election Day</i></span></b></span><span class="yiv49
 95744443"><br class="yiv4995744443" clear="none" /></span><span class="yiv4
 995744443">October 5:&nbsp;</span><span class="yiv4995744443">Campaign Fina
 nce Disclosure #2 Due by 5:00 p.m. (only if&nbsp;</span><span class="yiv499
 5744443">eliminated from General Election)<br class="yiv4995744443" clear="
 none" /></span><span class="yiv4995744443">October 9:&nbsp;</span><span cla
 ss="yiv4995744443">Deadline to submit a Candidate Pro`le to Lt. Governor’s 
 website</span><span class="yiv4995744443">October 24:&nbsp;</span><span cla
 ss="yiv4995744443">Campaign Finance Disclosure #2 Due by 5:00 p.m. (for tho
 se advancing to the General Election) – contributions and expenses August 2
 6- October 20.</span></p><p class="yiv4995744443"><span class="yiv499574444
 3">October 31:&nbsp;</span><span class="yiv4995744443">Ballots Mailed to Vo
 ters<br class="yiv4995744443" clear="none" /></span><span class="yiv4995744
 443">November 10:&nbsp;</span><span class="yiv4995744443">In-OBce Voter Reg
 istration Deadline, online deadline</span></p><p class="yiv4995744443"><spa
 n class="yiv4995744443">November 17, can register and vote on Election Day<
 /span></p><p class="yiv4995744443"><span class="yiv4995744443">November 14:
 &nbsp;</span><span class="yiv4995744443">Campaign Finance Disclosure #3 Due
  by 5:00 p.m. – contributions and expenses October 21-November 10.</span></
 p></div></div></div></div><div class="yiv4995744443"><b class="yiv499574444
 3"><i class="yiv4995744443"><span class="yiv4995744443"><span class="yiv499
 5744443">November 21:&nbsp;</span><span class="yiv4995744443">General Elect
 ion Day</span></span></i></b></div></blockquote>
DTSTAMP:20260425T205511
DTSTART;TZID=America/Denver:20230810T070000
DTEND;TZID=America/Denver:20230810T080000
SEQUENCE:0
TRANSP:OPAQUE
END:VEVENT
END:VCALENDAR