BEGIN:VCALENDAR
VERSION:2.0
PRODID:-//jEvents 2.0 for Joomla//EN
CALSCALE:GREGORIAN
METHOD:PUBLISH
BEGIN:VTIMEZONE
TZID:America/Denver
BEGIN:STANDARD
DTSTART:20131103T010000
RDATE:20140309T030000
TZOFFSETFROM:-0600
TZOFFSETTO:-0700
TZNAME:America/Denver MST
END:STANDARD
BEGIN:STANDARD
DTSTART:20141102T010000
RDATE:20150308T030000
TZOFFSETFROM:-0600
TZOFFSETTO:-0700
TZNAME:America/Denver MST
END:STANDARD
BEGIN:STANDARD
DTSTART:20151101T010000
RDATE:20160313T030000
TZOFFSETFROM:-0600
TZOFFSETTO:-0700
TZNAME:America/Denver MST
END:STANDARD
BEGIN:STANDARD
DTSTART:20161106T010000
RDATE:20170312T030000
TZOFFSETFROM:-0600
TZOFFSETTO:-0700
TZNAME:America/Denver MST
END:STANDARD
BEGIN:STANDARD
DTSTART:20171105T010000
RDATE:20180311T030000
TZOFFSETFROM:-0600
TZOFFSETTO:-0700
TZNAME:America/Denver MST
END:STANDARD
BEGIN:STANDARD
DTSTART:20181104T010000
RDATE:20190310T030000
TZOFFSETFROM:-0600
TZOFFSETTO:-0700
TZNAME:America/Denver MST
END:STANDARD
BEGIN:STANDARD
DTSTART:20191103T010000
RDATE:20200308T030000
TZOFFSETFROM:-0600
TZOFFSETTO:-0700
TZNAME:America/Denver MST
END:STANDARD
BEGIN:STANDARD
DTSTART:20201101T010000
RDATE:20210314T030000
TZOFFSETFROM:-0600
TZOFFSETTO:-0700
TZNAME:America/Denver MST
END:STANDARD
BEGIN:STANDARD
DTSTART:20211107T010000
RDATE:20220313T030000
TZOFFSETFROM:-0600
TZOFFSETTO:-0700
TZNAME:America/Denver MST
END:STANDARD
BEGIN:STANDARD
DTSTART:20221106T010000
RDATE:20230312T030000
TZOFFSETFROM:-0600
TZOFFSETTO:-0700
TZNAME:America/Denver MST
END:STANDARD
BEGIN:STANDARD
DTSTART:20231105T010000
RDATE:20240310T030000
TZOFFSETFROM:-0600
TZOFFSETTO:-0700
TZNAME:America/Denver MST
END:STANDARD
BEGIN:STANDARD
DTSTART:20241103T010000
RDATE:20250309T030000
TZOFFSETFROM:-0600
TZOFFSETTO:-0700
TZNAME:America/Denver MST
END:STANDARD
BEGIN:STANDARD
DTSTART:20251102T010000
RDATE:20260308T030000
TZOFFSETFROM:-0600
TZOFFSETTO:-0700
TZNAME:America/Denver MST
END:STANDARD
BEGIN:STANDARD
DTSTART:20261101T010000
RDATE:20270314T030000
TZOFFSETFROM:-0600
TZOFFSETTO:-0700
TZNAME:America/Denver MST
END:STANDARD
BEGIN:STANDARD
DTSTART:20271107T010000
RDATE:20280312T030000
TZOFFSETFROM:-0600
TZOFFSETTO:-0700
TZNAME:America/Denver MST
END:STANDARD
BEGIN:STANDARD
DTSTART:20281105T010000
RDATE:20290311T030000
TZOFFSETFROM:-0600
TZOFFSETTO:-0700
TZNAME:America/Denver MST
END:STANDARD
BEGIN:STANDARD
DTSTART:20291104T010000
RDATE:20300310T030000
TZOFFSETFROM:-0600
TZOFFSETTO:-0700
TZNAME:America/Denver MST
END:STANDARD
BEGIN:STANDARD
DTSTART:20301103T010000
RDATE:20310309T030000
TZOFFSETFROM:-0600
TZOFFSETTO:-0700
TZNAME:America/Denver MST
END:STANDARD
BEGIN:STANDARD
DTSTART:20311102T010000
RDATE:20320314T030000
TZOFFSETFROM:-0600
TZOFFSETTO:-0700
TZNAME:America/Denver MST
END:STANDARD
BEGIN:STANDARD
DTSTART:20321107T010000
RDATE:20330313T030000
TZOFFSETFROM:-0600
TZOFFSETTO:-0700
TZNAME:America/Denver MST
END:STANDARD
BEGIN:STANDARD
DTSTART:20331106T010000
RDATE:20340312T030000
TZOFFSETFROM:-0600
TZOFFSETTO:-0700
TZNAME:America/Denver MST
END:STANDARD
BEGIN:STANDARD
DTSTART:20341105T010000
RDATE:20350311T030000
TZOFFSETFROM:-0600
TZOFFSETTO:-0700
TZNAME:America/Denver MST
END:STANDARD
BEGIN:STANDARD
DTSTART:20351104T010000
RDATE:20360309T030000
TZOFFSETFROM:-0600
TZOFFSETTO:-0700
TZNAME:America/Denver MST
END:STANDARD
BEGIN:STANDARD
DTSTART:20361102T010000
RDATE:20370308T030000
TZOFFSETFROM:-0600
TZOFFSETTO:-0700
TZNAME:America/Denver MST
END:STANDARD
BEGIN:STANDARD
DTSTART:20371101T010000
TZOFFSETFROM:-0600
TZOFFSETTO:-0700
TZNAME:America/Denver MST
END:STANDARD
BEGIN:DAYLIGHT
DTSTART:20130415T070000
RDATE:20131103T010000
TZOFFSETFROM:-0700
TZOFFSETTO:-0600
TZNAME:America/Denver MDT
END:DAYLIGHT
BEGIN:DAYLIGHT
DTSTART:20140309T030000
RDATE:20141102T010000
TZOFFSETFROM:-0700
TZOFFSETTO:-0600
TZNAME:America/Denver MDT
END:DAYLIGHT
BEGIN:DAYLIGHT
DTSTART:20150308T030000
RDATE:20151101T010000
TZOFFSETFROM:-0700
TZOFFSETTO:-0600
TZNAME:America/Denver MDT
END:DAYLIGHT
BEGIN:DAYLIGHT
DTSTART:20160313T030000
RDATE:20161106T010000
TZOFFSETFROM:-0700
TZOFFSETTO:-0600
TZNAME:America/Denver MDT
END:DAYLIGHT
BEGIN:DAYLIGHT
DTSTART:20170312T030000
RDATE:20171105T010000
TZOFFSETFROM:-0700
TZOFFSETTO:-0600
TZNAME:America/Denver MDT
END:DAYLIGHT
BEGIN:DAYLIGHT
DTSTART:20180311T030000
RDATE:20181104T010000
TZOFFSETFROM:-0700
TZOFFSETTO:-0600
TZNAME:America/Denver MDT
END:DAYLIGHT
BEGIN:DAYLIGHT
DTSTART:20190310T030000
RDATE:20191103T010000
TZOFFSETFROM:-0700
TZOFFSETTO:-0600
TZNAME:America/Denver MDT
END:DAYLIGHT
BEGIN:DAYLIGHT
DTSTART:20200308T030000
RDATE:20201101T010000
TZOFFSETFROM:-0700
TZOFFSETTO:-0600
TZNAME:America/Denver MDT
END:DAYLIGHT
BEGIN:DAYLIGHT
DTSTART:20210314T030000
RDATE:20211107T010000
TZOFFSETFROM:-0700
TZOFFSETTO:-0600
TZNAME:America/Denver MDT
END:DAYLIGHT
BEGIN:DAYLIGHT
DTSTART:20220313T030000
RDATE:20221106T010000
TZOFFSETFROM:-0700
TZOFFSETTO:-0600
TZNAME:America/Denver MDT
END:DAYLIGHT
BEGIN:DAYLIGHT
DTSTART:20230312T030000
RDATE:20231105T010000
TZOFFSETFROM:-0700
TZOFFSETTO:-0600
TZNAME:America/Denver MDT
END:DAYLIGHT
BEGIN:DAYLIGHT
DTSTART:20240310T030000
RDATE:20241103T010000
TZOFFSETFROM:-0700
TZOFFSETTO:-0600
TZNAME:America/Denver MDT
END:DAYLIGHT
BEGIN:DAYLIGHT
DTSTART:20250309T030000
RDATE:20251102T010000
TZOFFSETFROM:-0700
TZOFFSETTO:-0600
TZNAME:America/Denver MDT
END:DAYLIGHT
BEGIN:DAYLIGHT
DTSTART:20260308T030000
RDATE:20261101T010000
TZOFFSETFROM:-0700
TZOFFSETTO:-0600
TZNAME:America/Denver MDT
END:DAYLIGHT
BEGIN:DAYLIGHT
DTSTART:20270314T030000
RDATE:20271107T010000
TZOFFSETFROM:-0700
TZOFFSETTO:-0600
TZNAME:America/Denver MDT
END:DAYLIGHT
BEGIN:DAYLIGHT
DTSTART:20280312T030000
RDATE:20281105T010000
TZOFFSETFROM:-0700
TZOFFSETTO:-0600
TZNAME:America/Denver MDT
END:DAYLIGHT
BEGIN:DAYLIGHT
DTSTART:20290311T030000
RDATE:20291104T010000
TZOFFSETFROM:-0700
TZOFFSETTO:-0600
TZNAME:America/Denver MDT
END:DAYLIGHT
BEGIN:DAYLIGHT
DTSTART:20300310T030000
RDATE:20301103T010000
TZOFFSETFROM:-0700
TZOFFSETTO:-0600
TZNAME:America/Denver MDT
END:DAYLIGHT
BEGIN:DAYLIGHT
DTSTART:20310309T030000
RDATE:20311102T010000
TZOFFSETFROM:-0700
TZOFFSETTO:-0600
TZNAME:America/Denver MDT
END:DAYLIGHT
BEGIN:DAYLIGHT
DTSTART:20320314T030000
RDATE:20321107T010000
TZOFFSETFROM:-0700
TZOFFSETTO:-0600
TZNAME:America/Denver MDT
END:DAYLIGHT
BEGIN:DAYLIGHT
DTSTART:20330313T030000
RDATE:20331106T010000
TZOFFSETFROM:-0700
TZOFFSETTO:-0600
TZNAME:America/Denver MDT
END:DAYLIGHT
BEGIN:DAYLIGHT
DTSTART:20340312T030000
RDATE:20341105T010000
TZOFFSETFROM:-0700
TZOFFSETTO:-0600
TZNAME:America/Denver MDT
END:DAYLIGHT
BEGIN:DAYLIGHT
DTSTART:20350311T030000
RDATE:20351104T010000
TZOFFSETFROM:-0700
TZOFFSETTO:-0600
TZNAME:America/Denver MDT
END:DAYLIGHT
BEGIN:DAYLIGHT
DTSTART:20360309T030000
RDATE:20361102T010000
TZOFFSETFROM:-0700
TZOFFSETTO:-0600
TZNAME:America/Denver MDT
END:DAYLIGHT
BEGIN:DAYLIGHT
DTSTART:20370308T030000
RDATE:20371101T010000
TZOFFSETFROM:-0700
TZOFFSETTO:-0600
TZNAME:America/Denver MDT
END:DAYLIGHT
END:VTIMEZONE
BEGIN:VEVENT
UID:6971264a4a3810aa1d1d9a92e20d2fd8
CATEGORIES:LSDM
CREATED:20140403T171237
SUMMARY:Kathy Smith - LSDM Speaker 
DESCRIPTION:	 \n	Hat Tip.  Kilimanjaro 	 			Kathy Smith (born December 11, 1951)[2] (ht
 tps://en.wikipedia.org/wiki/Kathy_Smith_%28fitness_personality%29#cite_note
 -tribune-2) is a personal trainer (https://en.wikipedia.org/wiki/Personal_t
 rainer) who became well known for her workout videos during the late-1980s 
 and 1990s. She has sold over 16 million workout videos since 1980.[3] (http
 s://en.wikipedia.org/wiki/Kathy_Smith_%28fitness_personality%29#cite_note-a
 bc-3) Her exercise and nutrition program Project:You! Type 2 was created in
  association with the American Diabetes Association (https://en.wikipedia.o
 rg/wiki/American_Diabetes_Association) as a complete lifestyle system to he
 lp manage Type 2 diabetes (https://en.wikipedia.org/wiki/Type_2_diabetes).[
 4] (https://en.wikipedia.org/wiki/Kathy_Smith_%28fitness_personality%29#cit
 e_note-4)			Early life			Smith was born Arizona (https://en.wikipedia.org/w
 iki/Arizona), USA (https://en.wikipedia.org/wiki/USA). She's the daughter o
 f an Air Force pilot, and grew up in Brazil (https://en.wikipedia.org/wiki/
 Brazil), Alabama (https://en.wikipedia.org/wiki/Alabama), Hawaii (https://e
 n.wikipedia.org/wiki/Hawaii), Texas (https://en.wikipedia.org/wiki/Texas) a
 nd Illinois (https://en.wikipedia.org/wiki/Illinois).[1] When Smith was 17,
  her father died of a heart attack, and a year and a half later her mother 
 died in a plane crash. Following the loss of her parents, Smith began exerc
 ising to combat depression. Smith enrolled at the University of Hawaii (htt
 ps://en.wikipedia.org/wiki/University_of_Hawaii), and graduated with a degr
 ee in business administration.[5] (https://en.wikipedia.org/wiki/Kathy_Smit
 h_%28fitness_personality%29#cite_note-milwaukee-5)			 			Smith has stated t
 hat following the loss of her parents, and her sister's descent into substa
 nce abuse, she developed a wild lifestyle and feared her athlete boyfriend 
 might leave her; she took up running to be near him, and found it to be a l
 ife-changing experience. Smith was one of a few women to complete the Honol
 ulu marathon in 1975, and Runner's World magazine listed her as one of the 
 top 100 marathon runners in the country. Her fitness videos made her a mult
 i-millionaire by her mid thirties, and she has been awarded numerous accola
 des, including induction into the Video Hall of Fame. [6] (https://en.wikip
 edia.org/wiki/Kathy_Smith_%28fitness_personality%29#cite_note-OsborneWriter
 _Interview-6)			\n		Smith has two daughters.\n
X-ALT-DESC;FMTTYPE=text/html:<p>	 </p><div>	Hat Tip.  Kilimanjaro </div><div>	<font face="Calibri"> </fo
 nt>	<div dir="ltr">		<b>Kathy Smith</b> (born December 11, 1951)<sup class=
 "ecxreference" id="ecxcite_ref-tribune_2-0"><a href="https://en.wikipedia.o
 rg/wiki/Kathy_Smith_%28fitness_personality%29#cite_note-tribune-2" target="
 _blank" title="https://en.wikipedia.org/wiki/Kathy_Smith_(fitness_personali
 ty)#cite_note-tribune-2"><font color="#0072c6" size="2">[2]</font></a></sup
 > is a <a href="https://en.wikipedia.org/wiki/Personal_trainer" target="_bl
 ank" title="https://en.wikipedia.org/wiki/Personal_trainer"><font color="#0
 072c6">personal trainer</font></a> who became well known for her workout vi
 deos during the late-1980s and 1990s. She has sold over 16 million workout 
 videos since 1980.<sup class="ecxreference" id="ecxcite_ref-abc_3-0"><a hre
 f="https://en.wikipedia.org/wiki/Kathy_Smith_%28fitness_personality%29#cite
 _note-abc-3" target="_blank" title="https://en.wikipedia.org/wiki/Kathy_Smi
 th_(fitness_personality)#cite_note-abc-3"><font color="#0072c6" size="2">[3
 ]</font></a></sup> Her exercise and nutrition program <i>Project:You! Type 
 2</i> was created in association with the <a href="https://en.wikipedia.org
 /wiki/American_Diabetes_Association" target="_blank" title="https://en.wiki
 pedia.org/wiki/American_Diabetes_Association"><font color="#0072c6">America
 n Diabetes Association</font></a> as a complete lifestyle system to help ma
 nage <a class="ecxmw-redirect" href="https://en.wikipedia.org/wiki/Type_2_d
 iabetes" target="_blank" title="https://en.wikipedia.org/wiki/Type_2_diabet
 es"><font color="#0072c6">Type 2 diabetes</font></a>.<sup class="ecxreferen
 ce" id="ecxcite_ref-4"><a href="https://en.wikipedia.org/wiki/Kathy_Smith_%
 28fitness_personality%29#cite_note-4" target="_blank" title="https://en.wik
 ipedia.org/wiki/Kathy_Smith_(fitness_personality)#cite_note-4"><font color=
 "#0072c6" size="2">[4]</font></a></sup></div>	<h2 dir="ltr">		<span class="
 ecxmw-headline" id="ecxEarly_life">Early life</span></h2>	<div dir="ltr">		
 Smith was born <a href="https://en.wikipedia.org/wiki/Arizona" target="_bla
 nk" title="https://en.wikipedia.org/wiki/Arizona"><font color="#0072c6">Ari
 zona</font></a>, <a class="ecxmw-redirect" href="https://en.wikipedia.org/w
 iki/USA" target="_blank" title="https://en.wikipedia.org/wiki/USA"><font co
 lor="#0072c6">USA</font></a>. She's the daughter of an Air Force pilot, and
  grew up in <a href="https://en.wikipedia.org/wiki/Brazil" target="_blank" 
 title="https://en.wikipedia.org/wiki/Brazil"><font color="#0072c6">Brazil</
 font></a>, <a href="https://en.wikipedia.org/wiki/Alabama" target="_blank" 
 title="https://en.wikipedia.org/wiki/Alabama"><font color="#0072c6">Alabama
 </font></a>, <a href="https://en.wikipedia.org/wiki/Hawaii" target="_blank"
  title="https://en.wikipedia.org/wiki/Hawaii"><font color="#0072c6">Hawaii<
 /font></a>, <a href="https://en.wikipedia.org/wiki/Texas" target="_blank" t
 itle="https://en.wikipedia.org/wiki/Texas"><font color="#0072c6">Texas</fon
 t></a> and <a href="https://en.wikipedia.org/wiki/Illinois" target="_blank"
  title="https://en.wikipedia.org/wiki/Illinois"><font color="#0072c6">Illin
 ois</font></a>.<sup class="ecxreference" id="ecxcite_ref-bocanews_1-1"><a h
 ref="https://en.wikipedia.org/wiki/Kathy_Smith_%28fitness_personality%29#ci
 te_note-bocanews-1" target="_blank" title="https://en.wikipedia.org/wiki/Ka
 thy_Smith_(fitness_personality)#cite_note-bocanews-1"><font color="#0072c6"
  size="2">[1]</font></a></sup> When Smith was 17, her father died of a hear
 t attack, and a year and a half later her mother died in a plane crash. Fol
 lowing the loss of her parents, Smith began exercising to combat depression
 . Smith enrolled at the <a href="https://en.wikipedia.org/wiki/University_o
 f_Hawaii" target="_blank" title="https://en.wikipedia.org/wiki/University_o
 f_Hawaii"><font color="#0072c6">University of Hawaii</font></a>, and gradua
 ted with a degree in business administration.<sup class="ecxreference" id="
 ecxcite_ref-milwaukee_5-0"><a href="https://en.wikipedia.org/wiki/Kathy_Smi
 th_%28fitness_personality%29#cite_note-milwaukee-5" target="_blank" title="
 https://en.wikipedia.org/wiki/Kathy_Smith_(fitness_personality)#cite_note-m
 ilwaukee-5"><font color="#0072c6" size="2">[5]</font></a></sup></div>	<div 
 dir="ltr">		 </div>	<div dir="ltr">		Smith has stated that following the lo
 ss of her parents, and her sister's descent into substance abuse, she devel
 oped a wild lifestyle and feared her athlete boyfriend might leave her; she
  took up running to be near him, and found it to be a life-changing experie
 nce. Smith was one of a few women to complete the Honolulu marathon in 1975
 , and Runner's World magazine listed her as one of the top 100 marathon run
 ners in the country. Her fitness videos made her a multi-millionaire by her
  mid thirties, and she has been awarded numerous accolades, including induc
 tion into the Video Hall of Fame. <sup class="ecxreference" id="ecxcite_ref
 -OsborneWriter_Interview_6-0"><a href="https://en.wikipedia.org/wiki/Kathy_
 Smith_%28fitness_personality%29#cite_note-OsborneWriter_Interview-6" target
 ="_blank" title="https://en.wikipedia.org/wiki/Kathy_Smith_(fitness_persona
 lity)#cite_note-OsborneWriter_Interview-6"><font color="#0072c6" size="2">[
 6]</font></a></sup></div>	<div dir="ltr">		<br />		Smith has two daughters.
 </div></div><br />
DTSTAMP:20260424T122614
DTSTART;TZID=America/Denver:20140416T070000
DTEND;TZID=America/Denver:20140416T080000
SEQUENCE:0
TRANSP:OPAQUE
END:VEVENT
END:VCALENDAR