BEGIN:VCALENDAR
VERSION:2.0
PRODID:-//jEvents 2.0 for Joomla//EN
CALSCALE:GREGORIAN
METHOD:PUBLISH
BEGIN:VTIMEZONE
TZID:America/Denver
BEGIN:STANDARD
DTSTART:20241103T010000
RDATE:20250309T030000
TZOFFSETFROM:-0600
TZOFFSETTO:-0700
TZNAME:America/Denver MST
END:STANDARD
BEGIN:STANDARD
DTSTART:20251102T010000
RDATE:20260308T030000
TZOFFSETFROM:-0600
TZOFFSETTO:-0700
TZNAME:America/Denver MST
END:STANDARD
BEGIN:STANDARD
DTSTART:20261101T010000
RDATE:20270314T030000
TZOFFSETFROM:-0600
TZOFFSETTO:-0700
TZNAME:America/Denver MST
END:STANDARD
BEGIN:STANDARD
DTSTART:20271107T010000
RDATE:20280312T030000
TZOFFSETFROM:-0600
TZOFFSETTO:-0700
TZNAME:America/Denver MST
END:STANDARD
BEGIN:STANDARD
DTSTART:20281105T010000
RDATE:20290311T030000
TZOFFSETFROM:-0600
TZOFFSETTO:-0700
TZNAME:America/Denver MST
END:STANDARD
BEGIN:STANDARD
DTSTART:20291104T010000
RDATE:20300310T030000
TZOFFSETFROM:-0600
TZOFFSETTO:-0700
TZNAME:America/Denver MST
END:STANDARD
BEGIN:STANDARD
DTSTART:20301103T010000
RDATE:20310309T030000
TZOFFSETFROM:-0600
TZOFFSETTO:-0700
TZNAME:America/Denver MST
END:STANDARD
BEGIN:STANDARD
DTSTART:20311102T010000
RDATE:20320314T030000
TZOFFSETFROM:-0600
TZOFFSETTO:-0700
TZNAME:America/Denver MST
END:STANDARD
BEGIN:STANDARD
DTSTART:20321107T010000
RDATE:20330313T030000
TZOFFSETFROM:-0600
TZOFFSETTO:-0700
TZNAME:America/Denver MST
END:STANDARD
BEGIN:STANDARD
DTSTART:20331106T010000
RDATE:20340312T030000
TZOFFSETFROM:-0600
TZOFFSETTO:-0700
TZNAME:America/Denver MST
END:STANDARD
BEGIN:STANDARD
DTSTART:20341105T010000
RDATE:20350311T030000
TZOFFSETFROM:-0600
TZOFFSETTO:-0700
TZNAME:America/Denver MST
END:STANDARD
BEGIN:STANDARD
DTSTART:20351104T010000
RDATE:20360309T030000
TZOFFSETFROM:-0600
TZOFFSETTO:-0700
TZNAME:America/Denver MST
END:STANDARD
BEGIN:STANDARD
DTSTART:20361102T010000
RDATE:20370308T030000
TZOFFSETFROM:-0600
TZOFFSETTO:-0700
TZNAME:America/Denver MST
END:STANDARD
BEGIN:STANDARD
DTSTART:20371101T010000
TZOFFSETFROM:-0600
TZOFFSETTO:-0700
TZNAME:America/Denver MST
END:STANDARD
BEGIN:DAYLIGHT
DTSTART:20240414T070000
RDATE:20241103T010000
TZOFFSETFROM:-0700
TZOFFSETTO:-0600
TZNAME:America/Denver MDT
END:DAYLIGHT
BEGIN:DAYLIGHT
DTSTART:20250309T030000
RDATE:20251102T010000
TZOFFSETFROM:-0700
TZOFFSETTO:-0600
TZNAME:America/Denver MDT
END:DAYLIGHT
BEGIN:DAYLIGHT
DTSTART:20260308T030000
RDATE:20261101T010000
TZOFFSETFROM:-0700
TZOFFSETTO:-0600
TZNAME:America/Denver MDT
END:DAYLIGHT
BEGIN:DAYLIGHT
DTSTART:20270314T030000
RDATE:20271107T010000
TZOFFSETFROM:-0700
TZOFFSETTO:-0600
TZNAME:America/Denver MDT
END:DAYLIGHT
BEGIN:DAYLIGHT
DTSTART:20280312T030000
RDATE:20281105T010000
TZOFFSETFROM:-0700
TZOFFSETTO:-0600
TZNAME:America/Denver MDT
END:DAYLIGHT
BEGIN:DAYLIGHT
DTSTART:20290311T030000
RDATE:20291104T010000
TZOFFSETFROM:-0700
TZOFFSETTO:-0600
TZNAME:America/Denver MDT
END:DAYLIGHT
BEGIN:DAYLIGHT
DTSTART:20300310T030000
RDATE:20301103T010000
TZOFFSETFROM:-0700
TZOFFSETTO:-0600
TZNAME:America/Denver MDT
END:DAYLIGHT
BEGIN:DAYLIGHT
DTSTART:20310309T030000
RDATE:20311102T010000
TZOFFSETFROM:-0700
TZOFFSETTO:-0600
TZNAME:America/Denver MDT
END:DAYLIGHT
BEGIN:DAYLIGHT
DTSTART:20320314T030000
RDATE:20321107T010000
TZOFFSETFROM:-0700
TZOFFSETTO:-0600
TZNAME:America/Denver MDT
END:DAYLIGHT
BEGIN:DAYLIGHT
DTSTART:20330313T030000
RDATE:20331106T010000
TZOFFSETFROM:-0700
TZOFFSETTO:-0600
TZNAME:America/Denver MDT
END:DAYLIGHT
BEGIN:DAYLIGHT
DTSTART:20340312T030000
RDATE:20341105T010000
TZOFFSETFROM:-0700
TZOFFSETTO:-0600
TZNAME:America/Denver MDT
END:DAYLIGHT
BEGIN:DAYLIGHT
DTSTART:20350311T030000
RDATE:20351104T010000
TZOFFSETFROM:-0700
TZOFFSETTO:-0600
TZNAME:America/Denver MDT
END:DAYLIGHT
BEGIN:DAYLIGHT
DTSTART:20360309T030000
RDATE:20361102T010000
TZOFFSETFROM:-0700
TZOFFSETTO:-0600
TZNAME:America/Denver MDT
END:DAYLIGHT
BEGIN:DAYLIGHT
DTSTART:20370308T030000
RDATE:20371101T010000
TZOFFSETFROM:-0700
TZOFFSETTO:-0600
TZNAME:America/Denver MDT
END:DAYLIGHT
END:VTIMEZONE
BEGIN:VEVENT
UID:a6aa6cfea104e477843036dfac4876c0
CATEGORIES:LSDM
CREATED:20250325T143517
SUMMARY:Professor Walter Block - On tariffs and taxes
DESCRIPTION:Professor Block is the author of Tariffs Are Awful, but the Income Tax May 
 Be Worse (https://fee.org/articles/tariffs-are-awful-but-the-income-tax-may
 -be-worse/ (https://fee.org/articles/tariffs-are-awful-but-the-income-tax-m
 ay-be-worse/)).  He will address the potential role of tariffs with exquisi
 te timing on Tax Day, 2025.\nWalter Block is the Harold E. Wirth Eminent Sc
 holar Chair in Economics in the College of Business at Loyola University, N
 ew Orleans. He is also an Adjunct Scholar at the Mises Institute and the Ho
 over Institute.\nWalter Block is the author of over two dozen books. His mo
 st famous one, Defending the Undefendable (1976) – has been translated into
  over a dozen foreign languages. He has authored or co-authored Maturity Mi
 smatching: Is this a legitimate banking practice? (2020), Property Rights: 
 The Argument for Privatization (2019), Philosophy of Law: The Supreme Court
 's Non- Use of Libertarian Law (2019), Space capitalism: the case for priva
 tizing space travel and colonization (2019), An Austro-Libertarian Critique
  of Public Choice (2017), Essays in Austrian Economics (2017), Water Capita
 lism: The Case for Privatizing Oceans, Rivers, Lakes, and Aquifers (2015), 
 Toward a Libertarian Society (2014), Legalize Blackmail (2013), Defending t
 he Undefendable II (2013), Religion, Economics and Politics (2013), and Yes
  to Ron Paul and Liberty (2013).\n
X-ALT-DESC;FMTTYPE=text/html:<p>Professor Block is the author of&nbsp;<span style="font-family: arial, h
 elvetica, sans-serif; font-size: 10pt;"><strong>Tariffs Are Awful, but the 
 Income Tax May Be Worse</strong> (<a href="https://fee.org/articles/tariffs
 -are-awful-but-the-income-tax-may-be-worse/">https://fee.org/articles/tarif
 fs-are-awful-but-the-income-tax-may-be-worse/</a>). &nbsp;He will address t
 he potential role of tariffs with exquisite timing on Tax Day, 2025.</span>
 </p><p>Walter Block is the Harold E. Wirth Eminent Scholar Chair in Economi
 cs in the College of Business at Loyola University, New Orleans. He is also
  an Adjunct Scholar at the Mises Institute and the Hoover Institute.</p><p>
 Walter Block is the author of over two dozen books. His most famous one, De
 fending the Undefendable (1976) – has been translated into over a dozen for
 eign languages. He has authored or co-authored Maturity Mismatching: Is thi
 s a legitimate banking practice? (2020), Property Rights: The Argument for 
 Privatization (2019), Philosophy of Law: The Supreme Court's Non- Use of Li
 bertarian Law (2019), Space capitalism: the case for privatizing space trav
 el and colonization (2019), An Austro-Libertarian Critique of Public Choice
  (2017), Essays in Austrian Economics (2017), Water Capitalism: The Case fo
 r Privatizing Oceans, Rivers, Lakes, and Aquifers (2015), Toward a Libertar
 ian Society (2014), Legalize Blackmail (2013), Defending the Undefendable I
 I (2013), Religion, Economics and Politics (2013), and Yes to Ron Paul and 
 Liberty (2013).</p>
DTSTAMP:20260421T150607
DTSTART;TZID=America/Denver:20250415T070000
DTEND;TZID=America/Denver:20250415T080000
SEQUENCE:0
TRANSP:OPAQUE
END:VEVENT
END:VCALENDAR