BEGIN:VCALENDAR
VERSION:2.0
PRODID:-//jEvents 2.0 for Joomla//EN
CALSCALE:GREGORIAN
METHOD:PUBLISH
BEGIN:VTIMEZONE
TZID:America/Denver
BEGIN:STANDARD
DTSTART:20171105T010000
RDATE:20180311T030000
TZOFFSETFROM:-0600
TZOFFSETTO:-0700
TZNAME:America/Denver MST
END:STANDARD
BEGIN:STANDARD
DTSTART:20181104T010000
RDATE:20190310T030000
TZOFFSETFROM:-0600
TZOFFSETTO:-0700
TZNAME:America/Denver MST
END:STANDARD
BEGIN:STANDARD
DTSTART:20191103T010000
RDATE:20200308T030000
TZOFFSETFROM:-0600
TZOFFSETTO:-0700
TZNAME:America/Denver MST
END:STANDARD
BEGIN:STANDARD
DTSTART:20201101T010000
RDATE:20210314T030000
TZOFFSETFROM:-0600
TZOFFSETTO:-0700
TZNAME:America/Denver MST
END:STANDARD
BEGIN:STANDARD
DTSTART:20211107T010000
RDATE:20220313T030000
TZOFFSETFROM:-0600
TZOFFSETTO:-0700
TZNAME:America/Denver MST
END:STANDARD
BEGIN:STANDARD
DTSTART:20221106T010000
RDATE:20230312T030000
TZOFFSETFROM:-0600
TZOFFSETTO:-0700
TZNAME:America/Denver MST
END:STANDARD
BEGIN:STANDARD
DTSTART:20231105T010000
RDATE:20240310T030000
TZOFFSETFROM:-0600
TZOFFSETTO:-0700
TZNAME:America/Denver MST
END:STANDARD
BEGIN:STANDARD
DTSTART:20241103T010000
RDATE:20250309T030000
TZOFFSETFROM:-0600
TZOFFSETTO:-0700
TZNAME:America/Denver MST
END:STANDARD
BEGIN:STANDARD
DTSTART:20251102T010000
RDATE:20260308T030000
TZOFFSETFROM:-0600
TZOFFSETTO:-0700
TZNAME:America/Denver MST
END:STANDARD
BEGIN:STANDARD
DTSTART:20261101T010000
RDATE:20270314T030000
TZOFFSETFROM:-0600
TZOFFSETTO:-0700
TZNAME:America/Denver MST
END:STANDARD
BEGIN:STANDARD
DTSTART:20271107T010000
RDATE:20280312T030000
TZOFFSETFROM:-0600
TZOFFSETTO:-0700
TZNAME:America/Denver MST
END:STANDARD
BEGIN:STANDARD
DTSTART:20281105T010000
RDATE:20290311T030000
TZOFFSETFROM:-0600
TZOFFSETTO:-0700
TZNAME:America/Denver MST
END:STANDARD
BEGIN:STANDARD
DTSTART:20291104T010000
RDATE:20300310T030000
TZOFFSETFROM:-0600
TZOFFSETTO:-0700
TZNAME:America/Denver MST
END:STANDARD
BEGIN:STANDARD
DTSTART:20301103T010000
RDATE:20310309T030000
TZOFFSETFROM:-0600
TZOFFSETTO:-0700
TZNAME:America/Denver MST
END:STANDARD
BEGIN:STANDARD
DTSTART:20311102T010000
RDATE:20320314T030000
TZOFFSETFROM:-0600
TZOFFSETTO:-0700
TZNAME:America/Denver MST
END:STANDARD
BEGIN:STANDARD
DTSTART:20321107T010000
RDATE:20330313T030000
TZOFFSETFROM:-0600
TZOFFSETTO:-0700
TZNAME:America/Denver MST
END:STANDARD
BEGIN:STANDARD
DTSTART:20331106T010000
RDATE:20340312T030000
TZOFFSETFROM:-0600
TZOFFSETTO:-0700
TZNAME:America/Denver MST
END:STANDARD
BEGIN:STANDARD
DTSTART:20341105T010000
RDATE:20350311T030000
TZOFFSETFROM:-0600
TZOFFSETTO:-0700
TZNAME:America/Denver MST
END:STANDARD
BEGIN:STANDARD
DTSTART:20351104T010000
RDATE:20360309T030000
TZOFFSETFROM:-0600
TZOFFSETTO:-0700
TZNAME:America/Denver MST
END:STANDARD
BEGIN:STANDARD
DTSTART:20361102T010000
RDATE:20370308T030000
TZOFFSETFROM:-0600
TZOFFSETTO:-0700
TZNAME:America/Denver MST
END:STANDARD
BEGIN:STANDARD
DTSTART:20371101T010000
TZOFFSETFROM:-0600
TZOFFSETTO:-0700
TZNAME:America/Denver MST
END:STANDARD
BEGIN:DAYLIGHT
DTSTART:20171015T070000
RDATE:20171105T010000
TZOFFSETFROM:-0700
TZOFFSETTO:-0600
TZNAME:America/Denver MDT
END:DAYLIGHT
BEGIN:DAYLIGHT
DTSTART:20180311T030000
RDATE:20181104T010000
TZOFFSETFROM:-0700
TZOFFSETTO:-0600
TZNAME:America/Denver MDT
END:DAYLIGHT
BEGIN:DAYLIGHT
DTSTART:20190310T030000
RDATE:20191103T010000
TZOFFSETFROM:-0700
TZOFFSETTO:-0600
TZNAME:America/Denver MDT
END:DAYLIGHT
BEGIN:DAYLIGHT
DTSTART:20200308T030000
RDATE:20201101T010000
TZOFFSETFROM:-0700
TZOFFSETTO:-0600
TZNAME:America/Denver MDT
END:DAYLIGHT
BEGIN:DAYLIGHT
DTSTART:20210314T030000
RDATE:20211107T010000
TZOFFSETFROM:-0700
TZOFFSETTO:-0600
TZNAME:America/Denver MDT
END:DAYLIGHT
BEGIN:DAYLIGHT
DTSTART:20220313T030000
RDATE:20221106T010000
TZOFFSETFROM:-0700
TZOFFSETTO:-0600
TZNAME:America/Denver MDT
END:DAYLIGHT
BEGIN:DAYLIGHT
DTSTART:20230312T030000
RDATE:20231105T010000
TZOFFSETFROM:-0700
TZOFFSETTO:-0600
TZNAME:America/Denver MDT
END:DAYLIGHT
BEGIN:DAYLIGHT
DTSTART:20240310T030000
RDATE:20241103T010000
TZOFFSETFROM:-0700
TZOFFSETTO:-0600
TZNAME:America/Denver MDT
END:DAYLIGHT
BEGIN:DAYLIGHT
DTSTART:20250309T030000
RDATE:20251102T010000
TZOFFSETFROM:-0700
TZOFFSETTO:-0600
TZNAME:America/Denver MDT
END:DAYLIGHT
BEGIN:DAYLIGHT
DTSTART:20260308T030000
RDATE:20261101T010000
TZOFFSETFROM:-0700
TZOFFSETTO:-0600
TZNAME:America/Denver MDT
END:DAYLIGHT
BEGIN:DAYLIGHT
DTSTART:20270314T030000
RDATE:20271107T010000
TZOFFSETFROM:-0700
TZOFFSETTO:-0600
TZNAME:America/Denver MDT
END:DAYLIGHT
BEGIN:DAYLIGHT
DTSTART:20280312T030000
RDATE:20281105T010000
TZOFFSETFROM:-0700
TZOFFSETTO:-0600
TZNAME:America/Denver MDT
END:DAYLIGHT
BEGIN:DAYLIGHT
DTSTART:20290311T030000
RDATE:20291104T010000
TZOFFSETFROM:-0700
TZOFFSETTO:-0600
TZNAME:America/Denver MDT
END:DAYLIGHT
BEGIN:DAYLIGHT
DTSTART:20300310T030000
RDATE:20301103T010000
TZOFFSETFROM:-0700
TZOFFSETTO:-0600
TZNAME:America/Denver MDT
END:DAYLIGHT
BEGIN:DAYLIGHT
DTSTART:20310309T030000
RDATE:20311102T010000
TZOFFSETFROM:-0700
TZOFFSETTO:-0600
TZNAME:America/Denver MDT
END:DAYLIGHT
BEGIN:DAYLIGHT
DTSTART:20320314T030000
RDATE:20321107T010000
TZOFFSETFROM:-0700
TZOFFSETTO:-0600
TZNAME:America/Denver MDT
END:DAYLIGHT
BEGIN:DAYLIGHT
DTSTART:20330313T030000
RDATE:20331106T010000
TZOFFSETFROM:-0700
TZOFFSETTO:-0600
TZNAME:America/Denver MDT
END:DAYLIGHT
BEGIN:DAYLIGHT
DTSTART:20340312T030000
RDATE:20341105T010000
TZOFFSETFROM:-0700
TZOFFSETTO:-0600
TZNAME:America/Denver MDT
END:DAYLIGHT
BEGIN:DAYLIGHT
DTSTART:20350311T030000
RDATE:20351104T010000
TZOFFSETFROM:-0700
TZOFFSETTO:-0600
TZNAME:America/Denver MDT
END:DAYLIGHT
BEGIN:DAYLIGHT
DTSTART:20360309T030000
RDATE:20361102T010000
TZOFFSETFROM:-0700
TZOFFSETTO:-0600
TZNAME:America/Denver MDT
END:DAYLIGHT
BEGIN:DAYLIGHT
DTSTART:20370308T030000
RDATE:20371101T010000
TZOFFSETFROM:-0700
TZOFFSETTO:-0600
TZNAME:America/Denver MDT
END:DAYLIGHT
END:VTIMEZONE
BEGIN:VEVENT
UID:9af34854452d17e70f1e276fa7d45ba7
CATEGORIES:LSDM
CREATED:20181010T083741
SUMMARY:Josh Mann
DESCRIPTION:<p>	&nbsp;</p><p>	Candidate (write in) for Summit&nbsp;<span style="font-fa
 mily: Arial, sans-serif; font-size: 13.3333px;">Thanks Steve.</span></p><di
 v style="font-family: Arial, sans-serif; font-size: 13.3333px;">	&nbsp;</di
 v><div style="font-family: Arial, sans-serif; font-size: 13.3333px;">	Here 
 is my background from my website:</div><div style="font-family: Arial, sans
 -serif; font-size: 13.3333px;">	&nbsp;</div><div style="font-family: Arial,
  sans-serif; font-size: 13.3333px;">	**************************************
 ********</div><div style="font-family: Arial, sans-serif; font-size: 13.333
 3px;">	&nbsp;</div><div style="font-family: Arial, sans-serif; font-size: 1
 3.3333px;">	Hi I&rsquo;m Josh. I am fiscally conservative and socially libe
 ral. I&rsquo;m probably what you&rsquo;d call an independent.</div><div sty
 le="font-family: Arial, sans-serif; font-size: 13.3333px;">	&nbsp;</div><di
 v style="font-family: Arial, sans-serif; font-size: 13.3333px;">	In 2012 I 
 began following local politics closely. I strongly disagreed with the chang
 es that were allowed at Kimball Junction &mdash; they lacked walkability an
 d obstructed the mountain views. I wanted to understand how these decisions
  were made and wanted to share that knowledge with others. I began filming 
 Summit County Meetings and posting them online for over two years. I then c
 reated The Park Rag website to provide coverage and commentary of all local
  politics. The Park Rag focuses on citizen journalism. I wanted to provide 
 an avenue for normal citizens to express their viewpoints.</div><div style=
 "font-family: Arial, sans-serif; font-size: 13.3333px;">	&nbsp;</div><div s
 tyle="font-family: Arial, sans-serif; font-size: 13.3333px;">	My day job is
  as Chief Strategist for International Financial Services &mdash; a softwar
 e development company. That requires me to be both logical and creative &md
 ash; two attributes I believe are critical for the Summit County Council.</
 div><div style="font-family: Arial, sans-serif; font-size: 13.3333px;">	&nb
 sp;</div><div style="font-family: Arial, sans-serif; font-size: 13.3333px;"
 >	I absolutely love Summit County. I have two small children and plan to li
 ve here for decades to come. I want to ensure that that the 2030 and 2040 v
 ersions of Summit County are as great as they are now.</div><div style="fon
 t-family: Arial, sans-serif; font-size: 13.3333px;">	&nbsp;</div><div style
 ="font-family: Arial, sans-serif; font-size: 13.3333px;">	With your help, I
  think we can preserve what we love about our county and make this a better
  place for decades to come.</div><div style="font-family: Arial, sans-serif
 ; font-size: 13.3333px;">	&nbsp;</div><div style="font-family: Arial, sans-
 serif; font-size: 13.3333px;">	&nbsp;</div><div style="font-family: Arial, 
 sans-serif; font-size: 13.3333px;">	***************************************
 ******</div><div style="font-family: Arial, sans-serif; font-size: 13.3333p
 x;">	&nbsp;</div><div style="font-family: Arial, sans-serif; font-size: 13.
 3333px;">	My platform is focused on a few key concepts:</div><div style="fo
 nt-family: Arial, sans-serif; font-size: 13.3333px;">	&nbsp;</div><div styl
 e="font-family: Arial, sans-serif; font-size: 13.3333px;">	Slow development
 : &nbsp;I am worried that Summit County plans to take open spaces around th
 e Basin and use them for development. An example is the Cline Dahle parcel 
 that sits between Jeremy Ranch Elementary School and the Burt Brothers. The
  County bought the land to develop, and it looks like they will put between
  700 and 900 apartments, 10K-15K sq feet of retail space, and 600 parking s
 paces on the property. The General Plan outlines many of these types of are
 as across the basin where the county wants to develop land further.</div><d
 iv style="font-family: Arial, sans-serif; font-size: 13.3333px;">	Better Co
 mmunication: Right now we don&rsquo;t receive enough warning to affect chan
 ge on issues facing Summit County. For instance, the Kilby Road project by 
 I-80 was being painted when the first complaints from community members sta
 rted flowing in. At that point it was too late to make changes to what turn
 ed out to be a very controversial design. I believe the county council has 
 a role to play in this. Currently, I have started producing a weekly newsle
 tter called The Bull Moose that highlights issues coming up, with the hope 
 people can affect change. If elected I want to do weekly online chats in th
 e evenings with the community to listen to issues people are bringing up an
 d communicate more effectively. I also want to meet regularly at coffee sho
 ps across the county to talk issues.</div><div style="font-family: Arial, s
 ans-serif; font-size: 13.3333px;">	Transportation: I believe the county has
  focused much of our resources on buses. While they work in some places and
  at some specific times, I don&rsquo;t think they generally work for a larg
 e segment ion our community. I would like Summit County to organize a group
 -buy of e-bikes to try and enable e-bikes to be cheap enough to get them in
 to our garages. I would want to look at expanding our paved trails and plow
 ing a percentage in the winter &mdash; so we can use them more as a transpo
 rtation network. I think we are a community of outdoor people. I believe th
 e more we use our trails for transportation, the more we will enjoy living 
 and working here. I would also like to look at getting buses into our neigh
 borhoods for specific activities. For example, I would like to see ski buse
 s/vans that people could reserve a ride on from their neighborhood directly
  to a lift at the resort. I want to make it easy for people to take the bus
 .&nbsp;</div><div style="font-family: Arial, sans-serif; font-size: 13.3333
 px;">	Education: I am planning on donating the first three years of my sala
 ry to educational foundations for the three school districts, Park City, No
 rth Summit, and South Summit. I look at being a member of the County Counci
 l as a service. While it would only be about $35,000 each year, I think tha
 t could do some good.</div><div style="font-family: Arial, sans-serif; font
 -size: 13.3333px;">	&nbsp;</div><div style="font-family: Arial, sans-serif;
  font-size: 13.3333px;">	*****************************************</div><di
 v style="font-family: Arial, sans-serif; font-size: 13.3333px;">	&nbsp;</di
 v><div style="font-family: Arial, sans-serif; font-size: 13.3333px;">	Anyho
 w, I hope that provides some background (probably too much)&hellip; but if 
 I can provide something different, please let me know.</div><div style="fon
 t-family: Arial, sans-serif; font-size: 13.3333px;">	&nbsp;</div><div style
 ="font-family: Arial, sans-serif; font-size: 13.3333px;">	Also, should I pr
 epare anything to present on a screen or will it be mostly a discussion? I 
 just want to make sure I provide folks what they are looking for.</div><div
  style="font-family: Arial, sans-serif; font-size: 13.3333px;">	&nbsp;</div
 ><div style="font-family: Arial, sans-serif; font-size: 13.3333px;">	Thanks
  again for the opportunity,</div><div style="font-family: Arial, sans-serif
 ; font-size: 13.3333px;">	&nbsp;</div><div style="font-family: Arial, sans-
 serif; font-size: 13.3333px;">	Josh</div><div style="font-family: Arial, sa
 ns-serif; font-size: 13.3333px;">	<blockquote>		<div>			&nbsp;</div>	</bloc
 kquote></div>
DTSTAMP:20260423T063439
DTSTART;TZID=America/Denver:20181016T070000
DTEND;TZID=America/Denver:20181016T080000
SEQUENCE:0
TRANSP:OPAQUE
END:VEVENT
END:VCALENDAR