BEGIN:VCALENDAR
VERSION:2.0
PRODID:-//jEvents 2.0 for Joomla//EN
CALSCALE:GREGORIAN
METHOD:PUBLISH
BEGIN:VTIMEZONE
TZID:America/Denver
BEGIN:STANDARD
DTSTART:20180129T070000
RDATE:20180311T030000
TZOFFSETFROM:-0600
TZOFFSETTO:-0700
TZNAME:America/Denver MST
END:STANDARD
BEGIN:STANDARD
DTSTART:20181104T010000
RDATE:20190310T030000
TZOFFSETFROM:-0600
TZOFFSETTO:-0700
TZNAME:America/Denver MST
END:STANDARD
BEGIN:STANDARD
DTSTART:20191103T010000
RDATE:20200308T030000
TZOFFSETFROM:-0600
TZOFFSETTO:-0700
TZNAME:America/Denver MST
END:STANDARD
BEGIN:STANDARD
DTSTART:20201101T010000
RDATE:20210314T030000
TZOFFSETFROM:-0600
TZOFFSETTO:-0700
TZNAME:America/Denver MST
END:STANDARD
BEGIN:STANDARD
DTSTART:20211107T010000
RDATE:20220313T030000
TZOFFSETFROM:-0600
TZOFFSETTO:-0700
TZNAME:America/Denver MST
END:STANDARD
BEGIN:STANDARD
DTSTART:20221106T010000
RDATE:20230312T030000
TZOFFSETFROM:-0600
TZOFFSETTO:-0700
TZNAME:America/Denver MST
END:STANDARD
BEGIN:STANDARD
DTSTART:20231105T010000
RDATE:20240310T030000
TZOFFSETFROM:-0600
TZOFFSETTO:-0700
TZNAME:America/Denver MST
END:STANDARD
BEGIN:STANDARD
DTSTART:20241103T010000
RDATE:20250309T030000
TZOFFSETFROM:-0600
TZOFFSETTO:-0700
TZNAME:America/Denver MST
END:STANDARD
BEGIN:STANDARD
DTSTART:20251102T010000
RDATE:20260308T030000
TZOFFSETFROM:-0600
TZOFFSETTO:-0700
TZNAME:America/Denver MST
END:STANDARD
BEGIN:STANDARD
DTSTART:20261101T010000
RDATE:20270314T030000
TZOFFSETFROM:-0600
TZOFFSETTO:-0700
TZNAME:America/Denver MST
END:STANDARD
BEGIN:STANDARD
DTSTART:20271107T010000
RDATE:20280312T030000
TZOFFSETFROM:-0600
TZOFFSETTO:-0700
TZNAME:America/Denver MST
END:STANDARD
BEGIN:STANDARD
DTSTART:20281105T010000
RDATE:20290311T030000
TZOFFSETFROM:-0600
TZOFFSETTO:-0700
TZNAME:America/Denver MST
END:STANDARD
BEGIN:STANDARD
DTSTART:20291104T010000
RDATE:20300310T030000
TZOFFSETFROM:-0600
TZOFFSETTO:-0700
TZNAME:America/Denver MST
END:STANDARD
BEGIN:STANDARD
DTSTART:20301103T010000
RDATE:20310309T030000
TZOFFSETFROM:-0600
TZOFFSETTO:-0700
TZNAME:America/Denver MST
END:STANDARD
BEGIN:STANDARD
DTSTART:20311102T010000
RDATE:20320314T030000
TZOFFSETFROM:-0600
TZOFFSETTO:-0700
TZNAME:America/Denver MST
END:STANDARD
BEGIN:STANDARD
DTSTART:20321107T010000
RDATE:20330313T030000
TZOFFSETFROM:-0600
TZOFFSETTO:-0700
TZNAME:America/Denver MST
END:STANDARD
BEGIN:STANDARD
DTSTART:20331106T010000
RDATE:20340312T030000
TZOFFSETFROM:-0600
TZOFFSETTO:-0700
TZNAME:America/Denver MST
END:STANDARD
BEGIN:STANDARD
DTSTART:20341105T010000
RDATE:20350311T030000
TZOFFSETFROM:-0600
TZOFFSETTO:-0700
TZNAME:America/Denver MST
END:STANDARD
BEGIN:STANDARD
DTSTART:20351104T010000
RDATE:20360309T030000
TZOFFSETFROM:-0600
TZOFFSETTO:-0700
TZNAME:America/Denver MST
END:STANDARD
BEGIN:STANDARD
DTSTART:20361102T010000
RDATE:20370308T030000
TZOFFSETFROM:-0600
TZOFFSETTO:-0700
TZNAME:America/Denver MST
END:STANDARD
BEGIN:STANDARD
DTSTART:20371101T010000
TZOFFSETFROM:-0600
TZOFFSETTO:-0700
TZNAME:America/Denver MST
END:STANDARD
BEGIN:DAYLIGHT
DTSTART:20180311T030000
RDATE:20181104T010000
TZOFFSETFROM:-0700
TZOFFSETTO:-0600
TZNAME:America/Denver MDT
END:DAYLIGHT
BEGIN:DAYLIGHT
DTSTART:20190310T030000
RDATE:20191103T010000
TZOFFSETFROM:-0700
TZOFFSETTO:-0600
TZNAME:America/Denver MDT
END:DAYLIGHT
BEGIN:DAYLIGHT
DTSTART:20200308T030000
RDATE:20201101T010000
TZOFFSETFROM:-0700
TZOFFSETTO:-0600
TZNAME:America/Denver MDT
END:DAYLIGHT
BEGIN:DAYLIGHT
DTSTART:20210314T030000
RDATE:20211107T010000
TZOFFSETFROM:-0700
TZOFFSETTO:-0600
TZNAME:America/Denver MDT
END:DAYLIGHT
BEGIN:DAYLIGHT
DTSTART:20220313T030000
RDATE:20221106T010000
TZOFFSETFROM:-0700
TZOFFSETTO:-0600
TZNAME:America/Denver MDT
END:DAYLIGHT
BEGIN:DAYLIGHT
DTSTART:20230312T030000
RDATE:20231105T010000
TZOFFSETFROM:-0700
TZOFFSETTO:-0600
TZNAME:America/Denver MDT
END:DAYLIGHT
BEGIN:DAYLIGHT
DTSTART:20240310T030000
RDATE:20241103T010000
TZOFFSETFROM:-0700
TZOFFSETTO:-0600
TZNAME:America/Denver MDT
END:DAYLIGHT
BEGIN:DAYLIGHT
DTSTART:20250309T030000
RDATE:20251102T010000
TZOFFSETFROM:-0700
TZOFFSETTO:-0600
TZNAME:America/Denver MDT
END:DAYLIGHT
BEGIN:DAYLIGHT
DTSTART:20260308T030000
RDATE:20261101T010000
TZOFFSETFROM:-0700
TZOFFSETTO:-0600
TZNAME:America/Denver MDT
END:DAYLIGHT
BEGIN:DAYLIGHT
DTSTART:20270314T030000
RDATE:20271107T010000
TZOFFSETFROM:-0700
TZOFFSETTO:-0600
TZNAME:America/Denver MDT
END:DAYLIGHT
BEGIN:DAYLIGHT
DTSTART:20280312T030000
RDATE:20281105T010000
TZOFFSETFROM:-0700
TZOFFSETTO:-0600
TZNAME:America/Denver MDT
END:DAYLIGHT
BEGIN:DAYLIGHT
DTSTART:20290311T030000
RDATE:20291104T010000
TZOFFSETFROM:-0700
TZOFFSETTO:-0600
TZNAME:America/Denver MDT
END:DAYLIGHT
BEGIN:DAYLIGHT
DTSTART:20300310T030000
RDATE:20301103T010000
TZOFFSETFROM:-0700
TZOFFSETTO:-0600
TZNAME:America/Denver MDT
END:DAYLIGHT
BEGIN:DAYLIGHT
DTSTART:20310309T030000
RDATE:20311102T010000
TZOFFSETFROM:-0700
TZOFFSETTO:-0600
TZNAME:America/Denver MDT
END:DAYLIGHT
BEGIN:DAYLIGHT
DTSTART:20320314T030000
RDATE:20321107T010000
TZOFFSETFROM:-0700
TZOFFSETTO:-0600
TZNAME:America/Denver MDT
END:DAYLIGHT
BEGIN:DAYLIGHT
DTSTART:20330313T030000
RDATE:20331106T010000
TZOFFSETFROM:-0700
TZOFFSETTO:-0600
TZNAME:America/Denver MDT
END:DAYLIGHT
BEGIN:DAYLIGHT
DTSTART:20340312T030000
RDATE:20341105T010000
TZOFFSETFROM:-0700
TZOFFSETTO:-0600
TZNAME:America/Denver MDT
END:DAYLIGHT
BEGIN:DAYLIGHT
DTSTART:20350311T030000
RDATE:20351104T010000
TZOFFSETFROM:-0700
TZOFFSETTO:-0600
TZNAME:America/Denver MDT
END:DAYLIGHT
BEGIN:DAYLIGHT
DTSTART:20360309T030000
RDATE:20361102T010000
TZOFFSETFROM:-0700
TZOFFSETTO:-0600
TZNAME:America/Denver MDT
END:DAYLIGHT
BEGIN:DAYLIGHT
DTSTART:20370308T030000
RDATE:20371101T010000
TZOFFSETFROM:-0700
TZOFFSETTO:-0600
TZNAME:America/Denver MDT
END:DAYLIGHT
END:VTIMEZONE
BEGIN:VEVENT
UID:3fa5c229ff8cbea7b654c8a9941f696f
CATEGORIES:LSDM
CREATED:20190124T160542
SUMMARY:Steve Joyce
DESCRIPTION:	City Councilman, Park City, UT\n	Great.  That's fine.  ROMEOs will have qu
 estions and comments for you.  C U 30 Jan 7:00 AM Wasatch Bagel.\n	\n	SDT\n
 	\n	-----Original Message-----\n	From: Steve Joyce &lt;sjoyce@gmail.com&gt;
 \n	To: staylor326 &lt;staylor326@aol.com&gt;\n	Sent: Thu, Jan 24, 2019 2:57
  pm\n	Subject: RE: Steve Joyce - LSDM Speaker Invitation -\n	 										For
  January 30th\n							 \n							I have now been on the Park City Council fo
 r a year.    Council is preparing for its annual 2 day strategy session (Fe
 b 7 &amp; 8) where we will continue to flush out our plans for traffic, ene
 rgy, housing, social equity and the arts.  While I am happy to share our cu
 rrent plans and priorities, I would prefer hearing residents’ views and con
 cerns  (including those from outside PC). Hoping to have a very interactive
  conversation and answer any city questions.\n							 \n				 \n	 \n
X-ALT-DESC;FMTTYPE=text/html:<p>	City Councilman, Park City, UT</p><div style="background-color: transpa
 rent; color: rgb(0, 0, 0); font-family: arial,helvetica,sans-serif; font-si
 ze: 13.33px; font-style: normal; font-variant: normal; font-weight: 400; le
 tter-spacing: normal; orphans: 2; text-align: left; text-decoration: none; 
 text-indent: 0px; text-transform: none; -webkit-text-stroke-width: 0px; whi
 te-space: normal; word-spacing: 0px;">	Great.&nbsp; That&#39;s fine.&nbsp; 
 ROMEOs will have questions and comments for you.&nbsp; C U 30 Jan 7:00 AM W
 asatch Bagel.<br />	<br />	SDT<br />	<br />	-----Original Message-----<br /
 >	From: Steve Joyce &lt;sjoyce@gmail.com&gt;<br />	To: staylor326 &lt;stayl
 or326@aol.com&gt;<br />	Sent: Thu, Jan 24, 2019 2:57 pm<br />	Subject: RE: 
 Steve Joyce - LSDM Speaker Invitation -<br />	&nbsp;</div><div id="yiv21762
 46458" style="background-color: transparent; color: rgb(0, 0, 0); font-fami
 ly: arial,helvetica,sans-serif; font-size: 13.33px; font-style: normal; fon
 t-variant: normal; font-weight: 400; letter-spacing: normal; min-height: 0p
 x; orphans: 2; text-align: left; text-decoration: none; text-indent: 0px; t
 ext-transform: none; -webkit-text-stroke-width: 0px; white-space: normal; w
 ord-spacing: 0px;">	<div style="background-color: transparent; color: rgb(0
 , 0, 0); font-family: arial,helvetica,sans-serif; font-size: 13.33px; min-h
 eight: 0px;">		<div class="yiv2176246458WordSection1" style="background-col
 or: transparent; color: rgb(0, 0, 0); font-family: arial,helvetica,sans-ser
 if; font-size: 13.33px; min-height: 0px;">			<p class="yiv2176246458MsoNorm
 al" style="background-color: transparent; color: rgb(0, 0, 0); font-family:
  arial,helvetica,sans-serif; font-size: 13.33px; min-height: 0px;">				<spa
 n style="font-size: 14.66px;">For January 30<sup>th</sup></span></p>			<p c
 lass="yiv2176246458MsoNormal" style="background-color: transparent; color: 
 rgb(0, 0, 0); font-family: arial,helvetica,sans-serif; font-size: 13.33px; 
 min-height: 0px;">				<span style="font-size: 14.66px;">&nbsp;</span></p>		
 	<p class="yiv2176246458MsoNormal" style="background-color: transparent; co
 lor: rgb(0, 0, 0); font-family: arial,helvetica,sans-serif; font-size: 13.3
 3px; min-height: 0px;">				<span style="font-size: 14.66px;">I have now bee
 n on the Park City Council for a year. &nbsp;&nbsp;&nbsp;Council is prepari
 ng for its annual 2 day strategy session (Feb 7 &amp; 8) where we will cont
 inue to flush out our plans for traffic, energy, housing, social equity and
  the arts.&nbsp; While I am happy to share our current plans and priorities
 , I would prefer hearing residents&rsquo; views and concerns&nbsp; (includi
 ng those from outside PC). Hoping to have a very interactive conversation a
 nd answer any city questions.</span></p>			<p class="yiv2176246458MsoNormal
 " style="background-color: transparent; color: rgb(0, 0, 0); font-family: a
 rial,helvetica,sans-serif; font-size: 13.33px; min-height: 0px;">				<span 
 style="font-size: 14.66px;">&nbsp;</span></p>		</div>	</div></div><p>	&nbsp
 ;</p><p>	&nbsp;</p>
DTSTAMP:20260423T062346
DTSTART;TZID=America/Denver:20190130T070000
DTEND;TZID=America/Denver:20190130T080000
SEQUENCE:0
TRANSP:OPAQUE
END:VEVENT
END:VCALENDAR