BEGIN:VCALENDAR
VERSION:2.0
PRODID:-//jEvents 2.0 for Joomla//EN
CALSCALE:GREGORIAN
METHOD:PUBLISH
BEGIN:VTIMEZONE
TZID:America/Denver
BEGIN:STANDARD
DTSTART:20181104T010000
RDATE:20190310T030000
TZOFFSETFROM:-0600
TZOFFSETTO:-0700
TZNAME:America/Denver MST
END:STANDARD
BEGIN:STANDARD
DTSTART:20191103T010000
RDATE:20200308T030000
TZOFFSETFROM:-0600
TZOFFSETTO:-0700
TZNAME:America/Denver MST
END:STANDARD
BEGIN:STANDARD
DTSTART:20201101T010000
RDATE:20210314T030000
TZOFFSETFROM:-0600
TZOFFSETTO:-0700
TZNAME:America/Denver MST
END:STANDARD
BEGIN:STANDARD
DTSTART:20211107T010000
RDATE:20220313T030000
TZOFFSETFROM:-0600
TZOFFSETTO:-0700
TZNAME:America/Denver MST
END:STANDARD
BEGIN:STANDARD
DTSTART:20221106T010000
RDATE:20230312T030000
TZOFFSETFROM:-0600
TZOFFSETTO:-0700
TZNAME:America/Denver MST
END:STANDARD
BEGIN:STANDARD
DTSTART:20231105T010000
RDATE:20240310T030000
TZOFFSETFROM:-0600
TZOFFSETTO:-0700
TZNAME:America/Denver MST
END:STANDARD
BEGIN:STANDARD
DTSTART:20241103T010000
RDATE:20250309T030000
TZOFFSETFROM:-0600
TZOFFSETTO:-0700
TZNAME:America/Denver MST
END:STANDARD
BEGIN:STANDARD
DTSTART:20251102T010000
RDATE:20260308T030000
TZOFFSETFROM:-0600
TZOFFSETTO:-0700
TZNAME:America/Denver MST
END:STANDARD
BEGIN:STANDARD
DTSTART:20261101T010000
RDATE:20270314T030000
TZOFFSETFROM:-0600
TZOFFSETTO:-0700
TZNAME:America/Denver MST
END:STANDARD
BEGIN:STANDARD
DTSTART:20271107T010000
RDATE:20280312T030000
TZOFFSETFROM:-0600
TZOFFSETTO:-0700
TZNAME:America/Denver MST
END:STANDARD
BEGIN:STANDARD
DTSTART:20281105T010000
RDATE:20290311T030000
TZOFFSETFROM:-0600
TZOFFSETTO:-0700
TZNAME:America/Denver MST
END:STANDARD
BEGIN:STANDARD
DTSTART:20291104T010000
RDATE:20300310T030000
TZOFFSETFROM:-0600
TZOFFSETTO:-0700
TZNAME:America/Denver MST
END:STANDARD
BEGIN:STANDARD
DTSTART:20301103T010000
RDATE:20310309T030000
TZOFFSETFROM:-0600
TZOFFSETTO:-0700
TZNAME:America/Denver MST
END:STANDARD
BEGIN:STANDARD
DTSTART:20311102T010000
RDATE:20320314T030000
TZOFFSETFROM:-0600
TZOFFSETTO:-0700
TZNAME:America/Denver MST
END:STANDARD
BEGIN:STANDARD
DTSTART:20321107T010000
RDATE:20330313T030000
TZOFFSETFROM:-0600
TZOFFSETTO:-0700
TZNAME:America/Denver MST
END:STANDARD
BEGIN:STANDARD
DTSTART:20331106T010000
RDATE:20340312T030000
TZOFFSETFROM:-0600
TZOFFSETTO:-0700
TZNAME:America/Denver MST
END:STANDARD
BEGIN:STANDARD
DTSTART:20341105T010000
RDATE:20350311T030000
TZOFFSETFROM:-0600
TZOFFSETTO:-0700
TZNAME:America/Denver MST
END:STANDARD
BEGIN:STANDARD
DTSTART:20351104T010000
RDATE:20360309T030000
TZOFFSETFROM:-0600
TZOFFSETTO:-0700
TZNAME:America/Denver MST
END:STANDARD
BEGIN:STANDARD
DTSTART:20361102T010000
RDATE:20370308T030000
TZOFFSETFROM:-0600
TZOFFSETTO:-0700
TZNAME:America/Denver MST
END:STANDARD
BEGIN:STANDARD
DTSTART:20371101T010000
TZOFFSETFROM:-0600
TZOFFSETTO:-0700
TZNAME:America/Denver MST
END:STANDARD
BEGIN:DAYLIGHT
DTSTART:20180312T070000
RDATE:20181104T010000
TZOFFSETFROM:-0700
TZOFFSETTO:-0600
TZNAME:America/Denver MDT
END:DAYLIGHT
BEGIN:DAYLIGHT
DTSTART:20190310T030000
RDATE:20191103T010000
TZOFFSETFROM:-0700
TZOFFSETTO:-0600
TZNAME:America/Denver MDT
END:DAYLIGHT
BEGIN:DAYLIGHT
DTSTART:20200308T030000
RDATE:20201101T010000
TZOFFSETFROM:-0700
TZOFFSETTO:-0600
TZNAME:America/Denver MDT
END:DAYLIGHT
BEGIN:DAYLIGHT
DTSTART:20210314T030000
RDATE:20211107T010000
TZOFFSETFROM:-0700
TZOFFSETTO:-0600
TZNAME:America/Denver MDT
END:DAYLIGHT
BEGIN:DAYLIGHT
DTSTART:20220313T030000
RDATE:20221106T010000
TZOFFSETFROM:-0700
TZOFFSETTO:-0600
TZNAME:America/Denver MDT
END:DAYLIGHT
BEGIN:DAYLIGHT
DTSTART:20230312T030000
RDATE:20231105T010000
TZOFFSETFROM:-0700
TZOFFSETTO:-0600
TZNAME:America/Denver MDT
END:DAYLIGHT
BEGIN:DAYLIGHT
DTSTART:20240310T030000
RDATE:20241103T010000
TZOFFSETFROM:-0700
TZOFFSETTO:-0600
TZNAME:America/Denver MDT
END:DAYLIGHT
BEGIN:DAYLIGHT
DTSTART:20250309T030000
RDATE:20251102T010000
TZOFFSETFROM:-0700
TZOFFSETTO:-0600
TZNAME:America/Denver MDT
END:DAYLIGHT
BEGIN:DAYLIGHT
DTSTART:20260308T030000
RDATE:20261101T010000
TZOFFSETFROM:-0700
TZOFFSETTO:-0600
TZNAME:America/Denver MDT
END:DAYLIGHT
BEGIN:DAYLIGHT
DTSTART:20270314T030000
RDATE:20271107T010000
TZOFFSETFROM:-0700
TZOFFSETTO:-0600
TZNAME:America/Denver MDT
END:DAYLIGHT
BEGIN:DAYLIGHT
DTSTART:20280312T030000
RDATE:20281105T010000
TZOFFSETFROM:-0700
TZOFFSETTO:-0600
TZNAME:America/Denver MDT
END:DAYLIGHT
BEGIN:DAYLIGHT
DTSTART:20290311T030000
RDATE:20291104T010000
TZOFFSETFROM:-0700
TZOFFSETTO:-0600
TZNAME:America/Denver MDT
END:DAYLIGHT
BEGIN:DAYLIGHT
DTSTART:20300310T030000
RDATE:20301103T010000
TZOFFSETFROM:-0700
TZOFFSETTO:-0600
TZNAME:America/Denver MDT
END:DAYLIGHT
BEGIN:DAYLIGHT
DTSTART:20310309T030000
RDATE:20311102T010000
TZOFFSETFROM:-0700
TZOFFSETTO:-0600
TZNAME:America/Denver MDT
END:DAYLIGHT
BEGIN:DAYLIGHT
DTSTART:20320314T030000
RDATE:20321107T010000
TZOFFSETFROM:-0700
TZOFFSETTO:-0600
TZNAME:America/Denver MDT
END:DAYLIGHT
BEGIN:DAYLIGHT
DTSTART:20330313T030000
RDATE:20331106T010000
TZOFFSETFROM:-0700
TZOFFSETTO:-0600
TZNAME:America/Denver MDT
END:DAYLIGHT
BEGIN:DAYLIGHT
DTSTART:20340312T030000
RDATE:20341105T010000
TZOFFSETFROM:-0700
TZOFFSETTO:-0600
TZNAME:America/Denver MDT
END:DAYLIGHT
BEGIN:DAYLIGHT
DTSTART:20350311T030000
RDATE:20351104T010000
TZOFFSETFROM:-0700
TZOFFSETTO:-0600
TZNAME:America/Denver MDT
END:DAYLIGHT
BEGIN:DAYLIGHT
DTSTART:20360309T030000
RDATE:20361102T010000
TZOFFSETFROM:-0700
TZOFFSETTO:-0600
TZNAME:America/Denver MDT
END:DAYLIGHT
BEGIN:DAYLIGHT
DTSTART:20370308T030000
RDATE:20371101T010000
TZOFFSETFROM:-0700
TZOFFSETTO:-0600
TZNAME:America/Denver MDT
END:DAYLIGHT
END:VTIMEZONE
BEGIN:VEVENT
UID:f7bd4728bf878c776a0fda1de17576dd
CATEGORIES:LSDM
CREATED:20190308T165846
SUMMARY:Cheryl Fox
DESCRIPTION:	 \n	 \n	Cheryl Fox| Executive Director\n	Summit Land Conservancy \n	O: 435
 -649-0220 | E: Cheryl@wesaveland.org\n	P.O. Box 1775 Park City, UT 84060\n	
 wesaveland.org (http://www.wesaveland.org/)\n	 \n
X-ALT-DESC;FMTTYPE=text/html:<p>	&nbsp;</p><p>	&nbsp;</p><p style="background-color: transparent; color:
  rgb(0, 0, 0); font-family: arial; font-size: 13.33px; font-style: normal; 
 font-variant: normal; font-weight: 400; letter-spacing: normal; margin-bott
 om: 0px; margin-left: 0px; margin-right: 0px; margin-top: 0px; orphans: 2; 
 text-align: left; text-decoration: none; text-indent: 0px; text-transform: 
 none; -webkit-text-stroke-width: 0px; white-space: normal; word-spacing: 0p
 x;">	<span style="color: rgb(56, 118, 29);"><b><span style="font-family: ge
 orgia,serif;">Cheryl Fox</span></b><span style="font-family: georgia,serif;
 ">|&nbsp;</span><span style="font-family: georgia,serif;">Executive Directo
 r</span></span></p><p style="background-color: transparent; color: rgb(0, 0
 , 0); font-family: arial; font-size: 13.33px; font-style: normal; font-vari
 ant: normal; font-weight: 400; letter-spacing: normal; margin-bottom: 0px; 
 margin-left: 0px; margin-right: 0px; margin-top: 0px; orphans: 2; text-alig
 n: left; text-decoration: none; text-indent: 0px; text-transform: none; -we
 bkit-text-stroke-width: 0px; white-space: normal; word-spacing: 0px;">	<b><
 span style="color: rgb(56, 118, 29); font-family: georgia,serif;">Summit&nb
 sp;Land Conservancy&nbsp;</span></b></p><p style="background-color: transpa
 rent; color: rgb(0, 0, 0); font-family: arial; font-size: 13.33px; font-sty
 le: normal; font-variant: normal; font-weight: 400; letter-spacing: normal;
  margin-bottom: 0px; margin-left: 0px; margin-right: 0px; margin-top: 0px; 
 orphans: 2; text-align: left; text-decoration: none; text-indent: 0px; text
 -transform: none; -webkit-text-stroke-width: 0px; white-space: normal; word
 -spacing: 0px;">	<span><span style="color: rgb(56, 118, 29); font-family: g
 eorgia,serif;">O:</span><span style="color: rgb(56, 118, 29); font-family: 
 georgia,serif;">&nbsp;</span><a rel="nofollow" shape="rect" style="font-fam
 ily: georgia,serif;"><span style="color: rgb(61, 133, 198);">435-649-0220</
 span></a><span style="color: rgb(56, 118, 29); font-family: georgia,serif;"
 >&nbsp;| </span></span><span style="font-family: georgia,serif;"><span styl
 e="color: rgb(56, 118, 29);">E:&nbsp;</span><a rel="noopener noreferrer" sh
 ape="rect" target="_blank" ymailto="mailto:robyn@wesaveland.org"><span styl
 e="color: rgb(61, 133, 198);">Cheryl@wesaveland.org</span></a></span></p><p
  style="background-color: transparent; color: rgb(0, 0, 0); font-family: ar
 ial; font-size: 13.33px; font-style: normal; font-variant: normal; font-wei
 ght: 400; letter-spacing: normal; margin-bottom: 0px; margin-left: 0px; mar
 gin-right: 0px; margin-top: 0px; orphans: 2; text-align: left; text-decorat
 ion: none; text-indent: 0px; text-transform: none; -webkit-text-stroke-widt
 h: 0px; white-space: normal; word-spacing: 0px;">	<span style="font-family:
  georgia,serif;"><span style="color: rgb(56, 118, 29);">P.O. Box 1775 Park 
 City, UT 84060</span></span></p><p style="background-color: transparent; co
 lor: rgb(0, 0, 0); font-family: arial; font-size: 13.33px; font-style: norm
 al; font-variant: normal; font-weight: 400; letter-spacing: normal; margin-
 bottom: 0px; margin-left: 0px; margin-right: 0px; margin-top: 0px; orphans:
  2; text-align: left; text-decoration: none; text-indent: 0px; text-transfo
 rm: none; -webkit-text-stroke-width: 0px; white-space: normal; word-spacing
 : 0px;">	<span style="font-family: georgia,serif;"><span style="color: rgb(
 17, 85, 204);"><a href="http://www.wesaveland.org/" rel="noopener noreferre
 r" shape="rect" target="_blank"><u><font color="#0066cc">wesaveland.org</fo
 nt></u></a></span></span></p><p>	&nbsp;</p>
DTSTAMP:20260423T062341
DTSTART;TZID=America/Denver:20190313T070000
DTEND;TZID=America/Denver:20190313T080000
SEQUENCE:0
TRANSP:OPAQUE
END:VEVENT
END:VCALENDAR