BEGIN:VCALENDAR
VERSION:2.0
PRODID:-//jEvents 2.0 for Joomla//EN
CALSCALE:GREGORIAN
METHOD:PUBLISH
BEGIN:VTIMEZONE
TZID:America/Denver
BEGIN:STANDARD
DTSTART:20191103T010000
RDATE:20200308T030000
TZOFFSETFROM:-0600
TZOFFSETTO:-0700
TZNAME:America/Denver MST
END:STANDARD
BEGIN:STANDARD
DTSTART:20201101T010000
RDATE:20210314T030000
TZOFFSETFROM:-0600
TZOFFSETTO:-0700
TZNAME:America/Denver MST
END:STANDARD
BEGIN:STANDARD
DTSTART:20211107T010000
RDATE:20220313T030000
TZOFFSETFROM:-0600
TZOFFSETTO:-0700
TZNAME:America/Denver MST
END:STANDARD
BEGIN:STANDARD
DTSTART:20221106T010000
RDATE:20230312T030000
TZOFFSETFROM:-0600
TZOFFSETTO:-0700
TZNAME:America/Denver MST
END:STANDARD
BEGIN:STANDARD
DTSTART:20231105T010000
RDATE:20240310T030000
TZOFFSETFROM:-0600
TZOFFSETTO:-0700
TZNAME:America/Denver MST
END:STANDARD
BEGIN:STANDARD
DTSTART:20241103T010000
RDATE:20250309T030000
TZOFFSETFROM:-0600
TZOFFSETTO:-0700
TZNAME:America/Denver MST
END:STANDARD
BEGIN:STANDARD
DTSTART:20251102T010000
RDATE:20260308T030000
TZOFFSETFROM:-0600
TZOFFSETTO:-0700
TZNAME:America/Denver MST
END:STANDARD
BEGIN:STANDARD
DTSTART:20261101T010000
RDATE:20270314T030000
TZOFFSETFROM:-0600
TZOFFSETTO:-0700
TZNAME:America/Denver MST
END:STANDARD
BEGIN:STANDARD
DTSTART:20271107T010000
RDATE:20280312T030000
TZOFFSETFROM:-0600
TZOFFSETTO:-0700
TZNAME:America/Denver MST
END:STANDARD
BEGIN:STANDARD
DTSTART:20281105T010000
RDATE:20290311T030000
TZOFFSETFROM:-0600
TZOFFSETTO:-0700
TZNAME:America/Denver MST
END:STANDARD
BEGIN:STANDARD
DTSTART:20291104T010000
RDATE:20300310T030000
TZOFFSETFROM:-0600
TZOFFSETTO:-0700
TZNAME:America/Denver MST
END:STANDARD
BEGIN:STANDARD
DTSTART:20301103T010000
RDATE:20310309T030000
TZOFFSETFROM:-0600
TZOFFSETTO:-0700
TZNAME:America/Denver MST
END:STANDARD
BEGIN:STANDARD
DTSTART:20311102T010000
RDATE:20320314T030000
TZOFFSETFROM:-0600
TZOFFSETTO:-0700
TZNAME:America/Denver MST
END:STANDARD
BEGIN:STANDARD
DTSTART:20321107T010000
RDATE:20330313T030000
TZOFFSETFROM:-0600
TZOFFSETTO:-0700
TZNAME:America/Denver MST
END:STANDARD
BEGIN:STANDARD
DTSTART:20331106T010000
RDATE:20340312T030000
TZOFFSETFROM:-0600
TZOFFSETTO:-0700
TZNAME:America/Denver MST
END:STANDARD
BEGIN:STANDARD
DTSTART:20341105T010000
RDATE:20350311T030000
TZOFFSETFROM:-0600
TZOFFSETTO:-0700
TZNAME:America/Denver MST
END:STANDARD
BEGIN:STANDARD
DTSTART:20351104T010000
RDATE:20360309T030000
TZOFFSETFROM:-0600
TZOFFSETTO:-0700
TZNAME:America/Denver MST
END:STANDARD
BEGIN:STANDARD
DTSTART:20361102T010000
RDATE:20370308T030000
TZOFFSETFROM:-0600
TZOFFSETTO:-0700
TZNAME:America/Denver MST
END:STANDARD
BEGIN:STANDARD
DTSTART:20371101T010000
TZOFFSETFROM:-0600
TZOFFSETTO:-0700
TZNAME:America/Denver MST
END:STANDARD
BEGIN:DAYLIGHT
DTSTART:20190407T070000
RDATE:20191103T010000
TZOFFSETFROM:-0700
TZOFFSETTO:-0600
TZNAME:America/Denver MDT
END:DAYLIGHT
BEGIN:DAYLIGHT
DTSTART:20200308T030000
RDATE:20201101T010000
TZOFFSETFROM:-0700
TZOFFSETTO:-0600
TZNAME:America/Denver MDT
END:DAYLIGHT
BEGIN:DAYLIGHT
DTSTART:20210314T030000
RDATE:20211107T010000
TZOFFSETFROM:-0700
TZOFFSETTO:-0600
TZNAME:America/Denver MDT
END:DAYLIGHT
BEGIN:DAYLIGHT
DTSTART:20220313T030000
RDATE:20221106T010000
TZOFFSETFROM:-0700
TZOFFSETTO:-0600
TZNAME:America/Denver MDT
END:DAYLIGHT
BEGIN:DAYLIGHT
DTSTART:20230312T030000
RDATE:20231105T010000
TZOFFSETFROM:-0700
TZOFFSETTO:-0600
TZNAME:America/Denver MDT
END:DAYLIGHT
BEGIN:DAYLIGHT
DTSTART:20240310T030000
RDATE:20241103T010000
TZOFFSETFROM:-0700
TZOFFSETTO:-0600
TZNAME:America/Denver MDT
END:DAYLIGHT
BEGIN:DAYLIGHT
DTSTART:20250309T030000
RDATE:20251102T010000
TZOFFSETFROM:-0700
TZOFFSETTO:-0600
TZNAME:America/Denver MDT
END:DAYLIGHT
BEGIN:DAYLIGHT
DTSTART:20260308T030000
RDATE:20261101T010000
TZOFFSETFROM:-0700
TZOFFSETTO:-0600
TZNAME:America/Denver MDT
END:DAYLIGHT
BEGIN:DAYLIGHT
DTSTART:20270314T030000
RDATE:20271107T010000
TZOFFSETFROM:-0700
TZOFFSETTO:-0600
TZNAME:America/Denver MDT
END:DAYLIGHT
BEGIN:DAYLIGHT
DTSTART:20280312T030000
RDATE:20281105T010000
TZOFFSETFROM:-0700
TZOFFSETTO:-0600
TZNAME:America/Denver MDT
END:DAYLIGHT
BEGIN:DAYLIGHT
DTSTART:20290311T030000
RDATE:20291104T010000
TZOFFSETFROM:-0700
TZOFFSETTO:-0600
TZNAME:America/Denver MDT
END:DAYLIGHT
BEGIN:DAYLIGHT
DTSTART:20300310T030000
RDATE:20301103T010000
TZOFFSETFROM:-0700
TZOFFSETTO:-0600
TZNAME:America/Denver MDT
END:DAYLIGHT
BEGIN:DAYLIGHT
DTSTART:20310309T030000
RDATE:20311102T010000
TZOFFSETFROM:-0700
TZOFFSETTO:-0600
TZNAME:America/Denver MDT
END:DAYLIGHT
BEGIN:DAYLIGHT
DTSTART:20320314T030000
RDATE:20321107T010000
TZOFFSETFROM:-0700
TZOFFSETTO:-0600
TZNAME:America/Denver MDT
END:DAYLIGHT
BEGIN:DAYLIGHT
DTSTART:20330313T030000
RDATE:20331106T010000
TZOFFSETFROM:-0700
TZOFFSETTO:-0600
TZNAME:America/Denver MDT
END:DAYLIGHT
BEGIN:DAYLIGHT
DTSTART:20340312T030000
RDATE:20341105T010000
TZOFFSETFROM:-0700
TZOFFSETTO:-0600
TZNAME:America/Denver MDT
END:DAYLIGHT
BEGIN:DAYLIGHT
DTSTART:20350311T030000
RDATE:20351104T010000
TZOFFSETFROM:-0700
TZOFFSETTO:-0600
TZNAME:America/Denver MDT
END:DAYLIGHT
BEGIN:DAYLIGHT
DTSTART:20360309T030000
RDATE:20361102T010000
TZOFFSETFROM:-0700
TZOFFSETTO:-0600
TZNAME:America/Denver MDT
END:DAYLIGHT
BEGIN:DAYLIGHT
DTSTART:20370308T030000
RDATE:20371101T010000
TZOFFSETFROM:-0700
TZOFFSETTO:-0600
TZNAME:America/Denver MDT
END:DAYLIGHT
END:VTIMEZONE
BEGIN:VEVENT
UID:7add8e62395686d5048ebd1571e7f547
CATEGORIES:LSDM
CREATED:20200401T123710
SUMMARY:Karey Barker, Managing Director, Cross Creek Advisors
DESCRIPTION:	Managing Director, Cross Creek Advisors\n															Karey Barker has l
 ed investments in a variety of industries, including digital marketplaces (
 IronPlanet, Ticketfly), consumer internet\n					(Angie’s List, Scopely) hea
 lth care services (Bravo Health, Assurex Health, Bright Health, Accolade), 
 life sciences (Fluidigm, NxStage) marketing and advertising (BounceX, TubeM
 ogul), and enterprise software and services (Telogis, DocuSign, Drillinginf
 o, Simplus,\n					Pindrop, Dataminr).									\n					Karey developed the co
 ncept for Cross Creek while working as a portfolio manager at Wasatch Advis
 ors, where she spent over 15 years managing small-cap growth stocks. Over t
 ime, she saw a need to develop expertise in venture capital, to better unde
 rstand emerging themes and competition. In 2006, she founded Cross Creek wi
 thin Wasatch Advisors to address that need and went on to lead the Cross Cr
 eek team through its transition to an independent firm in 2012. She also se
 rved as a member of the Wasatch Advisors Board of Directors for 17 years. I
 ndependent of Cross Creek, she serves on the boards of directors for MEDNAX
 , Inc. (NYSE:MD) and ARUP Laboratories.							 \n	 \n	 \n
X-ALT-DESC;FMTTYPE=text/html:<p>	Managing Director, Cross Creek Advisors</p><blockquote class="yiv898736
 1591" style="color: rgb(0, 0, 0); font-family: arial,helvetica,clean,sans-s
 erif; font-size: 13.33px; font-style: normal; font-variant: normal; font-we
 ight: 400; letter-spacing: normal; margin-bottom: 0px; margin-left: 0px; ma
 rgin-right: 0px; margin-top: 0px; orphans: 2; padding-bottom: 0px; padding-
 left: 0px; padding-right: 0px; padding-top: 0px; text-align: left; text-dec
 oration: none; text-indent: 0px; text-transform: none; -webkit-text-stroke-
 width: 0px; white-space: normal; word-spacing: 0px;" type="cite">	<div clas
 s="yiv8987361591" style="font-family: arial,helvetica,clean,sans-serif; mar
 gin-bottom: 0px; margin-left: 0px; margin-right: 0px; margin-top: 0px; padd
 ing-bottom: 0px; padding-left: 0px; padding-right: 0px; padding-top: 0px;">
 		<div class="yiv8987361591" style="font-family: arial,helvetica,clean,sans
 -serif; margin-bottom: 0px; margin-left: 0px; margin-right: 0px; margin-top
 : 0px; overflow-wrap: break-word; padding-bottom: 0px; padding-left: 0px; p
 adding-right: 0px; padding-top: 0px;">			<div class="yiv8987361591" style="
 font-family: arial,helvetica,clean,sans-serif; margin-bottom: 0px; margin-l
 eft: 0px; margin-right: 0px; margin-top: 0px; padding-bottom: 0px; padding-
 left: 0px; padding-right: 0px; padding-top: 0px;">				<div class="yiv898736
 1591" style="font-family: soleil; font-size: 16px; letter-spacing: 0.75px; 
 margin-bottom: 0px; margin-left: 0px; margin-right: 0px; margin-top: 0px; o
 verflow-wrap: break-word; padding-bottom: 0px; padding-left: 0px; padding-r
 ight: 0px; padding-top: 0px; white-space: pre-wrap;">					Karey Barker has 
 led investments in a variety of industries, including digital marketplaces 
 (IronPlanet, Ticketfly), consumer internet<br />					(Angie&rsquo;s List, S
 copely) health care services (Bravo Health, Assurex Health, Bright Health, 
 Accolade), life sciences (Fluidigm, NxStage) marketing and advertising (Bou
 nceX, TubeMogul), and enterprise software and services (Telogis, DocuSign, 
 Drillinginfo, Simplus,<br />					Pindrop, Dataminr).</div>				<div class="y
 iv8987361591" style="font-family: soleil; font-size: 16px; letter-spacing: 
 0.75px; margin-bottom: 0px; margin-left: 0px; margin-right: 0px; margin-top
 : 0px; overflow-wrap: break-word; padding-bottom: 0px; padding-left: 0px; p
 adding-right: 0px; padding-top: 0px; white-space: pre-wrap;">					<br />			
 		Karey developed the concept for Cross Creek while working as a portfolio 
 manager at Wasatch Advisors, where she spent over 15 years managing small-c
 ap growth stocks. Over time, she saw a need to develop expertise in venture
  capital, to better understand emerging themes and competition. In 2006, sh
 e founded Cross Creek within Wasatch Advisors to address that need and went
  on to lead the Cross Creek team through its transition to an independent f
 irm in 2012. She also served as a member of the Wasatch Advisors Board of D
 irectors for 17 years. Independent of Cross Creek, she serves on the boards
  of directors for MEDNAX, Inc. (NYSE:MD) and ARUP Laboratories.</div>			</d
 iv>		</div>	</div></blockquote><p>	&nbsp;</p><p>	&nbsp;</p><p>	&nbsp;</p>
DTSTAMP:20260423T170130
DTSTART;TZID=America/Denver:20200407T070000
DTEND;TZID=America/Denver:20200407T080000
SEQUENCE:0
TRANSP:OPAQUE
END:VEVENT
END:VCALENDAR