BEGIN:VCALENDAR
VERSION:2.0
PRODID:-//jEvents 2.0 for Joomla//EN
CALSCALE:GREGORIAN
METHOD:PUBLISH
BEGIN:VTIMEZONE
TZID:America/Denver
BEGIN:STANDARD
DTSTART:20191103T010000
RDATE:20200308T030000
TZOFFSETFROM:-0600
TZOFFSETTO:-0700
TZNAME:America/Denver MST
END:STANDARD
BEGIN:STANDARD
DTSTART:20201101T010000
RDATE:20210314T030000
TZOFFSETFROM:-0600
TZOFFSETTO:-0700
TZNAME:America/Denver MST
END:STANDARD
BEGIN:STANDARD
DTSTART:20211107T010000
RDATE:20220313T030000
TZOFFSETFROM:-0600
TZOFFSETTO:-0700
TZNAME:America/Denver MST
END:STANDARD
BEGIN:STANDARD
DTSTART:20221106T010000
RDATE:20230312T030000
TZOFFSETFROM:-0600
TZOFFSETTO:-0700
TZNAME:America/Denver MST
END:STANDARD
BEGIN:STANDARD
DTSTART:20231105T010000
RDATE:20240310T030000
TZOFFSETFROM:-0600
TZOFFSETTO:-0700
TZNAME:America/Denver MST
END:STANDARD
BEGIN:STANDARD
DTSTART:20241103T010000
RDATE:20250309T030000
TZOFFSETFROM:-0600
TZOFFSETTO:-0700
TZNAME:America/Denver MST
END:STANDARD
BEGIN:STANDARD
DTSTART:20251102T010000
RDATE:20260308T030000
TZOFFSETFROM:-0600
TZOFFSETTO:-0700
TZNAME:America/Denver MST
END:STANDARD
BEGIN:STANDARD
DTSTART:20261101T010000
RDATE:20270314T030000
TZOFFSETFROM:-0600
TZOFFSETTO:-0700
TZNAME:America/Denver MST
END:STANDARD
BEGIN:STANDARD
DTSTART:20271107T010000
RDATE:20280312T030000
TZOFFSETFROM:-0600
TZOFFSETTO:-0700
TZNAME:America/Denver MST
END:STANDARD
BEGIN:STANDARD
DTSTART:20281105T010000
RDATE:20290311T030000
TZOFFSETFROM:-0600
TZOFFSETTO:-0700
TZNAME:America/Denver MST
END:STANDARD
BEGIN:STANDARD
DTSTART:20291104T010000
RDATE:20300310T030000
TZOFFSETFROM:-0600
TZOFFSETTO:-0700
TZNAME:America/Denver MST
END:STANDARD
BEGIN:STANDARD
DTSTART:20301103T010000
RDATE:20310309T030000
TZOFFSETFROM:-0600
TZOFFSETTO:-0700
TZNAME:America/Denver MST
END:STANDARD
BEGIN:STANDARD
DTSTART:20311102T010000
RDATE:20320314T030000
TZOFFSETFROM:-0600
TZOFFSETTO:-0700
TZNAME:America/Denver MST
END:STANDARD
BEGIN:STANDARD
DTSTART:20321107T010000
RDATE:20330313T030000
TZOFFSETFROM:-0600
TZOFFSETTO:-0700
TZNAME:America/Denver MST
END:STANDARD
BEGIN:STANDARD
DTSTART:20331106T010000
RDATE:20340312T030000
TZOFFSETFROM:-0600
TZOFFSETTO:-0700
TZNAME:America/Denver MST
END:STANDARD
BEGIN:STANDARD
DTSTART:20341105T010000
RDATE:20350311T030000
TZOFFSETFROM:-0600
TZOFFSETTO:-0700
TZNAME:America/Denver MST
END:STANDARD
BEGIN:STANDARD
DTSTART:20351104T010000
RDATE:20360309T030000
TZOFFSETFROM:-0600
TZOFFSETTO:-0700
TZNAME:America/Denver MST
END:STANDARD
BEGIN:STANDARD
DTSTART:20361102T010000
RDATE:20370308T030000
TZOFFSETFROM:-0600
TZOFFSETTO:-0700
TZNAME:America/Denver MST
END:STANDARD
BEGIN:STANDARD
DTSTART:20371101T010000
TZOFFSETFROM:-0600
TZOFFSETTO:-0700
TZNAME:America/Denver MST
END:STANDARD
BEGIN:DAYLIGHT
DTSTART:20190526T070000
RDATE:20191103T010000
TZOFFSETFROM:-0700
TZOFFSETTO:-0600
TZNAME:America/Denver MDT
END:DAYLIGHT
BEGIN:DAYLIGHT
DTSTART:20200308T030000
RDATE:20201101T010000
TZOFFSETFROM:-0700
TZOFFSETTO:-0600
TZNAME:America/Denver MDT
END:DAYLIGHT
BEGIN:DAYLIGHT
DTSTART:20210314T030000
RDATE:20211107T010000
TZOFFSETFROM:-0700
TZOFFSETTO:-0600
TZNAME:America/Denver MDT
END:DAYLIGHT
BEGIN:DAYLIGHT
DTSTART:20220313T030000
RDATE:20221106T010000
TZOFFSETFROM:-0700
TZOFFSETTO:-0600
TZNAME:America/Denver MDT
END:DAYLIGHT
BEGIN:DAYLIGHT
DTSTART:20230312T030000
RDATE:20231105T010000
TZOFFSETFROM:-0700
TZOFFSETTO:-0600
TZNAME:America/Denver MDT
END:DAYLIGHT
BEGIN:DAYLIGHT
DTSTART:20240310T030000
RDATE:20241103T010000
TZOFFSETFROM:-0700
TZOFFSETTO:-0600
TZNAME:America/Denver MDT
END:DAYLIGHT
BEGIN:DAYLIGHT
DTSTART:20250309T030000
RDATE:20251102T010000
TZOFFSETFROM:-0700
TZOFFSETTO:-0600
TZNAME:America/Denver MDT
END:DAYLIGHT
BEGIN:DAYLIGHT
DTSTART:20260308T030000
RDATE:20261101T010000
TZOFFSETFROM:-0700
TZOFFSETTO:-0600
TZNAME:America/Denver MDT
END:DAYLIGHT
BEGIN:DAYLIGHT
DTSTART:20270314T030000
RDATE:20271107T010000
TZOFFSETFROM:-0700
TZOFFSETTO:-0600
TZNAME:America/Denver MDT
END:DAYLIGHT
BEGIN:DAYLIGHT
DTSTART:20280312T030000
RDATE:20281105T010000
TZOFFSETFROM:-0700
TZOFFSETTO:-0600
TZNAME:America/Denver MDT
END:DAYLIGHT
BEGIN:DAYLIGHT
DTSTART:20290311T030000
RDATE:20291104T010000
TZOFFSETFROM:-0700
TZOFFSETTO:-0600
TZNAME:America/Denver MDT
END:DAYLIGHT
BEGIN:DAYLIGHT
DTSTART:20300310T030000
RDATE:20301103T010000
TZOFFSETFROM:-0700
TZOFFSETTO:-0600
TZNAME:America/Denver MDT
END:DAYLIGHT
BEGIN:DAYLIGHT
DTSTART:20310309T030000
RDATE:20311102T010000
TZOFFSETFROM:-0700
TZOFFSETTO:-0600
TZNAME:America/Denver MDT
END:DAYLIGHT
BEGIN:DAYLIGHT
DTSTART:20320314T030000
RDATE:20321107T010000
TZOFFSETFROM:-0700
TZOFFSETTO:-0600
TZNAME:America/Denver MDT
END:DAYLIGHT
BEGIN:DAYLIGHT
DTSTART:20330313T030000
RDATE:20331106T010000
TZOFFSETFROM:-0700
TZOFFSETTO:-0600
TZNAME:America/Denver MDT
END:DAYLIGHT
BEGIN:DAYLIGHT
DTSTART:20340312T030000
RDATE:20341105T010000
TZOFFSETFROM:-0700
TZOFFSETTO:-0600
TZNAME:America/Denver MDT
END:DAYLIGHT
BEGIN:DAYLIGHT
DTSTART:20350311T030000
RDATE:20351104T010000
TZOFFSETFROM:-0700
TZOFFSETTO:-0600
TZNAME:America/Denver MDT
END:DAYLIGHT
BEGIN:DAYLIGHT
DTSTART:20360309T030000
RDATE:20361102T010000
TZOFFSETFROM:-0700
TZOFFSETTO:-0600
TZNAME:America/Denver MDT
END:DAYLIGHT
BEGIN:DAYLIGHT
DTSTART:20370308T030000
RDATE:20371101T010000
TZOFFSETFROM:-0700
TZOFFSETTO:-0600
TZNAME:America/Denver MDT
END:DAYLIGHT
END:VTIMEZONE
BEGIN:VEVENT
UID:4e52fd57c81daef9c6712ceebe97d8f3
CATEGORIES:LSDM
CREATED:20200517T141317
SUMMARY:Nathan Osmond
DESCRIPTION:<p>	&nbsp;</p><div>	Nephew of Donnie and Marie.</div><div>	<h2 style="box-s
 izing: border-box; color: rgb(102, 102, 102); font-family: sans-serif; font
 -size: 18px; font-style: normal; font-variant: normal; font-weight: 500; le
 tter-spacing: 0px; line-height: 1.1; margin-bottom: 4px; margin-top: 15px; 
 orphans: 2; text-align: left; text-decoration: none; text-indent: 0px; text
 -transform: none; -webkit-text-stroke-width: 0px; white-space: normal; word
 -spacing: 0px;">		About</h2>	<p style="box-sizing: border-box; color: rgb(5
 1, 51, 51); font-family: sans-serif; font-size: 16px; font-style: normal; f
 ont-variant: normal; font-weight: 400; letter-spacing: normal; margin-botto
 m: 10px; margin-left: 0px; margin-right: 0px; margin-top: 0px; orphans: 2; 
 text-align: left; text-decoration: none; text-indent: 0px; text-transform: 
 none; -webkit-text-stroke-width: 0px; white-space: normal; word-spacing: 0p
 x;">		Nominated for New Artist of the Year, Male Vocalist of the Year and C
 ountry Breakthrough Artist of the Year by the New Music Awards in Los Angel
 es, he began to make a name for himself in the country music world with fou
 r consecutive #1 hit singles.</p>	<h2 style="box-sizing: border-box; color:
  rgb(102, 102, 102); font-family: sans-serif; font-size: 18px; font-style: 
 normal; font-variant: normal; font-weight: 500; letter-spacing: 0px; line-h
 eight: 1.1; margin-bottom: 4px; margin-top: 20px; orphans: 2; text-align: l
 eft; text-decoration: none; text-indent: 0px; text-transform: none; -webkit
 -text-stroke-width: 0px; white-space: normal; word-spacing: 0px;">		Before 
 Fame</h2>	<p style="box-sizing: border-box; color: rgb(51, 51, 51); font-fa
 mily: sans-serif; font-size: 16px; font-style: normal; font-variant: normal
 ; font-weight: 400; letter-spacing: normal; margin-bottom: 10px; margin-lef
 t: 0px; margin-right: 0px; margin-top: 0px; orphans: 2; text-align: left; t
 ext-decoration: none; text-indent: 0px; text-transform: none; -webkit-text-
 stroke-width: 0px; white-space: normal; word-spacing: 0px;">		The nephew of
  <a href="https://www.famousbirthdays.com/people/donny-osmond.html" style="
 background-attachment: scroll; background-clip: border-box; background-colo
 r: transparent; background-image: none; background-origin: padding-box; bac
 kground-position-x: 0%; background-position-y: 0%; background-repeat: repea
 t; background-size: auto; box-sizing: border-box; color: rgb(228, 19, 142);
  text-decoration: none;">Donny</a> and <a href="https://www.famousbirthdays
 .com/people/marie-osmond.html" style="background-attachment: scroll; backgr
 ound-clip: border-box; background-color: transparent; background-image: non
 e; background-origin: padding-box; background-position-x: 0%; background-po
 sition-y: 0%; background-repeat: repeat; background-size: auto; box-sizing:
  border-box; color: rgb(228, 19, 142); text-decoration: none;">Marie Osmond
 </a>, he grew up on the set of the Donny &amp; Marie show where he watched 
 his famous uncle and aunt, his father and other famous siblings perform. He
  used to tour with The Osmonds on the road as his father Alan would take hi
 m on the tour buses.</p>	<h2 style="box-sizing: border-box; color: rgb(102,
  102, 102); font-family: sans-serif; font-size: 18px; font-style: normal; f
 ont-variant: normal; font-weight: 500; letter-spacing: 0px; line-height: 1.
 1; margin-bottom: 4px; margin-top: 20px; orphans: 2; text-align: left; text
 -decoration: none; text-indent: 0px; text-transform: none; -webkit-text-str
 oke-width: 0px; white-space: normal; word-spacing: 0px;">		Trivia</h2>	<p s
 tyle="box-sizing: border-box; color: rgb(51, 51, 51); font-family: sans-ser
 if; font-size: 16px; font-style: normal; font-variant: normal; font-weight:
  400; letter-spacing: normal; margin-bottom: 10px; margin-left: 0px; margin
 -right: 0px; margin-top: 0px; orphans: 2; text-align: left; text-decoration
 : none; text-indent: 0px; text-transform: none; -webkit-text-stroke-width: 
 0px; white-space: normal; word-spacing: 0px;">		He was selected as one of t
 he Ten Outstanding Young Americans in 2014 by the United States Junior Cham
 ber (The JAYCEES) for his musical achievements and humanitarian efforts. He
  also received the first-ever John C. Maxwell Leadership Award (Arts &amp; 
 Entertainment) in 2014.</p>	<h2 style="box-sizing: border-box; color: rgb(1
 02, 102, 102); font-family: sans-serif; font-size: 18px; font-style: normal
 ; font-variant: normal; font-weight: 500; letter-spacing: 0px; line-height:
  1.1; margin-bottom: 4px; margin-top: 20px; orphans: 2; text-align: left; t
 ext-decoration: none; text-indent: 0px; text-transform: none; -webkit-text-
 stroke-width: 0px; white-space: normal; word-spacing: 0px;">		Family Life</
 h2>	<p style="box-sizing: border-box; color: rgb(51, 51, 51); font-family: 
 sans-serif; font-size: 16px; font-style: normal; font-variant: normal; font
 -weight: 400; letter-spacing: normal; margin-bottom: 10px; margin-left: 0px
 ; margin-right: 0px; margin-top: 0px; orphans: 2; text-align: left; text-de
 coration: none; text-indent: 0px; text-transform: none; -webkit-text-stroke
 -width: 0px; white-space: normal; word-spacing: 0px;">		He was raised in Pr
 ovo, Utah but moved as a teenager to Branson, Missouri. He is one of 8 boys
  and is the son of <a href="https://www.famousbirthdays.com/people/alan-osm
 ond.html" style="background-attachment: scroll; background-clip: border-box
 ; background-color: transparent; background-image: none; background-origin:
  padding-box; background-position-x: 0%; background-position-y: 0%; backgro
 und-repeat: repeat; background-size: auto; box-sizing: border-box; color: r
 gb(228, 19, 142); text-decoration: none;">Alan</a> and Suzanne Osmond. He m
 arried Sarah Eileen Osmond and together they have 4 boys named Zachary, Cor
 bin, Samuel and Beckham.</p>	<h2 style="box-sizing: border-box; color: rgb(
 102, 102, 102); font-family: sans-serif; font-size: 18px; font-style: norma
 l; font-variant: normal; font-weight: 500; letter-spacing: 0px; line-height
 : 1.1; margin-bottom: 4px; margin-top: 20px; orphans: 2; text-align: left; 
 text-decoration: none; text-indent: 0px; text-transform: none; -webkit-text
 -stroke-width: 0px; white-space: normal; word-spacing: 0px;">		Associated W
 ith</h2>	<p style="box-sizing: border-box; color: rgb(51, 51, 51); font-fam
 ily: sans-serif; font-size: 16px; font-style: normal; font-variant: normal;
  font-weight: 400; letter-spacing: normal; margin-bottom: 10px; margin-left
 : 0px; margin-right: 0px; margin-top: 0px; orphans: 2; text-align: left; te
 xt-decoration: none; text-indent: 0px; text-transform: none; -webkit-text-s
 troke-width: 0px; white-space: normal; word-spacing: 0px;">		He and his bro
 thers were first discovered by the late <a href="https://www.famousbirthday
 s.com/people/bob-hope.html" style="background-attachment: scroll; backgroun
 d-clip: border-box; background-color: transparent; background-image: none; 
 background-origin: padding-box; background-position-x: 0%; background-posit
 ion-y: 0%; background-repeat: repeat; background-size: auto; box-sizing: bo
 rder-box; color: rgb(228, 19, 142); text-decoration: none;">Bob Hope</a> in
  1986 when he invited them to perform on his Christmas Show.</p></div><p>	&
 nbsp;</p>
DTSTAMP:20260423T140001
DTSTART;TZID=America/Denver:20200526T070000
DTEND;TZID=America/Denver:20200526T080000
SEQUENCE:0
TRANSP:OPAQUE
END:VEVENT
END:VCALENDAR