BEGIN:VCALENDAR
VERSION:2.0
PRODID:-//jEvents 2.0 for Joomla//EN
CALSCALE:GREGORIAN
METHOD:PUBLISH
BEGIN:VTIMEZONE
TZID:America/Denver
BEGIN:STANDARD
DTSTART:20191103T010000
RDATE:20200308T030000
TZOFFSETFROM:-0600
TZOFFSETTO:-0700
TZNAME:America/Denver MST
END:STANDARD
BEGIN:STANDARD
DTSTART:20201101T010000
RDATE:20210314T030000
TZOFFSETFROM:-0600
TZOFFSETTO:-0700
TZNAME:America/Denver MST
END:STANDARD
BEGIN:STANDARD
DTSTART:20211107T010000
RDATE:20220313T030000
TZOFFSETFROM:-0600
TZOFFSETTO:-0700
TZNAME:America/Denver MST
END:STANDARD
BEGIN:STANDARD
DTSTART:20221106T010000
RDATE:20230312T030000
TZOFFSETFROM:-0600
TZOFFSETTO:-0700
TZNAME:America/Denver MST
END:STANDARD
BEGIN:STANDARD
DTSTART:20231105T010000
RDATE:20240310T030000
TZOFFSETFROM:-0600
TZOFFSETTO:-0700
TZNAME:America/Denver MST
END:STANDARD
BEGIN:STANDARD
DTSTART:20241103T010000
RDATE:20250309T030000
TZOFFSETFROM:-0600
TZOFFSETTO:-0700
TZNAME:America/Denver MST
END:STANDARD
BEGIN:STANDARD
DTSTART:20251102T010000
RDATE:20260308T030000
TZOFFSETFROM:-0600
TZOFFSETTO:-0700
TZNAME:America/Denver MST
END:STANDARD
BEGIN:STANDARD
DTSTART:20261101T010000
RDATE:20270314T030000
TZOFFSETFROM:-0600
TZOFFSETTO:-0700
TZNAME:America/Denver MST
END:STANDARD
BEGIN:STANDARD
DTSTART:20271107T010000
RDATE:20280312T030000
TZOFFSETFROM:-0600
TZOFFSETTO:-0700
TZNAME:America/Denver MST
END:STANDARD
BEGIN:STANDARD
DTSTART:20281105T010000
RDATE:20290311T030000
TZOFFSETFROM:-0600
TZOFFSETTO:-0700
TZNAME:America/Denver MST
END:STANDARD
BEGIN:STANDARD
DTSTART:20291104T010000
RDATE:20300310T030000
TZOFFSETFROM:-0600
TZOFFSETTO:-0700
TZNAME:America/Denver MST
END:STANDARD
BEGIN:STANDARD
DTSTART:20301103T010000
RDATE:20310309T030000
TZOFFSETFROM:-0600
TZOFFSETTO:-0700
TZNAME:America/Denver MST
END:STANDARD
BEGIN:STANDARD
DTSTART:20311102T010000
RDATE:20320314T030000
TZOFFSETFROM:-0600
TZOFFSETTO:-0700
TZNAME:America/Denver MST
END:STANDARD
BEGIN:STANDARD
DTSTART:20321107T010000
RDATE:20330313T030000
TZOFFSETFROM:-0600
TZOFFSETTO:-0700
TZNAME:America/Denver MST
END:STANDARD
BEGIN:STANDARD
DTSTART:20331106T010000
RDATE:20340312T030000
TZOFFSETFROM:-0600
TZOFFSETTO:-0700
TZNAME:America/Denver MST
END:STANDARD
BEGIN:STANDARD
DTSTART:20341105T010000
RDATE:20350311T030000
TZOFFSETFROM:-0600
TZOFFSETTO:-0700
TZNAME:America/Denver MST
END:STANDARD
BEGIN:STANDARD
DTSTART:20351104T010000
RDATE:20360309T030000
TZOFFSETFROM:-0600
TZOFFSETTO:-0700
TZNAME:America/Denver MST
END:STANDARD
BEGIN:STANDARD
DTSTART:20361102T010000
RDATE:20370308T030000
TZOFFSETFROM:-0600
TZOFFSETTO:-0700
TZNAME:America/Denver MST
END:STANDARD
BEGIN:STANDARD
DTSTART:20371101T010000
TZOFFSETFROM:-0600
TZOFFSETTO:-0700
TZNAME:America/Denver MST
END:STANDARD
BEGIN:DAYLIGHT
DTSTART:20190527T070000
RDATE:20191103T010000
TZOFFSETFROM:-0700
TZOFFSETTO:-0600
TZNAME:America/Denver MDT
END:DAYLIGHT
BEGIN:DAYLIGHT
DTSTART:20200308T030000
RDATE:20201101T010000
TZOFFSETFROM:-0700
TZOFFSETTO:-0600
TZNAME:America/Denver MDT
END:DAYLIGHT
BEGIN:DAYLIGHT
DTSTART:20210314T030000
RDATE:20211107T010000
TZOFFSETFROM:-0700
TZOFFSETTO:-0600
TZNAME:America/Denver MDT
END:DAYLIGHT
BEGIN:DAYLIGHT
DTSTART:20220313T030000
RDATE:20221106T010000
TZOFFSETFROM:-0700
TZOFFSETTO:-0600
TZNAME:America/Denver MDT
END:DAYLIGHT
BEGIN:DAYLIGHT
DTSTART:20230312T030000
RDATE:20231105T010000
TZOFFSETFROM:-0700
TZOFFSETTO:-0600
TZNAME:America/Denver MDT
END:DAYLIGHT
BEGIN:DAYLIGHT
DTSTART:20240310T030000
RDATE:20241103T010000
TZOFFSETFROM:-0700
TZOFFSETTO:-0600
TZNAME:America/Denver MDT
END:DAYLIGHT
BEGIN:DAYLIGHT
DTSTART:20250309T030000
RDATE:20251102T010000
TZOFFSETFROM:-0700
TZOFFSETTO:-0600
TZNAME:America/Denver MDT
END:DAYLIGHT
BEGIN:DAYLIGHT
DTSTART:20260308T030000
RDATE:20261101T010000
TZOFFSETFROM:-0700
TZOFFSETTO:-0600
TZNAME:America/Denver MDT
END:DAYLIGHT
BEGIN:DAYLIGHT
DTSTART:20270314T030000
RDATE:20271107T010000
TZOFFSETFROM:-0700
TZOFFSETTO:-0600
TZNAME:America/Denver MDT
END:DAYLIGHT
BEGIN:DAYLIGHT
DTSTART:20280312T030000
RDATE:20281105T010000
TZOFFSETFROM:-0700
TZOFFSETTO:-0600
TZNAME:America/Denver MDT
END:DAYLIGHT
BEGIN:DAYLIGHT
DTSTART:20290311T030000
RDATE:20291104T010000
TZOFFSETFROM:-0700
TZOFFSETTO:-0600
TZNAME:America/Denver MDT
END:DAYLIGHT
BEGIN:DAYLIGHT
DTSTART:20300310T030000
RDATE:20301103T010000
TZOFFSETFROM:-0700
TZOFFSETTO:-0600
TZNAME:America/Denver MDT
END:DAYLIGHT
BEGIN:DAYLIGHT
DTSTART:20310309T030000
RDATE:20311102T010000
TZOFFSETFROM:-0700
TZOFFSETTO:-0600
TZNAME:America/Denver MDT
END:DAYLIGHT
BEGIN:DAYLIGHT
DTSTART:20320314T030000
RDATE:20321107T010000
TZOFFSETFROM:-0700
TZOFFSETTO:-0600
TZNAME:America/Denver MDT
END:DAYLIGHT
BEGIN:DAYLIGHT
DTSTART:20330313T030000
RDATE:20331106T010000
TZOFFSETFROM:-0700
TZOFFSETTO:-0600
TZNAME:America/Denver MDT
END:DAYLIGHT
BEGIN:DAYLIGHT
DTSTART:20340312T030000
RDATE:20341105T010000
TZOFFSETFROM:-0700
TZOFFSETTO:-0600
TZNAME:America/Denver MDT
END:DAYLIGHT
BEGIN:DAYLIGHT
DTSTART:20350311T030000
RDATE:20351104T010000
TZOFFSETFROM:-0700
TZOFFSETTO:-0600
TZNAME:America/Denver MDT
END:DAYLIGHT
BEGIN:DAYLIGHT
DTSTART:20360309T030000
RDATE:20361102T010000
TZOFFSETFROM:-0700
TZOFFSETTO:-0600
TZNAME:America/Denver MDT
END:DAYLIGHT
BEGIN:DAYLIGHT
DTSTART:20370308T030000
RDATE:20371101T010000
TZOFFSETFROM:-0700
TZOFFSETTO:-0600
TZNAME:America/Denver MDT
END:DAYLIGHT
END:VTIMEZONE
BEGIN:VEVENT
UID:0c325f4ad1b00d900dcc740d033cc603
CATEGORIES:LSDM
CREATED:20200518T141524
SUMMARY:Thomas Wright, candidate for Governor, State of Utah
DESCRIPTION:<p>	&nbsp;</p><p style="color: rgb(32, 33, 34); font-family: sans-serif; fo
 nt-size: 14px; font-style: normal; font-variant: normal; font-weight: 400; 
 letter-spacing: normal; margin-bottom: 0.5em; margin-left: 0px; margin-righ
 t: 0px; margin-top: 0.5em; orphans: 2; text-align: left; text-decoration: n
 one; text-indent: 0px; text-transform: none; -webkit-text-stroke-width: 0px
 ; white-space: normal; word-spacing: 0px;">	<b>Thomas Wright</b> is an Amer
 ican political executive, real estate broker, and candidate for the <a href
 ="https://en.wikipedia.org/wiki/2020_Utah_gubernatorial_election" style="ba
 ckground-attachment: scroll; background-clip: border-box; background-color:
  transparent; background-image: none; background-origin: padding-box; backg
 round-position-x: 0%; background-position-y: 0%; background-repeat: repeat;
  background-size: auto; color: rgb(6, 69, 173); text-decoration: none;" tit
 le="2020 Utah gubernatorial election">2020 Utah gubernatorial election</a>.
  Wright previously served as the Chairman of the <a href="https://en.wikipe
 dia.org/wiki/Utah_Republican_Party" style="background-attachment: scroll; b
 ackground-clip: border-box; background-color: transparent; background-image
 : none; background-origin: padding-box; background-position-x: 0%; backgrou
 nd-position-y: 0%; background-repeat: repeat; background-size: auto; color:
  rgb(6, 69, 173); text-decoration: none;" title="Utah Republican Party">Uta
 h Republican Party</a> from 2011 to 2013.<sup class="reference" id="cite_re
 f-2" style="font-size: 80%; font-style: normal; font-weight: normal; line-h
 eight: 1; white-space: nowrap;"><a href="https://en.wikipedia.org/wiki/Thom
 as_Wright_(Utah_politician)#cite_note-2" style="background-attachment: scro
 ll; background-clip: border-box; background-color: transparent; background-
 image: none; background-origin: padding-box; background-position-x: 0%; bac
 kground-position-y: 0%; background-repeat: repeat; background-size: auto; c
 olor: rgb(6, 69, 173); text-decoration: none;">[2]</a></sup></p><h2 style="
 background-attachment: scroll; background-clip: border-box; background-colo
 r: transparent; background-image: none; background-origin: padding-box; bac
 kground-position-x: 0%; background-position-y: 0%; background-repeat: repea
 t; background-size: auto; border-bottom-color: rgb(162, 169, 177); border-b
 ottom-style: solid; border-bottom-width: 1px; color: rgb(0, 0, 0); font-fam
 ily: &amp;quot;Linux Libertine&amp;quot;,&amp;quot;Georgia&amp;quot;,&amp;q
 uot;Times&amp;quot;,serif; font-size: 1.5em; font-style: normal; font-varia
 nt: normal; font-weight: normal; letter-spacing: normal; line-height: 1.3; 
 margin-bottom: 0.25em; margin-left: 0px; margin-right: 0px; margin-top: 1em
 ; orphans: 2; overflow: hidden; padding-bottom: 0px; padding-left: 0px; pad
 ding-right: 0px; padding-top: 0px; text-align: left; text-decoration: none;
  text-indent: 0px; text-transform: none; -webkit-text-stroke-width: 0px; wh
 ite-space: normal; word-spacing: 0px;">	<span class="mw-headline" id="Early
 _life_and_education">Early life and education</span><span class="mw-editsec
 tion" style="font-family: sans-serif; font-size: small; font-weight: normal
 ; line-height: 1em; margin-left: 1em; -ms-user-select: none; vertical-align
 : baseline; white-space: nowrap;"><span class="mw-editsection-bracket" styl
 e="color: rgb(84, 89, 93); margin-right: 0.25em;">[</span><a href="https://
 en.wikipedia.org/w/index.php?title=Thomas_Wright_(Utah_politician)&amp;acti
 on=edit&amp;section=1&amp;editintro=Template:BLP_editintro" style="backgrou
 nd-attachment: scroll; background-clip: border-box; background-color: trans
 parent; background-image: none; background-origin: padding-box; background-
 position-x: 0%; background-position-y: 0%; background-repeat: repeat; backg
 round-size: auto; color: rgb(6, 69, 173); text-decoration: none;" title="Ed
 it section: Early life and education">edit</a><span class="mw-editsection-b
 racket" style="color: rgb(84, 89, 93); margin-left: 0.25em;">]</span></span
 ></h2><p style="color: rgb(32, 33, 34); font-family: sans-serif; font-size:
  14px; font-style: normal; font-variant: normal; font-weight: 400; letter-s
 pacing: normal; margin-bottom: 0.5em; margin-left: 0px; margin-right: 0px; 
 margin-top: 0.5em; orphans: 2; text-align: left; text-decoration: none; tex
 t-indent: 0px; text-transform: none; -webkit-text-stroke-width: 0px; white-
 space: normal; word-spacing: 0px;">	Wright was born and raised in <a href="
 https://en.wikipedia.org/wiki/Utah" style="background-attachment: scroll; b
 ackground-clip: border-box; background-color: transparent; background-image
 : none; background-origin: padding-box; background-position-x: 0%; backgrou
 nd-position-y: 0%; background-repeat: repeat; background-size: auto; color:
  rgb(6, 69, 173); text-decoration: none;" title="Utah">Utah</a>, the son of
  lawyer and politician <a href="https://en.wikipedia.org/wiki/Bob_Wright_(U
 tah_politician)" style="background-attachment: scroll; background-clip: bor
 der-box; background-color: transparent; background-image: none; background-
 origin: padding-box; background-position-x: 0%; background-position-y: 0%; 
 background-repeat: repeat; background-size: auto; color: rgb(6, 69, 173); t
 ext-decoration: none;" title="Bob Wright (Utah politician)">Bob Wright</a>.
  He attended <a href="https://en.wikipedia.org/wiki/Quince_Orchard_High_Sch
 ool" style="background-attachment: scroll; background-clip: border-box; bac
 kground-color: transparent; background-image: none; background-origin: padd
 ing-box; background-position-x: 0%; background-position-y: 0%; background-r
 epeat: repeat; background-size: auto; color: rgb(6, 69, 173); text-decorati
 on: none;" title="Quince Orchard High School">Quince Orchard High School</a
 > in <a href="https://en.wikipedia.org/wiki/Gaithersburg,_Maryland" style="
 background-attachment: scroll; background-clip: border-box; background-colo
 r: transparent; background-image: none; background-origin: padding-box; bac
 kground-position-x: 0%; background-position-y: 0%; background-repeat: repea
 t; background-size: auto; color: rgb(6, 69, 173); text-decoration: none;" t
 itle="Gaithersburg, Maryland">Gaithersburg, Maryland</a>, and later spent t
 wo years in <a href="https://en.wikipedia.org/wiki/Eastern_Europe" style="b
 ackground-attachment: scroll; background-clip: border-box; background-color
 : transparent; background-image: none; background-origin: padding-box; back
 ground-position-x: 0%; background-position-y: 0%; background-repeat: repeat
 ; background-size: auto; color: rgb(6, 69, 173); text-decoration: none;" ti
 tle="Eastern Europe">Eastern Europe</a>. After returning from Europe, Wrigh
 t graduated from the <a href="https://en.wikipedia.org/wiki/University_of_U
 tah" style="background-attachment: scroll; background-clip: border-box; bac
 kground-color: transparent; background-image: none; background-origin: padd
 ing-box; background-position-x: 0%; background-position-y: 0%; background-r
 epeat: repeat; background-size: auto; color: rgb(6, 69, 173); text-decorati
 on: none;" title="University of Utah">University of Utah</a> on a golf scho
 larship, earning a Bachelor of Arts in Russian and Marketing.<sup class="re
 ference" id="cite_ref-3" style="font-size: 80%; font-style: normal; font-we
 ight: normal; line-height: 1; white-space: nowrap;"><a href="https://en.wik
 ipedia.org/wiki/Thomas_Wright_(Utah_politician)#cite_note-3" style="backgro
 und-attachment: scroll; background-clip: border-box; background-color: tran
 sparent; background-image: none; background-origin: padding-box; background
 -position-x: 0%; background-position-y: 0%; background-repeat: repeat; back
 ground-size: auto; color: rgb(6, 69, 173); text-decoration: none;">[3]</a><
 /sup></p><h2 style="background-attachment: scroll; background-clip: border-
 box; background-color: transparent; background-image: none; background-orig
 in: padding-box; background-position-x: 0%; background-position-y: 0%; back
 ground-repeat: repeat; background-size: auto; border-bottom-color: rgb(162,
  169, 177); border-bottom-style: solid; border-bottom-width: 1px; color: rg
 b(0, 0, 0); font-family: &amp;quot;Linux Libertine&amp;quot;,&amp;quot;Geor
 gia&amp;quot;,&amp;quot;Times&amp;quot;,serif; font-size: 1.5em; font-style
 : normal; font-variant: normal; font-weight: normal; letter-spacing: normal
 ; line-height: 1.3; margin-bottom: 0.25em; margin-left: 0px; margin-right: 
 0px; margin-top: 1em; orphans: 2; overflow: hidden; padding-bottom: 0px; pa
 dding-left: 0px; padding-right: 0px; padding-top: 0px; text-align: left; te
 xt-decoration: none; text-indent: 0px; text-transform: none; -webkit-text-s
 troke-width: 0px; white-space: normal; word-spacing: 0px;">	<span class="mw
 -headline" id="Career">Career</span><span class="mw-editsection" style="fon
 t-family: sans-serif; font-size: small; font-weight: normal; line-height: 1
 em; margin-left: 1em; -ms-user-select: none; vertical-align: baseline; whit
 e-space: nowrap;"><span class="mw-editsection-bracket" style="color: rgb(84
 , 89, 93); margin-right: 0.25em;">[</span><a href="https://en.wikipedia.org
 /w/index.php?title=Thomas_Wright_(Utah_politician)&amp;action=edit&amp;sect
 ion=2&amp;editintro=Template:BLP_editintro" style="background-attachment: s
 croll; background-clip: border-box; background-color: transparent; backgrou
 nd-image: none; background-origin: padding-box; background-position-x: 0%; 
 background-position-y: 0%; background-repeat: repeat; background-size: auto
 ; color: rgb(6, 69, 173); text-decoration: none;" title="Edit section: Care
 er">edit</a><span class="mw-editsection-bracket" style="color: rgb(84, 89, 
 93); margin-left: 0.25em;">]</span></span></h2><p style="color: rgb(32, 33,
  34); font-family: sans-serif; font-size: 14px; font-style: normal; font-va
 riant: normal; font-weight: 400; letter-spacing: normal; margin-bottom: 0.5
 em; margin-left: 0px; margin-right: 0px; margin-top: 0.5em; orphans: 2; tex
 t-align: left; text-decoration: none; text-indent: 0px; text-transform: non
 e; -webkit-text-stroke-width: 0px; white-space: normal; word-spacing: 0px;"
 >	Wright is the owner, president, and principal broker of Summit <a href="h
 ttps://en.wikipedia.org/wiki/Sotheby%27s_International_Realty" style="backg
 round-attachment: scroll; background-clip: border-box; background-color: tr
 ansparent; background-image: none; background-origin: padding-box; backgrou
 nd-position-x: 0%; background-position-y: 0%; background-repeat: repeat; ba
 ckground-size: auto; color: rgb(6, 69, 173); text-decoration: none;" title=
 "Sotheby's International Realty">Sotheby&#39;s International Realty</a>, ba
 sed in <a href="https://en.wikipedia.org/wiki/Park_City,_Utah" style="backg
 round-attachment: scroll; background-clip: border-box; background-color: tr
 ansparent; background-image: none; background-origin: padding-box; backgrou
 nd-position-x: 0%; background-position-y: 0%; background-repeat: repeat; ba
 ckground-size: auto; color: rgb(6, 69, 173); text-decoration: none;" title=
 "Park City, Utah">Park City, Utah</a>.</p><p style="color: rgb(32, 33, 34);
  font-family: sans-serif; font-size: 14px; font-style: normal; font-variant
 : normal; font-weight: 400; letter-spacing: normal; margin-bottom: 0.5em; m
 argin-left: 0px; margin-right: 0px; margin-top: 0.5em; orphans: 2; text-ali
 gn: left; text-decoration: none; text-indent: 0px; text-transform: none; -w
 ebkit-text-stroke-width: 0px; white-space: normal; word-spacing: 0px;">	Wri
 ght was nominated to serve on the <a href="https://en.wikipedia.org/wiki/Ut
 ah_State_Board_of_Regents" style="background-attachment: scroll; background
 -clip: border-box; background-color: transparent; background-image: none; b
 ackground-origin: padding-box; background-position-x: 0%; background-positi
 on-y: 0%; background-repeat: repeat; background-size: auto; color: rgb(6, 6
 9, 173); text-decoration: none;" title="Utah State Board of Regents">Utah S
 tate Board of Regents</a> by Governor <a href="https://en.wikipedia.org/wik
 i/Gary_Herbert" style="background-attachment: scroll; background-clip: bord
 er-box; background-color: transparent; background-image: none; background-o
 rigin: padding-box; background-position-x: 0%; background-position-y: 0%; b
 ackground-repeat: repeat; background-size: auto; color: rgb(6, 69, 173); te
 xt-decoration: none;" title="Gary Herbert">Gary Herbert</a>.<sup class="ref
 erence" id="cite_ref-4" style="font-size: 80%; font-style: normal; font-wei
 ght: normal; line-height: 1; white-space: nowrap;"><a href="https://en.wiki
 pedia.org/wiki/Thomas_Wright_(Utah_politician)#cite_note-4" style="backgrou
 nd-attachment: scroll; background-clip: border-box; background-color: trans
 parent; background-image: none; background-origin: padding-box; background-
 position-x: 0%; background-position-y: 0%; background-repeat: repeat; backg
 round-size: auto; color: rgb(6, 69, 173); text-decoration: none;">[4]</a></
 sup> He had previously served on the <a href="https://en.wikipedia.org/wiki
 /Dixie_State_University" style="background-attachment: scroll; background-c
 lip: border-box; background-color: transparent; background-image: none; bac
 kground-origin: padding-box; background-position-x: 0%; background-position
 -y: 0%; background-repeat: repeat; background-size: auto; color: rgb(6, 69,
  173); text-decoration: none;" title="Dixie State University">Dixie State U
 niversity</a> Board of Trustees. Wright has served as the co-chairman of th
 e Utah Debate Commission and is a member of the <a href="https://en.wikiped
 ia.org/wiki/Republican_National_Committee" style="background-attachment: sc
 roll; background-clip: border-box; background-color: transparent; backgroun
 d-image: none; background-origin: padding-box; background-position-x: 0%; b
 ackground-position-y: 0%; background-repeat: repeat; background-size: auto;
  color: rgb(6, 69, 173); text-decoration: none;" title="Republican National
  Committee">Republican National Committee</a>.<sup class="reference" id="ci
 te_ref-5" style="font-size: 80%; font-style: normal; font-weight: normal; l
 ine-height: 1; white-space: nowrap;"><a href="https://en.wikipedia.org/wiki
 /Thomas_Wright_(Utah_politician)#cite_note-5" style="background-attachment:
  scroll; background-clip: border-box; background-color: transparent; backgr
 ound-image: none; background-origin: padding-box; background-position-x: 0%
 ; background-position-y: 0%; background-repeat: repeat; background-size: au
 to; color: rgb(6, 69, 173); text-decoration: none;">[5]</a></sup></p><p sty
 le="color: rgb(32, 33, 34); font-family: sans-serif; font-size: 14px; font-
 style: normal; font-variant: normal; font-weight: 400; letter-spacing: norm
 al; margin-bottom: 0.5em; margin-left: 0px; margin-right: 0px; margin-top: 
 0.5em; orphans: 2; text-align: left; text-decoration: none; text-indent: 0p
 x; text-transform: none; -webkit-text-stroke-width: 0px; white-space: norma
 l; word-spacing: 0px;">	In January 2020, Wright announced his candidacy for
  governor in the <a href="https://en.wikipedia.org/wiki/2020_Utah_gubernato
 rial_election" style="background-attachment: scroll; background-clip: borde
 r-box; background-color: transparent; background-image: none; background-or
 igin: padding-box; background-position-x: 0%; background-position-y: 0%; ba
 ckground-repeat: repeat; background-size: auto; color: rgb(6, 69, 173); tex
 t-decoration: underline;" title="">2020 Utah gubernatorial election</a>. Wr
 ight is running against former governor and diplomat <a href="https://en.wi
 kipedia.org/wiki/Jon_Huntsman_Jr." style="background-attachment: scroll; ba
 ckground-clip: border-box; background-color: transparent; background-image:
  none; background-origin: padding-box; background-position-x: 0%; backgroun
 d-position-y: 0%; background-repeat: repeat; background-size: auto; color: 
 rgb(6, 69, 173); text-decoration: none;" title="Jon Huntsman Jr.">Jon Hunts
 man Jr.</a>, <a href="https://en.wikipedia.org/wiki/Lieutenant_Governor_of_
 Utah" style="background-attachment: scroll; background-clip: border-box; ba
 ckground-color: transparent; background-image: none; background-origin: pad
 ding-box; background-position-x: 0%; background-position-y: 0%; background-
 repeat: repeat; background-size: auto; color: rgb(6, 69, 173); text-decorat
 ion: none;" title="Lieutenant Governor of Utah">Lieutenant Governor</a> <a 
 href="https://en.wikipedia.org/wiki/Spencer_Cox_(politician)" style="backgr
 ound-attachment: scroll; background-clip: border-box; background-color: tra
 nsparent; background-image: none; background-origin: padding-box; backgroun
 d-position-x: 0%; background-position-y: 0%; background-repeat: repeat; bac
 kground-size: auto; color: rgb(6, 69, 173); text-decoration: none;" title="
 Spencer Cox (politician)">Spencer Cox</a>, former Speaker of the <a href="h
 ttps://en.wikipedia.org/wiki/Utah_House_of_Representatives" style="backgrou
 nd-attachment: scroll; background-clip: border-box; background-color: trans
 parent; background-image: none; background-origin: padding-box; background-
 position-x: 0%; background-position-y: 0%; background-repeat: repeat; backg
 round-size: auto; color: rgb(6, 69, 173); text-decoration: none;" title="Ut
 ah House of Representatives">Utah House of Representatives</a> <a href="htt
 ps://en.wikipedia.org/wiki/Greg_Hughes" style="background-attachment: scrol
 l; background-clip: border-box; background-color: transparent; background-i
 mage: none; background-origin: padding-box; background-position-x: 0%; back
 ground-position-y: 0%; background-repeat: repeat; background-size: auto; co
 lor: rgb(6, 69, 173); text-decoration: none;" title="Greg Hughes">Greg Hugh
 es</a>, Salt Lake City Councilwoman <a href="https://en.wikipedia.org/wiki/
 Aimee_Winder_Newton" style="background-attachment: scroll; background-clip:
  border-box; background-color: transparent; background-image: none; backgro
 und-origin: padding-box; background-position-x: 0%; background-position-y: 
 0%; background-repeat: repeat; background-size: auto; color: rgb(6, 69, 173
 ); text-decoration: none;" title="Aimee Winder Newton">Aimee Winder Newton<
 /a>, and others.<sup class="reference" id="cite_ref-6" style="font-size: 80
 %; font-style: normal; font-weight: normal; line-height: 1; white-space: no
 wrap;"><a href="https://en.wikipedia.org/wiki/Thomas_Wright_(Utah_politicia
 n)#cite_note-6" style="background-attachment: scroll; background-clip: bord
 er-box; background-color: transparent; background-image: none; background-o
 rigin: padding-box; background-position-x: 0%; background-position-y: 0%; b
 ackground-repeat: repeat; background-size: auto; color: rgb(6, 69, 173); te
 xt-decoration: none;">[6]</a></sup> After announcing his candidacy, Wright 
 named Congressman <a href="https://en.wikipedia.org/wiki/Rob_Bishop" style=
 "background-attachment: scroll; background-clip: border-box; background-col
 or: transparent; background-image: none; background-origin: padding-box; ba
 ckground-position-x: 0%; background-position-y: 0%; background-repeat: repe
 at; background-size: auto; color: rgb(6, 69, 173); text-decoration: none;" 
 title="Rob Bishop">Rob Bishop</a> as his running mate.<sup class="reference
 " id="cite_ref-7" style="font-size: 80%; font-style: normal; font-weight: n
 ormal; line-height: 1; white-space: nowrap;"><a href="https://en.wikipedia.
 org/wiki/Thomas_Wright_(Utah_politician)#cite_note-7" style="background-att
 achment: scroll; background-clip: border-box; background-color: transparent
 ; background-image: none; background-origin: padding-box; background-positi
 on-x: 0%; background-position-y: 0%; background-repeat: repeat; background-
 size: auto; color: rgb(6, 69, 173); text-decoration: none;">[7]</a></sup><s
 up class="reference" id="cite_ref-8" style="font-size: 80%; font-style: nor
 mal; font-weight: normal; line-height: 1; white-space: nowrap;"><a href="ht
 tps://en.wikipedia.org/wiki/Thomas_Wright_(Utah_politician)#cite_note-8" st
 yle="background-attachment: scroll; background-clip: border-box; background
 -color: transparent; background-image: none; background-origin: padding-box
 ; background-position-x: 0%; background-position-y: 0%; background-repeat: 
 repeat; background-size: auto; color: rgb(6, 69, 173); text-decoration: non
 e;">[8]</a></sup></p><p>	&nbsp;</p><p>	&nbsp;</p>
DTSTAMP:20260423T135149
DTSTART;TZID=America/Denver:20200527T070000
DTEND;TZID=America/Denver:20200527T080000
SEQUENCE:0
TRANSP:OPAQUE
END:VEVENT
END:VCALENDAR