BEGIN:VCALENDAR
VERSION:2.0
PRODID:-//jEvents 2.0 for Joomla//EN
CALSCALE:GREGORIAN
METHOD:PUBLISH
BEGIN:VTIMEZONE
TZID:America/Denver
BEGIN:STANDARD
DTSTART:20210105T070000
RDATE:20210314T030000
TZOFFSETFROM:-0600
TZOFFSETTO:-0700
TZNAME:America/Denver MST
END:STANDARD
BEGIN:STANDARD
DTSTART:20211107T010000
RDATE:20220313T030000
TZOFFSETFROM:-0600
TZOFFSETTO:-0700
TZNAME:America/Denver MST
END:STANDARD
BEGIN:STANDARD
DTSTART:20221106T010000
RDATE:20230312T030000
TZOFFSETFROM:-0600
TZOFFSETTO:-0700
TZNAME:America/Denver MST
END:STANDARD
BEGIN:STANDARD
DTSTART:20231105T010000
RDATE:20240310T030000
TZOFFSETFROM:-0600
TZOFFSETTO:-0700
TZNAME:America/Denver MST
END:STANDARD
BEGIN:STANDARD
DTSTART:20241103T010000
RDATE:20250309T030000
TZOFFSETFROM:-0600
TZOFFSETTO:-0700
TZNAME:America/Denver MST
END:STANDARD
BEGIN:STANDARD
DTSTART:20251102T010000
RDATE:20260308T030000
TZOFFSETFROM:-0600
TZOFFSETTO:-0700
TZNAME:America/Denver MST
END:STANDARD
BEGIN:STANDARD
DTSTART:20261101T010000
RDATE:20270314T030000
TZOFFSETFROM:-0600
TZOFFSETTO:-0700
TZNAME:America/Denver MST
END:STANDARD
BEGIN:STANDARD
DTSTART:20271107T010000
RDATE:20280312T030000
TZOFFSETFROM:-0600
TZOFFSETTO:-0700
TZNAME:America/Denver MST
END:STANDARD
BEGIN:STANDARD
DTSTART:20281105T010000
RDATE:20290311T030000
TZOFFSETFROM:-0600
TZOFFSETTO:-0700
TZNAME:America/Denver MST
END:STANDARD
BEGIN:STANDARD
DTSTART:20291104T010000
RDATE:20300310T030000
TZOFFSETFROM:-0600
TZOFFSETTO:-0700
TZNAME:America/Denver MST
END:STANDARD
BEGIN:STANDARD
DTSTART:20301103T010000
RDATE:20310309T030000
TZOFFSETFROM:-0600
TZOFFSETTO:-0700
TZNAME:America/Denver MST
END:STANDARD
BEGIN:STANDARD
DTSTART:20311102T010000
RDATE:20320314T030000
TZOFFSETFROM:-0600
TZOFFSETTO:-0700
TZNAME:America/Denver MST
END:STANDARD
BEGIN:STANDARD
DTSTART:20321107T010000
RDATE:20330313T030000
TZOFFSETFROM:-0600
TZOFFSETTO:-0700
TZNAME:America/Denver MST
END:STANDARD
BEGIN:STANDARD
DTSTART:20331106T010000
RDATE:20340312T030000
TZOFFSETFROM:-0600
TZOFFSETTO:-0700
TZNAME:America/Denver MST
END:STANDARD
BEGIN:STANDARD
DTSTART:20341105T010000
RDATE:20350311T030000
TZOFFSETFROM:-0600
TZOFFSETTO:-0700
TZNAME:America/Denver MST
END:STANDARD
BEGIN:STANDARD
DTSTART:20351104T010000
RDATE:20360309T030000
TZOFFSETFROM:-0600
TZOFFSETTO:-0700
TZNAME:America/Denver MST
END:STANDARD
BEGIN:STANDARD
DTSTART:20361102T010000
RDATE:20370308T030000
TZOFFSETFROM:-0600
TZOFFSETTO:-0700
TZNAME:America/Denver MST
END:STANDARD
BEGIN:STANDARD
DTSTART:20371101T010000
TZOFFSETFROM:-0600
TZOFFSETTO:-0700
TZNAME:America/Denver MST
END:STANDARD
BEGIN:DAYLIGHT
DTSTART:20210314T030000
RDATE:20211107T010000
TZOFFSETFROM:-0700
TZOFFSETTO:-0600
TZNAME:America/Denver MDT
END:DAYLIGHT
BEGIN:DAYLIGHT
DTSTART:20220313T030000
RDATE:20221106T010000
TZOFFSETFROM:-0700
TZOFFSETTO:-0600
TZNAME:America/Denver MDT
END:DAYLIGHT
BEGIN:DAYLIGHT
DTSTART:20230312T030000
RDATE:20231105T010000
TZOFFSETFROM:-0700
TZOFFSETTO:-0600
TZNAME:America/Denver MDT
END:DAYLIGHT
BEGIN:DAYLIGHT
DTSTART:20240310T030000
RDATE:20241103T010000
TZOFFSETFROM:-0700
TZOFFSETTO:-0600
TZNAME:America/Denver MDT
END:DAYLIGHT
BEGIN:DAYLIGHT
DTSTART:20250309T030000
RDATE:20251102T010000
TZOFFSETFROM:-0700
TZOFFSETTO:-0600
TZNAME:America/Denver MDT
END:DAYLIGHT
BEGIN:DAYLIGHT
DTSTART:20260308T030000
RDATE:20261101T010000
TZOFFSETFROM:-0700
TZOFFSETTO:-0600
TZNAME:America/Denver MDT
END:DAYLIGHT
BEGIN:DAYLIGHT
DTSTART:20270314T030000
RDATE:20271107T010000
TZOFFSETFROM:-0700
TZOFFSETTO:-0600
TZNAME:America/Denver MDT
END:DAYLIGHT
BEGIN:DAYLIGHT
DTSTART:20280312T030000
RDATE:20281105T010000
TZOFFSETFROM:-0700
TZOFFSETTO:-0600
TZNAME:America/Denver MDT
END:DAYLIGHT
BEGIN:DAYLIGHT
DTSTART:20290311T030000
RDATE:20291104T010000
TZOFFSETFROM:-0700
TZOFFSETTO:-0600
TZNAME:America/Denver MDT
END:DAYLIGHT
BEGIN:DAYLIGHT
DTSTART:20300310T030000
RDATE:20301103T010000
TZOFFSETFROM:-0700
TZOFFSETTO:-0600
TZNAME:America/Denver MDT
END:DAYLIGHT
BEGIN:DAYLIGHT
DTSTART:20310309T030000
RDATE:20311102T010000
TZOFFSETFROM:-0700
TZOFFSETTO:-0600
TZNAME:America/Denver MDT
END:DAYLIGHT
BEGIN:DAYLIGHT
DTSTART:20320314T030000
RDATE:20321107T010000
TZOFFSETFROM:-0700
TZOFFSETTO:-0600
TZNAME:America/Denver MDT
END:DAYLIGHT
BEGIN:DAYLIGHT
DTSTART:20330313T030000
RDATE:20331106T010000
TZOFFSETFROM:-0700
TZOFFSETTO:-0600
TZNAME:America/Denver MDT
END:DAYLIGHT
BEGIN:DAYLIGHT
DTSTART:20340312T030000
RDATE:20341105T010000
TZOFFSETFROM:-0700
TZOFFSETTO:-0600
TZNAME:America/Denver MDT
END:DAYLIGHT
BEGIN:DAYLIGHT
DTSTART:20350311T030000
RDATE:20351104T010000
TZOFFSETFROM:-0700
TZOFFSETTO:-0600
TZNAME:America/Denver MDT
END:DAYLIGHT
BEGIN:DAYLIGHT
DTSTART:20360309T030000
RDATE:20361102T010000
TZOFFSETFROM:-0700
TZOFFSETTO:-0600
TZNAME:America/Denver MDT
END:DAYLIGHT
BEGIN:DAYLIGHT
DTSTART:20370308T030000
RDATE:20371101T010000
TZOFFSETFROM:-0700
TZOFFSETTO:-0600
TZNAME:America/Denver MDT
END:DAYLIGHT
END:VTIMEZONE
BEGIN:VEVENT
UID:8c2ea6a5a21136955f2a25744131d874
CATEGORIES:LSDM
CREATED:20211219T105246
SUMMARY:Rob Isbetts, Founder Sungarden Investment Management, Patrick Huey, Dynamic Wealth Advisors   The New Year for Investors:  The Same Old Bull or the Terrible 22's.  
DESCRIPTION:	 \n	Articles by Rob Isbitts - TheStreet (https://www.thestreet.com/author/
 rob-isbitts)\n	 			Sungarden Investment Management was founded by Rob Isbit
 ts, a veteran investment strategist, client advisor and investment educator
 . Our mission is to deliver straightforward, proactive, investment thinking
  to a limited number of clients. Rob has been named one of the Top 100 Weal
 th Advisors in the U.S. by Worth Magazine 3 times. He is the author of two 
 books on investing, and has been a former Chief Investment Officer and mutu
 al fund manager. Rob has consulted with many of his industry peers on portf
 olio strategy and investment process development. He is a frequent contribu
 tor to Forbes.com, as well as USNews.com.\n			In 2021, Rob and his team at 
 Sungarden Investment Management will be debuting ETFPortfolios.com, an inve
 stment advisory service for clients, financial advisors and self-directed i
 nvestors, available on a flat-fee or assets-under-management basis.  ETFPor
 tfolios.com opens up Rob's 30+ years of investment strategy experience to c
 lients, advisors and investors, so they can focus on investment process and
  strategy, instead of stock tips and tired asset allocation techniques.  He
  and his team develop innovative investment strategies that fill a signific
 ant gap that exists between what investors truly want, and what Wall Street
  typically provides. \n			Patrick Huey is an investment advisor representat
 ive of Dynamic Wealth Advisors dba Victory Independent Planning, LLC.  All 
 investment advisory services are offered through Dynamic Wealth Advisors. P
 atrick Huey is the author of two books:  "History Lessons for the Modern In
 vestor" and "The Seven Pillars of (Financial) Wisdom"; this is considered a
 n outside business activity for Patrick Huey and is separate and apart from
  his activities as an investment advisor representative with Dynamic Wealth
  Advisors.			 
X-ALT-DESC;FMTTYPE=text/html:<p>	&nbsp;</p><p>	<a href="https://www.thestreet.com/author/rob-isbitts">Ar
 ticles by Rob Isbitts - TheStreet</a></p><div>	&nbsp;</div><div>	<p style="
 box-sizing: border-box; outline: none; margin-bottom: 1rem; color: rgb(33, 
 37, 41); font-family: -apple-system, BlinkMacSystemFont, &quot;Segoe UI&quo
 t;, Roboto, &quot;Helvetica Neue&quot;, Arial, &quot;Noto Sans&quot;, sans-
 serif, &quot;Apple Color Emoji&quot;, &quot;Segoe UI Emoji&quot;, &quot;Seg
 oe UI Symbol&quot;, &quot;Noto Color Emoji&quot;; font-size: 18px;">		Sunga
 rden Investment Management was founded by Rob Isbitts, a veteran investment
  strategist, client advisor and investment educator. Our mission is to deli
 ver straightforward, proactive, investment thinking to a limited number of 
 clients. Rob has been named one of the Top 100 Wealth Advisors in the U.S. 
 by Worth Magazine 3 times. He is the author of two books on investing, and 
 has been a former Chief Investment Officer and mutual fund manager. Rob has
  consulted with many of his industry peers on portfolio strategy and invest
 ment process development. He is a frequent contributor to Forbes.com, as we
 ll as USNews.com.</p>	<p style="box-sizing: border-box; outline: none; marg
 in-bottom: 1rem; color: rgb(33, 37, 41); font-family: -apple-system, BlinkM
 acSystemFont, &quot;Segoe UI&quot;, Roboto, &quot;Helvetica Neue&quot;, Ari
 al, &quot;Noto Sans&quot;, sans-serif, &quot;Apple Color Emoji&quot;, &quot
 ;Segoe UI Emoji&quot;, &quot;Segoe UI Symbol&quot;, &quot;Noto Color Emoji&
 quot;; font-size: 18px;">		In 2021, Rob and his team at Sungarden Investmen
 t Management will be debuting ETFPortfolios.com, an investment advisory ser
 vice for clients, financial advisors and self-directed investors, available
  on a flat-fee or assets-under-management basis.&nbsp; ETFPortfolios.com op
 ens up Rob&#39;s 30+ years of investment strategy experience to clients, ad
 visors and investors, so they can focus on investment process and strategy,
  instead of stock tips and tired asset allocation techniques.&nbsp; He and 
 his team&nbsp;develop innovative investment strategies that fill a signific
 ant gap that exists between what investors truly want, and what Wall Street
  typically provides.&nbsp;</p>	<div style="margin: 0px; padding: 0px; font-
 family: arial, helvetica, clean, sans-serif; font-size: 16px;">		<span styl
 e="font-family: &quot;trebuchet ms&quot;, sans-serif;">Patrick Huey is an i
 nvestment advisor representative of Dynamic Wealth Advisors dba Victory Ind
 ependent Planning, LLC. &nbsp;All investment advisory services are offered 
 through Dynamic Wealth Advisors. Patrick Huey is the author of two books: &
 nbsp;&quot;History Lessons for the Modern Investor&quot; and &quot;The Seve
 n Pillars of (Financial) Wisdom&quot;; this is considered an outside busine
 ss activity for Patrick Huey and is separate and apart from his activities 
 as an investment advisor representative with Dynamic Wealth Advisors.</span
 ></div>	<div>		&nbsp;</div></div>
DTSTAMP:20260422T135447
DTSTART;TZID=America/Denver:20220106T070000
DTEND;TZID=America/Denver:20220106T080000
SEQUENCE:0
TRANSP:OPAQUE
END:VEVENT
END:VCALENDAR