BEGIN:VCALENDAR
VERSION:2.0
PRODID:-//jEvents 2.0 for Joomla//EN
CALSCALE:GREGORIAN
METHOD:PUBLISH
BEGIN:VTIMEZONE
TZID:America/Denver
BEGIN:STANDARD
DTSTART:20211107T010000
RDATE:20220313T030000
TZOFFSETFROM:-0600
TZOFFSETTO:-0700
TZNAME:America/Denver MST
END:STANDARD
BEGIN:STANDARD
DTSTART:20221106T010000
RDATE:20230312T030000
TZOFFSETFROM:-0600
TZOFFSETTO:-0700
TZNAME:America/Denver MST
END:STANDARD
BEGIN:STANDARD
DTSTART:20231105T010000
RDATE:20240310T030000
TZOFFSETFROM:-0600
TZOFFSETTO:-0700
TZNAME:America/Denver MST
END:STANDARD
BEGIN:STANDARD
DTSTART:20241103T010000
RDATE:20250309T030000
TZOFFSETFROM:-0600
TZOFFSETTO:-0700
TZNAME:America/Denver MST
END:STANDARD
BEGIN:STANDARD
DTSTART:20251102T010000
RDATE:20260308T030000
TZOFFSETFROM:-0600
TZOFFSETTO:-0700
TZNAME:America/Denver MST
END:STANDARD
BEGIN:STANDARD
DTSTART:20261101T010000
RDATE:20270314T030000
TZOFFSETFROM:-0600
TZOFFSETTO:-0700
TZNAME:America/Denver MST
END:STANDARD
BEGIN:STANDARD
DTSTART:20271107T010000
RDATE:20280312T030000
TZOFFSETFROM:-0600
TZOFFSETTO:-0700
TZNAME:America/Denver MST
END:STANDARD
BEGIN:STANDARD
DTSTART:20281105T010000
RDATE:20290311T030000
TZOFFSETFROM:-0600
TZOFFSETTO:-0700
TZNAME:America/Denver MST
END:STANDARD
BEGIN:STANDARD
DTSTART:20291104T010000
RDATE:20300310T030000
TZOFFSETFROM:-0600
TZOFFSETTO:-0700
TZNAME:America/Denver MST
END:STANDARD
BEGIN:STANDARD
DTSTART:20301103T010000
RDATE:20310309T030000
TZOFFSETFROM:-0600
TZOFFSETTO:-0700
TZNAME:America/Denver MST
END:STANDARD
BEGIN:STANDARD
DTSTART:20311102T010000
RDATE:20320314T030000
TZOFFSETFROM:-0600
TZOFFSETTO:-0700
TZNAME:America/Denver MST
END:STANDARD
BEGIN:STANDARD
DTSTART:20321107T010000
RDATE:20330313T030000
TZOFFSETFROM:-0600
TZOFFSETTO:-0700
TZNAME:America/Denver MST
END:STANDARD
BEGIN:STANDARD
DTSTART:20331106T010000
RDATE:20340312T030000
TZOFFSETFROM:-0600
TZOFFSETTO:-0700
TZNAME:America/Denver MST
END:STANDARD
BEGIN:STANDARD
DTSTART:20341105T010000
RDATE:20350311T030000
TZOFFSETFROM:-0600
TZOFFSETTO:-0700
TZNAME:America/Denver MST
END:STANDARD
BEGIN:STANDARD
DTSTART:20351104T010000
RDATE:20360309T030000
TZOFFSETFROM:-0600
TZOFFSETTO:-0700
TZNAME:America/Denver MST
END:STANDARD
BEGIN:STANDARD
DTSTART:20361102T010000
RDATE:20370308T030000
TZOFFSETFROM:-0600
TZOFFSETTO:-0700
TZNAME:America/Denver MST
END:STANDARD
BEGIN:STANDARD
DTSTART:20371101T010000
TZOFFSETFROM:-0600
TZOFFSETTO:-0700
TZNAME:America/Denver MST
END:STANDARD
BEGIN:DAYLIGHT
DTSTART:20210324T070000
RDATE:20211107T010000
TZOFFSETFROM:-0700
TZOFFSETTO:-0600
TZNAME:America/Denver MDT
END:DAYLIGHT
BEGIN:DAYLIGHT
DTSTART:20220313T030000
RDATE:20221106T010000
TZOFFSETFROM:-0700
TZOFFSETTO:-0600
TZNAME:America/Denver MDT
END:DAYLIGHT
BEGIN:DAYLIGHT
DTSTART:20230312T030000
RDATE:20231105T010000
TZOFFSETFROM:-0700
TZOFFSETTO:-0600
TZNAME:America/Denver MDT
END:DAYLIGHT
BEGIN:DAYLIGHT
DTSTART:20240310T030000
RDATE:20241103T010000
TZOFFSETFROM:-0700
TZOFFSETTO:-0600
TZNAME:America/Denver MDT
END:DAYLIGHT
BEGIN:DAYLIGHT
DTSTART:20250309T030000
RDATE:20251102T010000
TZOFFSETFROM:-0700
TZOFFSETTO:-0600
TZNAME:America/Denver MDT
END:DAYLIGHT
BEGIN:DAYLIGHT
DTSTART:20260308T030000
RDATE:20261101T010000
TZOFFSETFROM:-0700
TZOFFSETTO:-0600
TZNAME:America/Denver MDT
END:DAYLIGHT
BEGIN:DAYLIGHT
DTSTART:20270314T030000
RDATE:20271107T010000
TZOFFSETFROM:-0700
TZOFFSETTO:-0600
TZNAME:America/Denver MDT
END:DAYLIGHT
BEGIN:DAYLIGHT
DTSTART:20280312T030000
RDATE:20281105T010000
TZOFFSETFROM:-0700
TZOFFSETTO:-0600
TZNAME:America/Denver MDT
END:DAYLIGHT
BEGIN:DAYLIGHT
DTSTART:20290311T030000
RDATE:20291104T010000
TZOFFSETFROM:-0700
TZOFFSETTO:-0600
TZNAME:America/Denver MDT
END:DAYLIGHT
BEGIN:DAYLIGHT
DTSTART:20300310T030000
RDATE:20301103T010000
TZOFFSETFROM:-0700
TZOFFSETTO:-0600
TZNAME:America/Denver MDT
END:DAYLIGHT
BEGIN:DAYLIGHT
DTSTART:20310309T030000
RDATE:20311102T010000
TZOFFSETFROM:-0700
TZOFFSETTO:-0600
TZNAME:America/Denver MDT
END:DAYLIGHT
BEGIN:DAYLIGHT
DTSTART:20320314T030000
RDATE:20321107T010000
TZOFFSETFROM:-0700
TZOFFSETTO:-0600
TZNAME:America/Denver MDT
END:DAYLIGHT
BEGIN:DAYLIGHT
DTSTART:20330313T030000
RDATE:20331106T010000
TZOFFSETFROM:-0700
TZOFFSETTO:-0600
TZNAME:America/Denver MDT
END:DAYLIGHT
BEGIN:DAYLIGHT
DTSTART:20340312T030000
RDATE:20341105T010000
TZOFFSETFROM:-0700
TZOFFSETTO:-0600
TZNAME:America/Denver MDT
END:DAYLIGHT
BEGIN:DAYLIGHT
DTSTART:20350311T030000
RDATE:20351104T010000
TZOFFSETFROM:-0700
TZOFFSETTO:-0600
TZNAME:America/Denver MDT
END:DAYLIGHT
BEGIN:DAYLIGHT
DTSTART:20360309T030000
RDATE:20361102T010000
TZOFFSETFROM:-0700
TZOFFSETTO:-0600
TZNAME:America/Denver MDT
END:DAYLIGHT
BEGIN:DAYLIGHT
DTSTART:20370308T030000
RDATE:20371101T010000
TZOFFSETFROM:-0700
TZOFFSETTO:-0600
TZNAME:America/Denver MDT
END:DAYLIGHT
END:VTIMEZONE
BEGIN:VEVENT
UID:6d23bf1119b534becc497efb04e9e76a
CATEGORIES:LSDM
CREATED:20220313T145250
SUMMARY:Meeche White, Co-Founder National Ability Center, (NAC)
DESCRIPTION:	Hat tip:  'Cake.\n			 \n																																																		
 																PO Box 728\n																					Park City, UT 84060\n					
 																435.200.4115\n																					meeche.white@gmail.com\n
 																					 \n																																														RESUM
 E OF QUALIFICATIONS			 \n			                                               
       MEECHE WHITE\n			 \n			Work Experience\n			 \n			NON-PROFIT CONSULTAN
 T, 2001-present. Provide non-profit consulting services from overall organi
 zational audits to assistance with fundraising, board retreats, strategic p
 lanning, financial management and board development for arts, human service
 , adapted sports, and medical non-profits.\n			 \n			INTERNATIONAL CONSULTA
 NT, 10/2008-2020.  Served as Project Direct with the National Ability Cente
 r for Department of State grants in Thailand, Indonesia, Mexico, Vietnam, S
 outh Korea, Laos, Cambodia, Myanmar and El Salvador 2015. Oversee all proje
 ct aspects: grant writing, program implementation, budget management, compl
 iance and reporting.\n			 \n			FUNDRAISING CONSULTANT &amp; INTERIM EXCEUTI
 VE DIRECTOR, 2/2010-11/2010. Served as a fundraising and organizational man
 agement consultant after which in May 2010, began serving as the Interim Ex
 ecutive Director. After making numerous organizational changes which includ
 ed a new planning strategy and staff changes, assisted in finding and hirin
 g a new executive director, who is currently in the position.\n			 \n			CHI
 EF EXECUTIVE OFFICER/FOUNDER, 10/85-9/2008, National Ability Center, Park C
 ity, Utah. Coordinate all aspects of year-round sports program for people w
 ith disabilities including staff management, fund-raising, marketing, activ
 ity programming and special events. Developed and built $8 million facility
  and outdoor exploration center.\n			 \n			OLYMPIC AND PARALYMPIC ADA MANAG
 ER, 9/01-4/02, Salt Lake Organizing Committee, Salt Lake City, Utah. Coordi
 nated and managed all aspects of ADA accessibility and compliance issues fo
 r the 2002 Olympic Winter and Paralympic Games. Assisted with the design of
  venues for ADA compliance.\n			 \n			LECTURE CONSULTANT &amp; INSTRUCTOR, 
 12/89-2008, University of Utah, Salt Lake City, Utah. Present guest lecture
 s on aspects of community based therapeutic recreation programs. Instructor
  for Leisure Behavior &amp; Human Diversity course fall term 9/95-12/99.\n	
 		 \n			REGIONAL ALPINE DIRECTOR, 11/90- 4/94, Special Olympics Internation
 al, Washington, D.C. Supervise alpine skiing programs in six states includi
 ng coaches training, alpine event design and implementation. \n			 \n			RAC
 E COORDINATOR, 9/88-4/89, International Special Olympics Alpine Event, Squa
 w Valley, California.  Planned and coordinated administrative and logistica
 l aspects of the five day event.  \n			 \n			CAMP DIRECTOR, Park City Day C
 amp, 5/85-9/87 (summer seasons), Park City Recreation Department, Park City
 , Utah. Supervised staff, directed, planned and implemented the recreation 
 program.\n			 \n			DIRECTOR OF ALPINE EVENTS, 10/84-3/85, Park City Ski Are
 a, Park City, Utah. Coordinated Alpine Event of the International Winter Sp
 ecial Olympics: Devised and managed this four day event of 800 people.\n			
   \n	 \n	Educational Experience\n	B.S., Therapeutic Recreation, Florida Sta
 te University, Tallahassee, Florida, 1982.\n	A.A., Child Development, Santa
  Fe Community College, Gainesville, Florida, 1976.\n	 \n	Professional Quali
 fications\n	 \n	PSIA Level 2 Alpine Certification, Level 3 Adaptive, 1986-2
 003.\n	 \n	Therapeutic Recreation Specialist Certification, National Counci
 l for Therapeutic Recreation\n	   Certification, 1984-2007.\n	Utah Dispute 
 Resolution, Certificate of Training Basic (9/2001) &amp; Domestic Mediation
  (11/2003).\n	 \n	Professional Volunteer Experience\n	 \n	ADA CONSULTANT, P
 ark City School District, 5/2006, High School design planning for ADA compl
 iance.\n	 \n	GOVERNOR’S COUNCIL FOR PEOPLE WITH DISABILITIES,Board of Direc
 tors Liaison, 6/05-6/07.  Advise with regards to policy-making and serve on
  Public Relations Committee.\n	 \n	DISABLED SPORTS USA, Board of Directors,
  4/03-4/06 &amp; 9/91-12/92. Policy making, fundraising and organizational 
 planning.\n	 \n	UNITED STATES BOBSLED &amp; SKELETON FEDERATION,9/02 – 9/04
 , Board of Directors. Secretary, (8/2005-2006).\n	 \n	SALT LAKE ORGANIZING 
 COMMITTEE,5/00 – 9/01, Access Committee. Addressed accessibility needs for 
 persons with disabilities seeking to attend, volunteer or work at the 2002 
 Olympic/Paralympic Winter Games.\n	 \n	PARK CITY CHAMBER BUREAU, 8/95-7/200
 2. Board of Directors (8/95-9/98) Guest Services Committee, Chair (8/98-8/2
 000), Special Events Committee (9/90-9/93), Chair in 1992.\n	    \n	PARK CI
 TY ROTARY CLUB, Current member,Board of Directors,9/94-9/99, Park City Rota
 ry Club.\n	Participate in civic and community projects. Community Service C
 hair, 1996/97, President, 1997/98.\n	 \n	RECYCLE UTAH, Board of Directors, 
 11/93-10/97. Policy making, fund-raising and organizational planning.\n	Vic
 e-President 1994-96, President 1996-97.\n	 \n	INTERNATIONAL WINTER SPECIAL 
 OLYMPICS, DIRECTOR OF ALPINE EVENTS, 10/84-3/85, Park City Ski Area, Park C
 ity, Utah. Managed this four day ski racing event of 800 people including a
 thletes, volunteers and families.\n	 \n	Special Achievements\n	 \n	INTERMOU
 NTAIN SKI HALL OF FAME 2015, SKI PIONEER. In recognition of exemplary achie
 vements in adaptive skiing/snowboarding competition; innovation and develop
 ment; and significant contributions to the overall promotion of skiing/snow
 boarding in the Intermountain Region.\n	 \n	NATIONAL DISABLED SKI HALL OF F
 AME 2010,RECREATIONAL DEVELOPMENT. In recognition of contributions to the p
 rofession of adapted skiing.\n	 \n	UNSUNG HEROES OF COMPASSION AWARD, 2009,
  presented by his Holiness the Dalai Lama.\n	 \n	SKI ARCHIVES HISTORICAL AC
 HIEVEMENT AWARD, 2009, for contributions to the evolution of adapted skiing
  in Utah.\n	 \n	GOVERNORS UTAH WOMAN OF ACHIEVEMENT AWARD, March, 1997. In 
 recognition of a lifetime of contribution and service.\n	 \n	ALPINE HEAD CO
 ACH, 1992/93, U.S. Special Olympics Alpine Team, Schladming, Austria. \n	 \
 n	PARK CITY CITIZEN OF THE YEAR, 1988, Park City Rotary Club, in recognitio
 n of "Service Above Self".\n	 \n	 \n	 \n
X-ALT-DESC;FMTTYPE=text/html:<p>	Hat tip:&nbsp; &#39;Cake.</p><div>	<p align="center">		&nbsp;</p>	<tabl
 e cellpadding="0" cellspacing="0">		<tbody>			<tr>				<td height="124">				
 	<table cellpadding="0" cellspacing="0" width="100%">						<tbody>							<t
 r>								<td>									<div>										<p>											PO Box 728</p>									
 	<p>											Park City, UT 84060</p>										<p>											435.200.4115<
 /p>										<p>											meeche.white@gmail.com</p>										<p>									
 		&nbsp;</p>									</div>								</td>							</tr>						</tbody>					</ta
 ble>				</td>			</tr>		</tbody>	</table>	<strong>RESUME OF QUALIFICATIONS</
 strong>	<p>		&nbsp;</p>	<p>		&nbsp;&nbsp;&nbsp;&nbsp;&nbsp;&nbsp;&nbsp;&nbs
 p;&nbsp;&nbsp;&nbsp;&nbsp;&nbsp;&nbsp;&nbsp;&nbsp;&nbsp;&nbsp;&nbsp;&nbsp;&
 nbsp;&nbsp;&nbsp;&nbsp;&nbsp;&nbsp;&nbsp;&nbsp;&nbsp;&nbsp;&nbsp;&nbsp;&nbs
 p;&nbsp;&nbsp;&nbsp;&nbsp;&nbsp;&nbsp;&nbsp;&nbsp;&nbsp;&nbsp;&nbsp;&nbsp;&
 nbsp;&nbsp;&nbsp;&nbsp;&nbsp;&nbsp;&nbsp; <strong>MEECHE WHITE</strong></p>
 	<p>		&nbsp;</p>	<p>		<strong><u>Work Experience</u></strong></p>	<p>		&nbs
 p;</p>	<p>		<strong>NON-PROFIT CONSULTANT,</strong> 2001-present. Provide n
 on-profit consulting services from overall organizational audits to assista
 nce with fundraising, board retreats, strategic planning, financial managem
 ent and board development for arts, human service, adapted sports, and medi
 cal non-profits.</p>	<p>		&nbsp;</p>	<p>		<strong>INTERNATIONAL CONSULTANT,
 </strong> 10/2008-2020. &nbsp;Served as Project Direct with the National Ab
 ility Center for Department of State grants in Thailand, Indonesia, Mexico,
  Vietnam, South Korea, Laos, Cambodia, Myanmar and El Salvador 2015. Overse
 e all project aspects: grant writing, program implementation, budget manage
 ment, compliance and reporting.</p>	<p>		&nbsp;</p>	<p>		<strong>FUNDRAISIN
 G CONSULTANT &amp; INTERIM EXCEUTIVE DIRECTOR, </strong>2/2010-11/2010. Ser
 ved as a fundraising and organizational management consultant after which i
 n May 2010, began serving as the Interim Executive Director. After making n
 umerous organizational changes which included a new planning strategy and s
 taff changes, assisted in finding and hiring a new executive director, who 
 is currently in the position.</p>	<p>		&nbsp;</p>	<p>		<strong>CHIEF EXECUT
 IVE OFFICER/FOUNDER</strong>, 10/85-9/2008, National Ability Center, Park C
 ity, Utah. Coordinate all aspects of year-round sports program for people w
 ith disabilities including staff management, fund-raising, marketing, activ
 ity programming and special events. Developed and built $8 million facility
  and outdoor exploration center.</p>	<p>		&nbsp;</p>	<p>		<strong>OLYMPIC A
 ND PARALYMPIC ADA MANAGER</strong>, 9/01-4/02, Salt Lake Organizing Committ
 ee, Salt Lake City, Utah. Coordinated and managed all aspects of ADA access
 ibility and compliance issues for the 2002 Olympic Winter and Paralympic Ga
 mes. Assisted with the design of venues for ADA compliance.</p>	<p>		&nbsp;
 </p>	<p>		<strong>LECTURE CONSULTANT &amp; INSTRUCTOR</strong>, 12/89-2008,
  University of Utah, Salt Lake City, Utah. Present guest lectures on aspect
 s of community based therapeutic recreation programs. Instructor for Leisur
 e Behavior &amp; Human Diversity course fall term 9/95-12/99.</p>	<p>		&nbs
 p;</p>	<p>		<strong>REGIONAL ALPINE DIRECTOR,</strong> 11/90- 4/94, Special
  Olympics International, Washington, D.C. Supervise alpine skiing programs 
 in six states including coaches training, alpine event design and implement
 ation.&nbsp;</p>	<p>		&nbsp;</p>	<p>		<strong>RACE COORDINATOR</strong>, 9/
 88-4/89, International Special Olympics Alpine Event, Squaw Valley, Califor
 nia.&nbsp; Planned and coordinated administrative and logistical aspects of
  the five day event.&nbsp;&nbsp;</p>	<p>		&nbsp;</p>	<p>		<strong>CAMP DIRE
 CTOR</strong>, Park City Day Camp, 5/85-9/87 (summer seasons), Park City Re
 creation Department, Park City, Utah. Supervised staff, directed, planned a
 nd implemented the recreation program.</p>	<p>		&nbsp;</p>	<p>		<strong>DIR
 ECTOR OF ALPINE EVENTS</strong>, 10/84-3/85, Park City Ski Area, Park City,
  Utah. Coordinated Alpine Event of the International Winter Special Olympic
 s: Devised and managed this four day event of 800 people.</p>	<p>		&nbsp;&n
 bsp;</p></div><p>	&nbsp;</p><p>	<strong><u>Educational Experience</u></stro
 ng></p><p>	B.S., Therapeutic Recreation, Florida State University, Tallahas
 see, Florida, 1982.</p><p>	A.A., Child Development, Santa Fe Community Coll
 ege, Gainesville, Florida, 1976.</p><p>	&nbsp;</p><p>	<strong><u>Profession
 al Qualifications</u></strong></p><p>	&nbsp;</p><p>	PSIA Level 2 Alpine Cer
 tification, Level 3 Adaptive, 1986-2003.</p><p>	&nbsp;</p><p>	Therapeutic R
 ecreation Specialist Certification, National Council for Therapeutic Recrea
 tion</p><p>	&nbsp;&nbsp; Certification, 1984-2007.</p><p>	Utah Dispute Reso
 lution, Certificate of Training Basic (9/2001) &amp; Domestic Mediation (11
 /2003).</p><p>	&nbsp;</p><p>	<strong><u>Professional Volunteer Experience</
 u></strong></p><p>	&nbsp;</p><p>	<strong>ADA CONSULTANT, </strong>Park City
  School District, 5/2006, High School design planning for ADA compliance.</
 p><p>	&nbsp;</p><p>	<strong>GOVERNOR&rsquo;S COUNCIL FOR PEOPLE WITH DISABI
 LITIES,</strong>Board of Directors Liaison, 6/05-6/07. &nbsp;Advise with re
 gards to policy-making and serve on Public Relations Committee.</p><p>	&nbs
 p;</p><p>	<strong>DISABLED SPORTS USA,</strong> Board of Directors, 4/03-4/
 06 &amp; 9/91-12/92. Policy making, fundraising and organizational planning
 .</p><p>	&nbsp;</p><p>	<strong>UNITED STATES BOBSLED &amp; SKELETON FEDERAT
 ION,</strong>9/02 &ndash; 9/04, Board of Directors. Secretary, (8/2005-2006
 ).</p><p>	&nbsp;</p><p>	<strong>SALT LAKE ORGANIZING COMMITTEE,</strong>5/0
 0 &ndash; 9/01, Access Committee. Addressed accessibility needs for persons
  with disabilities seeking to attend, volunteer or work at the 2002 Olympic
 /Paralympic Winter Games.</p><p>	&nbsp;</p><p>	<strong>PARK CITY CHAMBER BU
 REAU,</strong> 8/95-7/2002. Board of Directors (8/95-9/98) Guest Services C
 ommittee, Chair (8/98-8/2000), Special Events Committee (9/90-9/93), Chair 
 in 1992.</p><p>	&nbsp;&nbsp;&nbsp;&nbsp;</p><p>	<strong>PARK CITY ROTARY CL
 UB, </strong>Current member,Board of Directors,9/94-9/99, Park City Rotary 
 Club.</p><p>	Participate in civic and community projects. Community Service
  Chair, 1996/97, President, 1997/98.</p><p>	&nbsp;</p><p>	<strong>RECYCLE U
 TAH,</strong> Board of Directors, 11/93-10/97. Policy making, fund-raising 
 and organizational planning.</p><p>	Vice-President 1994-96, President 1996-
 97.</p><p>	&nbsp;</p><p>	<strong>INTERNATIONAL WINTER SPECIAL OLYMPICS, DIR
 ECTOR OF ALPINE EVENTS</strong>, 10/84-3/85, Park City Ski Area, Park City,
  Utah. Managed this four day ski racing event of 800 people including athle
 tes, volunteers and families.</p><p>	&nbsp;</p><p>	<strong><u>Special Achie
 vements</u></strong></p><p>	&nbsp;</p><p>	<strong>INTERMOUNTAIN SKI HALL OF
  FAME 2015, SKI PIONEER. </strong>In recognition of exemplary achievements 
 in adaptive skiing/snowboarding competition; innovation and development; an
 d significant contributions to the overall promotion of skiing/snowboarding
  in the Intermountain Region.</p><p>	&nbsp;</p><p>	<strong>NATIONAL DISABLE
 D SKI HALL OF FAME 2010,</strong><strong>RECREATIONAL DEVELOPMENT. </strong
 >In recognition of contributions to the profession of adapted skiing.</p><p
 >	&nbsp;</p><p>	<strong>UNSUNG HEROES OF COMPASSION AWARD, </strong>2009, p
 resented by his Holiness the Dalai Lama.</p><p>	&nbsp;</p><p>	<strong>SKI A
 RCHIVES HISTORICAL ACHIEVEMENT AWARD, </strong>2009, for contributions to t
 he evolution of adapted skiing in Utah.</p><p>	&nbsp;</p><p>	<strong>GOVERN
 ORS UTAH WOMAN OF ACHIEVEMENT AWARD, </strong>March, 1997. In recognition o
 f a lifetime of contribution and service.</p><p>	&nbsp;</p><p>	<strong>ALPI
 NE HEAD COACH,</strong> 1992/93, U.S. Special Olympics Alpine Team, Schladm
 ing, Austria<strong>. </strong></p><p>	&nbsp;</p><p>	<strong>PARK CITY CITI
 ZEN OF THE YEAR, 1988</strong>, Park City Rotary Club, in recognition of &q
 uot;Service Above Self&quot;.</p><p>	&nbsp;</p><p>	&nbsp;</p><p>	&nbsp;</p>
DTSTAMP:20260423T172854
DTSTART;TZID=America/Denver:20220325T070000
DTEND;TZID=America/Denver:20220325T080000
SEQUENCE:0
TRANSP:OPAQUE
END:VEVENT
END:VCALENDAR